BEGIN:VCALENDAR
VERSION:2.0
PRODID:-//Septem - ECPv6.0.13.1//NONSGML v1.0//EN
CALSCALE:GREGORIAN
METHOD:PUBLISH
X-WR-CALNAME:Septem
X-ORIGINAL-URL:https://septem.stghislain.be
X-WR-CALDESC:évènements pour Septem
REFRESH-INTERVAL;VALUE=DURATION:PT1H
X-Robots-Tag:noindex
X-PUBLISHED-TTL:PT1H
BEGIN:VTIMEZONE
TZID:Europe/Brussels
BEGIN:DAYLIGHT
TZOFFSETFROM:+0100
TZOFFSETTO:+0200
TZNAME:CEST
DTSTART:20250330T010000
END:DAYLIGHT
BEGIN:STANDARD
TZOFFSETFROM:+0200
TZOFFSETTO:+0100
TZNAME:CET
DTSTART:20251026T010000
END:STANDARD
END:VTIMEZONE
BEGIN:VEVENT
DTSTART;TZID=Europe/Brussels:20250505T090000
DTEND;TZID=Europe/Brussels:20250508T163000
DTSTAMP:20260423T062809
CREATED:20250120T112240Z
LAST-MODIFIED:20250304T080818Z
UID:10000901-1746435600-1746721800@septem.stghislain.be
SUMMARY:Atelier de Musiques de film | Création sonore et musicale sur grand écran
DESCRIPTION:Atelier de Musiques de films réservé aux élèves des academies  \nCréation sonore et musicale collective sur grand écran . \nCette formation musique à l’image apporte les fondements de la recherche musicale adaptée à l’image \, elle sensibilise à la fonction du son et de la musique au cinéma et comment produire une musique de film. \nA l’issue du stage les jeunes présenteront le 9 mai aux jardins du cloître un ciné-concert en première partie de l’ensemble Metarythmes qui jouera la musique du film « Tabu » de Murnau et Flaherty . \nProduction M.A.I.R.M \nDirection : Christian Leroy compositeur/ciné-concertiste. \nObjectif : Guider les jeunes dans les différentes étapes de la création de la musique à l’image\, par la réalisation de maquettes à l’aide de programmes de musiques assistées par ordinateur ( MAO). \nPublic concerné : aux musiciens de tous instruments et de tous niveaux . Le nombre de place est limité à 10 stagiaires . \nDates et horaires:  Du lundi 5 mai au 8 mai de 9H à 16H30 
URL:https://septem.stghislain.be/agenda/atelier-musique-de-film/
LOCATION:Couvent d’Hautrage\, Grand'Place\, Hautrage\, 7334
CATEGORIES:Ateliers,Concerts,Saint-Ghislain
ATTACH;FMTTYPE=image/jpeg:https://septem.stghislain.be/wp-content/uploads/2024/10/atelier-musique-de-film-Septem-Culture_Saint_Ghislain-2025.jpg
ORGANIZER;CN="Septem":MAILTO:info@septem.stghislain.be
END:VEVENT
END:VCALENDAR