BEGIN:VCALENDAR
VERSION:2.0
PRODID:-//Septem - ECPv6.0.13.1//NONSGML v1.0//EN
CALSCALE:GREGORIAN
METHOD:PUBLISH
X-ORIGINAL-URL:https://septem.stghislain.be
X-WR-CALDESC:évènements pour Septem
REFRESH-INTERVAL;VALUE=DURATION:PT1H
X-Robots-Tag:noindex
X-PUBLISHED-TTL:PT1H
BEGIN:VTIMEZONE
TZID:Europe/Brussels
BEGIN:DAYLIGHT
TZOFFSETFROM:+0100
TZOFFSETTO:+0200
TZNAME:CEST
DTSTART:20250330T010000
END:DAYLIGHT
BEGIN:STANDARD
TZOFFSETFROM:+0200
TZOFFSETTO:+0100
TZNAME:CET
DTSTART:20251026T010000
END:STANDARD
END:VTIMEZONE
BEGIN:VEVENT
DTSTART;TZID=Europe/Brussels:20250417T173000
DTEND;TZID=Europe/Brussels:20250417T193000
DTSTAMP:20260423T075905
CREATED:20250220T145732Z
LAST-MODIFIED:20250220T145737Z
UID:10001140-1744911000-1744918200@septem.stghislain.be
SUMMARY:Présentation de notre programmation scolaire 2025-2026
DESCRIPTION:Chers partenaires\, chers professeurs\, \nJamila et Audrey ont le plaisir de vous convier à leur présentation de saison 2025-2026. \nMerci de confirmer votre présence à l’adresse scolaires@septem.stghislain.be
URL:https://septem.stghislain.be/agenda/scolaire/
LOCATION:Les Jardins du Cloître\, 37 Grand Place\, Saint-Ghislain\, 7330\, Belgique
CATEGORIES:Saint-Ghislain,Scolaires
ATTACH;FMTTYPE=image/jpeg:https://septem.stghislain.be/wp-content/uploads/2025/02/presentation-scolaire-2025-2026-Septem-Culture_Saint_Ghislain-2025.jpg
ORGANIZER;CN="Septem":MAILTO:info@septem.stghislain.be
END:VEVENT
END:VCALENDAR