BEGIN:VCALENDAR
VERSION:2.0
PRODID:-//Septem - ECPv6.0.13.1//NONSGML v1.0//EN
CALSCALE:GREGORIAN
METHOD:PUBLISH
X-WR-CALNAME:Septem
X-ORIGINAL-URL:https://septem.stghislain.be
X-WR-CALDESC:évènements pour Septem
REFRESH-INTERVAL;VALUE=DURATION:PT1H
X-Robots-Tag:noindex
X-PUBLISHED-TTL:PT1H
BEGIN:VTIMEZONE
TZID:Europe/Brussels
BEGIN:DAYLIGHT
TZOFFSETFROM:+0100
TZOFFSETTO:+0200
TZNAME:CEST
DTSTART:20250330T010000
END:DAYLIGHT
BEGIN:STANDARD
TZOFFSETFROM:+0200
TZOFFSETTO:+0100
TZNAME:CET
DTSTART:20251026T010000
END:STANDARD
END:VTIMEZONE
BEGIN:VEVENT
DTSTART;TZID=Europe/Brussels:20250410T100000
DTEND;TZID=Europe/Brussels:20250410T120000
DTSTAMP:20260423T075629
CREATED:20250328T065217Z
LAST-MODIFIED:20250328T065452Z
UID:10001144-1744279200-1744286400@septem.stghislain.be
SUMMARY:Théâtre | Troublées
DESCRIPTION:Genre : Théâtre-action \nThématique du spectacle : Acceptation de soi\, lesbophobie\, tolérance \nD’abord\, il y a la majorité. Mia ne veut pas s’en écarter. Elle est son repère.Dans la tête de Clem\, la meilleure amie de Mia\, les questions tournent – il faut dire qu’Elie lui plaît beaucoup.Elie vient d’arriver dans l’école. Ses parents viennent d’apprendre qu’elle est lesbienne et maintenant…Amitiés\, amours\, déchirures\, peurs\, incompréhensions se bousculent. Comment dépasser le rejet ? Comment gérer les questions qui tournent ? A la fin du spectacle\, le public est invité à échanger avec Mia\, Clem et Elie (agora).S4 à S6 \nMédiation: \n50 min bord de scène discussion avec toute l’équipePrésence du partenaire : La Maison Arc-En-Ciel de Mons
URL:https://septem.stghislain.be/agenda/troublees-2/2025-04-10/1/
LOCATION:Les Jardins du Cloître\, 37 Grand Place\, Saint-Ghislain\, 7330\, Belgique
CATEGORIES:Jeune public,Médiation,Saint-Ghislain,Scolaires,Spectacle,Théâtre
ATTACH;FMTTYPE=image/jpeg:https://septem.stghislain.be/wp-content/uploads/2025/03/theatre-troublees-Septem-Culture_Saint_Ghislain-2025.jpg
ORGANIZER;CN="Septem":MAILTO:info@septem.stghislain.be
END:VEVENT
BEGIN:VEVENT
DTSTART;TZID=Europe/Brussels:20250410T133000
DTEND;TZID=Europe/Brussels:20250410T153000
DTSTAMP:20260423T075629
CREATED:20250328T065217Z
LAST-MODIFIED:20250328T065452Z
UID:10001145-1744291800-1744299000@septem.stghislain.be
SUMMARY:Théâtre | Troublées
DESCRIPTION:Genre : Théâtre-action \nThématique du spectacle : Acceptation de soi\, lesbophobie\, tolérance \nD’abord\, il y a la majorité. Mia ne veut pas s’en écarter. Elle est son repère.Dans la tête de Clem\, la meilleure amie de Mia\, les questions tournent – il faut dire qu’Elie lui plaît beaucoup.Elie vient d’arriver dans l’école. Ses parents viennent d’apprendre qu’elle est lesbienne et maintenant…Amitiés\, amours\, déchirures\, peurs\, incompréhensions se bousculent. Comment dépasser le rejet ? Comment gérer les questions qui tournent ? A la fin du spectacle\, le public est invité à échanger avec Mia\, Clem et Elie (agora).S4 à S6 \nMédiation: \n50 min bord de scène discussion avec toute l’équipePrésence du partenaire : La Maison Arc-En-Ciel de Mons
URL:https://septem.stghislain.be/agenda/troublees-2/2025-04-10/2/
LOCATION:Les Jardins du Cloître\, 37 Grand Place\, Saint-Ghislain\, 7330\, Belgique
CATEGORIES:Jeune public,Médiation,Saint-Ghislain,Scolaires,Spectacle,Théâtre
ATTACH;FMTTYPE=image/jpeg:https://septem.stghislain.be/wp-content/uploads/2025/03/theatre-troublees-Septem-Culture_Saint_Ghislain-2025.jpg
ORGANIZER;CN="Septem":MAILTO:info@septem.stghislain.be
END:VEVENT
BEGIN:VEVENT
DTSTART;TZID=Europe/Brussels:20250410T180000
DTEND;TZID=Europe/Brussels:20250410T203000
DTSTAMP:20260423T075629
CREATED:20241129T085611Z
LAST-MODIFIED:20250317T093006Z
UID:10001119-1744308000-1744317000@septem.stghislain.be
SUMMARY:Atelier céramique | Modelage et peinture avec Anne
DESCRIPTION:Rejoignez-nous pour des ateliers passionnants où vous aurez l’opportunité de donner vie à des objets décoratifs uniques en argile avec Madame Van Der Borght. \n  \n\nle jeudi 16 janvier (18H à 20H30): Atelier peinture sur céramique\nle jeudi 6 février (14H30 à 17H): Atelier pâte autodurcissante\nle jeudi 13 mars (18H à 20H30): Atelier peinture sur céramique\nle jeudi10 avril (18H à 20H30): Atelier peinture sur céramique
URL:https://septem.stghislain.be/agenda/ceramique-anne/2025-04-10/
LOCATION:Les Jardins du Cloître\, 37 Grand Place\, Saint-Ghislain\, 7330\, Belgique
CATEGORIES:Ateliers,Hautrage,Saint-Ghislain
ATTACH;FMTTYPE=image/jpeg:https://septem.stghislain.be/wp-content/uploads/2024/05/ateliers-ceramiques-Septem-Culture_Saint_Ghislain-2024.jpg
ORGANIZER;CN="Septem":MAILTO:info@septem.stghislain.be
END:VEVENT
END:VCALENDAR