BEGIN:VCALENDAR
VERSION:2.0
PRODID:-//Septem - ECPv6.0.13.1//NONSGML v1.0//EN
CALSCALE:GREGORIAN
METHOD:PUBLISH
X-WR-CALNAME:Septem
X-ORIGINAL-URL:https://septem.stghislain.be
X-WR-CALDESC:évènements pour Septem
REFRESH-INTERVAL;VALUE=DURATION:PT1H
X-Robots-Tag:noindex
X-PUBLISHED-TTL:PT1H
BEGIN:VTIMEZONE
TZID:Europe/Brussels
BEGIN:DAYLIGHT
TZOFFSETFROM:+0100
TZOFFSETTO:+0200
TZNAME:CEST
DTSTART:20250330T010000
END:DAYLIGHT
BEGIN:STANDARD
TZOFFSETFROM:+0200
TZOFFSETTO:+0100
TZNAME:CET
DTSTART:20251026T010000
END:STANDARD
END:VTIMEZONE
BEGIN:VEVENT
DTSTART;TZID=Europe/Brussels:20250408T133000
DTEND;TZID=Europe/Brussels:20250408T160000
DTSTAMP:20260423T075629
CREATED:20241203T111249Z
LAST-MODIFIED:20241203T111520Z
UID:10001091-1744119000-1744128000@septem.stghislain.be
SUMMARY:Joker : Folie à deux | de Todd Phillips
DESCRIPTION:2024 ‧ Musical/Thriller ‧ 2h 18m \nInterdit – 12 ans\nA quelques jours de son procès pour les crimes commis sous les traits du Joker\, Arthur Fleck rencontre le grand amour et se trouve entraîné dans une folie à deux.
URL:https://septem.stghislain.be/agenda/joker-2/2025-04-08/1/
LOCATION:Les Jardins du Cloître\, 37 Grand Place\, Saint-Ghislain\, 7330\, Belgique
CATEGORIES:Cinéma,Films,Saint-Ghislain
ATTACH;FMTTYPE=image/jpeg:https://septem.stghislain.be/wp-content/uploads/2024/12/cinema-joker-2-Septem-Culture_Saint_Ghislain-2025.jpg
ORGANIZER;CN="Septem":MAILTO:info@septem.stghislain.be
END:VEVENT
BEGIN:VEVENT
DTSTART;TZID=Europe/Brussels:20250408T193000
DTEND;TZID=Europe/Brussels:20250408T220000
DTSTAMP:20260423T075629
CREATED:20241203T111249Z
LAST-MODIFIED:20241203T111520Z
UID:10001092-1744140600-1744149600@septem.stghislain.be
SUMMARY:Joker : Folie à deux | de Todd Phillips
DESCRIPTION:2024 ‧ Musical/Thriller ‧ 2h 18m \nInterdit – 12 ans\nA quelques jours de son procès pour les crimes commis sous les traits du Joker\, Arthur Fleck rencontre le grand amour et se trouve entraîné dans une folie à deux.
URL:https://septem.stghislain.be/agenda/joker-2/2025-04-08/2/
LOCATION:Les Jardins du Cloître\, 37 Grand Place\, Saint-Ghislain\, 7330\, Belgique
CATEGORIES:Cinéma,Films,Saint-Ghislain
ATTACH;FMTTYPE=image/jpeg:https://septem.stghislain.be/wp-content/uploads/2024/12/cinema-joker-2-Septem-Culture_Saint_Ghislain-2025.jpg
ORGANIZER;CN="Septem":MAILTO:info@septem.stghislain.be
END:VEVENT
END:VCALENDAR