BEGIN:VCALENDAR
VERSION:2.0
PRODID:-//Septem - ECPv6.0.13.1//NONSGML v1.0//EN
CALSCALE:GREGORIAN
METHOD:PUBLISH
X-WR-CALNAME:Septem
X-ORIGINAL-URL:https://septem.stghislain.be
X-WR-CALDESC:évènements pour Septem
REFRESH-INTERVAL;VALUE=DURATION:PT1H
X-Robots-Tag:noindex
X-PUBLISHED-TTL:PT1H
BEGIN:VTIMEZONE
TZID:Europe/Brussels
BEGIN:DAYLIGHT
TZOFFSETFROM:+0100
TZOFFSETTO:+0200
TZNAME:CEST
DTSTART:20250330T010000
END:DAYLIGHT
BEGIN:STANDARD
TZOFFSETFROM:+0200
TZOFFSETTO:+0100
TZNAME:CET
DTSTART:20251026T010000
END:STANDARD
END:VTIMEZONE
BEGIN:VEVENT
DTSTART;TZID=Europe/Brussels:20250315T140000
DTEND;TZID=Europe/Brussels:20250315T170000
DTSTAMP:20260423T110630
CREATED:20250311T070129Z
LAST-MODIFIED:20250311T070221Z
UID:10001141-1742047200-1742058000@septem.stghislain.be
SUMMARY:Conférence & Théâtre | C'est vraiment pas marrant ! - Cie Trou de ver
DESCRIPTION:La Cie du Trou de Ver présente une comédie de Guillame Kerbush et Laura Petrone. \nMichaël et Quentin sont jumeaux\, nés exactement à 8 minutes d’intervalle\, mais le moins que l’on puisse dire\, c’est que cela ne se voit pas ! Car Quentin\, le cadet\, souffre d’une maladie : « l’ostéogenèse imparfaite »\, appelée aussi la maladie des os de verre. Hyper protecteur\, Michaël s’est juré de protéger son frère et surtout de ne pas laisser les autres s’en moquer\, quitte à se battre avec le premier qui adresse la parole à Quentin… \nSpectacle de 50 minutes\, illustrant la passionnante conférence qui précède\, programmée à 14h00\, sur « Théâtre et nouvelles technologies » par Paolo ASCAGNI\, venu spécialement d’Italie ! \nBILLET UNIQUE pour les 2 manifestations 😉
URL:https://septem.stghislain.be/agenda/cie-trou-de-ver/
LOCATION:Les Jardins du Cloître\, 37 Grand Place\, Saint-Ghislain\, 7330\, Belgique
CATEGORIES:Conférences,Saint-Ghislain,Théâtre
ATTACH;FMTTYPE=image/jpeg:https://septem.stghislain.be/wp-content/uploads/2025/03/theatre-cest-vraimet-pas-marrant-Septem-Culture_Saint_Ghislain-2025.jpg
ORGANIZER;CN="Septem":MAILTO:info@septem.stghislain.be
END:VEVENT
END:VCALENDAR