BEGIN:VCALENDAR
VERSION:2.0
PRODID:-//Septem - ECPv6.0.13.1//NONSGML v1.0//EN
CALSCALE:GREGORIAN
METHOD:PUBLISH
X-ORIGINAL-URL:https://septem.stghislain.be
X-WR-CALDESC:évènements pour Septem
REFRESH-INTERVAL;VALUE=DURATION:PT1H
X-Robots-Tag:noindex
X-PUBLISHED-TTL:PT1H
BEGIN:VTIMEZONE
TZID:Europe/Brussels
BEGIN:DAYLIGHT
TZOFFSETFROM:+0100
TZOFFSETTO:+0200
TZNAME:CEST
DTSTART:20250330T010000
END:DAYLIGHT
BEGIN:STANDARD
TZOFFSETFROM:+0200
TZOFFSETTO:+0100
TZNAME:CET
DTSTART:20251026T010000
END:STANDARD
END:VTIMEZONE
BEGIN:VEVENT
DTSTART;TZID=Europe/Brussels:20250312T160000
DTEND;TZID=Europe/Brussels:20250312T191500
DTSTAMP:20260423T092215
CREATED:20241120T124454Z
LAST-MODIFIED:20250304T074330Z
UID:10000962-1741795200-1741806900@septem.stghislain.be
SUMMARY:Ateliers Musicaux avec Carlo Vargiu | + de 13 ans
DESCRIPTION:Plongez dans le monde de la musique lors de nos ateliers musicaux dirigés par Carlo Vargiu. Que vous soyez un jeune mélomane curieux ou un passionné plus expérimenté\, ces ateliers sont conçus pour vous faire vibrer au rythme de la musique\, sans aucune prérequis en solfège ! \n\nHoraires: \nNiveau 2 : de 16h00 à 17h30 \nNiveau 1 : de 17h45 à 19h15 \n\nInstruments: Guitare (Veuillez apporter votre propre guitare) \nCes ateliers sont spécialement adaptés aux débutants\, offrant une introduction ludique et enrichissante à la guitare et à la musique en général. Les participants auront l’occasion d’apprendre les bases de la guitare\, de jouer en groupe et de développer leur passion pour la musique. \nRejoignez-nous pour une semaine pleine de notes\, de rythmes et de découvertes musicales. Les places sont limitées\, alors réservez dès maintenant pour garantir votre participation !
URL:https://septem.stghislain.be/agenda/atelier-guitare2/2025-03-12/
LOCATION:Les Jardins du Cloître\, 37 Grand Place\, Saint-Ghislain\, 7330\, Belgique
CATEGORIES:Ateliers,Jeune public,Saint-Ghislain
ATTACH;FMTTYPE=image/jpeg:https://septem.stghislain.be/wp-content/uploads/2024/05/ateliers-musicaux-Carlo-Balgiu-Septem-Culture_Saint_Ghislain-2024.jpg
ORGANIZER;CN="Septem":MAILTO:info@septem.stghislain.be
END:VEVENT
BEGIN:VEVENT
DTSTART;TZID=Europe/Brussels:20250312T200000
DTEND;TZID=Europe/Brussels:20250312T211500
DTSTAMP:20260423T092215
CREATED:20231110T084348Z
LAST-MODIFIED:20250304T074444Z
UID:10000406-1741809600-1741814100@septem.stghislain.be
SUMMARY:Spectacle | Humour | Le temps des sardines
DESCRIPTION:🎶 Ne manquez pas le spectacle « Le temps des sardines » ! 🎶 \n📅 Date : 12 mars 2024 ⏰ Heure : 20h 📍 Lieu : Jardins du Cloître de Saint-Ghislain \n💰 Prix : de 12 à 15 € \nVenez découvrir le spectacle de chansons-pas-chantées de Klaire fait Grr\, un show féministe\, drôle et poétique. Avec un micro à la main et un pianiste sous le coude\, Klaire s’inspire de l’humour énervé de Renaud et du féminisme indocile d’Anne Sylvestre. \nDans « Le temps des sardines »\, Klaire lève le poing d’une Presque Marianne\, prie Sainte-Marie-des-Ascenseurs pour éviter ses voisins et rend hommage aux 343\, à l’amour et aux coquillettes (parce qu’elle aime bien les coquillettes). Elle crache des mots doux\, caresse des mots durs et vous emmène dans des histoires d’amour\, d’encombrants et de confitures qui rempliront votre cœur. \nCe spectacle d’une durée de 1h15 est accessible à partir de 12 ans et met en scène Klaire fait Grr à la voix et Prisco Langet au piano. Les textes sont signés par Klaire fait Grr\, les musiques par Odile Huleux et la mise en scène est assurée par Karim Tougui. \nReconnu par TÉLÉRAMA / TTT comme un spectacle d’humour malicieux\, imagé et engagé\, « Le temps des sardines » est une expérience à la fois joliment désuète et d’une modernité folle. \nRéservez vos places dès maintenant pour ne pas manquer cette soirée exceptionnelle ! 🎤🎹
URL:https://septem.stghislain.be/agenda/le-temps-des-sardines/
LOCATION:Les Jardins du Cloître\, 37 Grand Place\, Saint-Ghislain\, 7330\, Belgique
CATEGORIES:Chant,Musique,Saint-Ghislain,Spectacle,Théâtre
ATTACH;FMTTYPE=image/jpeg:https://septem.stghislain.be/wp-content/uploads/2023/11/spectacle-Le-temps-des-sardines-Septem-Culture_Saint_Ghislain-2024-copie.jpg
ORGANIZER;CN="Septem":MAILTO:info@septem.stghislain.be
END:VEVENT
END:VCALENDAR