BEGIN:VCALENDAR
VERSION:2.0
PRODID:-//Septem - ECPv6.0.13.1//NONSGML v1.0//EN
CALSCALE:GREGORIAN
METHOD:PUBLISH
X-ORIGINAL-URL:https://septem.stghislain.be
X-WR-CALDESC:évènements pour Septem
REFRESH-INTERVAL;VALUE=DURATION:PT1H
X-Robots-Tag:noindex
X-PUBLISHED-TTL:PT1H
BEGIN:VTIMEZONE
TZID:Europe/Brussels
BEGIN:DAYLIGHT
TZOFFSETFROM:+0100
TZOFFSETTO:+0200
TZNAME:CEST
DTSTART:20250330T010000
END:DAYLIGHT
BEGIN:STANDARD
TZOFFSETFROM:+0200
TZOFFSETTO:+0100
TZNAME:CET
DTSTART:20251026T010000
END:STANDARD
END:VTIMEZONE
BEGIN:VEVENT
DTSTART;TZID=Europe/Brussels:20250227T170000
DTEND;TZID=Europe/Brussels:20250227T203000
DTSTAMP:20260423T091754
CREATED:20250114T083331Z
LAST-MODIFIED:20250317T092655Z
UID:10001123-1740675600-1740688200@septem.stghislain.be
SUMMARY:Ateliers mosaïque | La Libellule
DESCRIPTION:Venez découvrir l’art de la mosaïque à l’atelier « La Libellule » ! \nParticipez à une soirée d’initiation pour apprendre à couper\, coller et finaliser votre propre création dans une ambiance conviviale. Tout le matériel et les outils nécessaires sont fournis\, il ne manque que vous ! \nEt si l’inspiration vous prend\, des ateliers libres sont également ouverts tous les jeudis ! \nPour plus d’infos :\natelier.lalibellule@hotmail.com\nPage facebook \nVenez vous exprimer à travers l’art de la mosaïque\, on vous attend !
URL:https://septem.stghislain.be/agenda/atelier-mosaique/
LOCATION:Les Jardins du Cloître\, 37 Grand Place\, Saint-Ghislain\, 7330\, Belgique
CATEGORIES:Ateliers,Hautrage,Saint-Ghislain
ATTACH;FMTTYPE=image/jpeg:https://septem.stghislain.be/wp-content/uploads/2025/01/ateliers-mosaique-la-libellule-Septem-Culture_Saint_Ghislain-2025.jpg
ORGANIZER;CN="Septem":MAILTO:info@septem.stghislain.be
END:VEVENT
END:VCALENDAR