BEGIN:VCALENDAR
VERSION:2.0
PRODID:-//Septem - ECPv6.0.13.1//NONSGML v1.0//EN
CALSCALE:GREGORIAN
METHOD:PUBLISH
X-ORIGINAL-URL:https://septem.stghislain.be
X-WR-CALDESC:évènements pour Septem
REFRESH-INTERVAL;VALUE=DURATION:PT1H
X-Robots-Tag:noindex
X-PUBLISHED-TTL:PT1H
BEGIN:VTIMEZONE
TZID:Europe/Brussels
BEGIN:DAYLIGHT
TZOFFSETFROM:+0100
TZOFFSETTO:+0200
TZNAME:CEST
DTSTART:20250330T010000
END:DAYLIGHT
BEGIN:STANDARD
TZOFFSETFROM:+0200
TZOFFSETTO:+0100
TZNAME:CET
DTSTART:20251026T010000
END:STANDARD
END:VTIMEZONE
BEGIN:VEVENT
DTSTART;TZID=Europe/Brussels:20250206T100000
DTEND;TZID=Europe/Brussels:20250206T114000
DTSTAMP:20260423T104329
CREATED:20240612T111736Z
LAST-MODIFIED:20240612T111740Z
UID:10000695-1738836000-1738842000@septem.stghislain.be
SUMMARY:L’affaire Costalamone | Inti Théâtre
DESCRIPTION:Genre : Théâtre- conférence \nThématique du spectacle : Violences\, faits divers\, débat\, justice \nÀ l’occasion du mariage de son frère\, Martial Costalamone fait 8 victimes : 5 morts\, 2 blessés graves et 1 blessé léger. Au fur et à mesure du récit\, on découvre Martial\, Terence le pleu-pleu\, et le village de Mortagne où s’affrontent depuis toujours deux clans : les scieurs et les vignerons. Une seule passion les unit tous : la chasse. Ils répètent d’ailleurs sans cesse : « Je suis né chasseur ! Je mourrai pas gibier ! ».Le récit est transmis sans pathos et avec distance. Pour permettre cette distance\, ce n’est pas Martial qui se trouve devant les spectateurices mais une citoyenne « enquêtrice-assistante-sociale- psychologue »\, bien décidée à questionner l’utilité et le fonctionnement de la justice. L’affaire Costalamone veut ouvrir un chemin vers une meilleure compréhension des mécanismes de la violence. Au spectacle s’ajoute une discussion philo avec les spectateurices pour questionner le rôle de la justice\, avec l’aide d’une personne ressource spécialiste en droit pénal ou criminologie.Qui a la responsabilité du crime commis ?Comment le réparer ? \nMédiation: Ateliers philo de 50 minutes par la compagnie Inti Théâtre avec une personne ressource \nS4 à S5 \nJeudi 6 février 2025 à 10h00 (Complet) et 13h30 (reste 27 places)Vendredi 7 février 2025 à 10h00 et 13h30 (Complet)
URL:https://septem.stghislain.be/agenda/l-affaire-costalamone/2025-02-06/1/
LOCATION:Les Jardins du Cloître\, 37 Grand Place\, Saint-Ghislain\, 7330\, Belgique
CATEGORIES:Saint-Ghislain,Scolaires
ATTACH;FMTTYPE=image/png:https://septem.stghislain.be/wp-content/uploads/2024/06/l-affaire-costalamone-Septem-Culture_Saint_Ghislain-2024.png
ORGANIZER;CN="Septem":MAILTO:info@septem.stghislain.be
END:VEVENT
BEGIN:VEVENT
DTSTART;TZID=Europe/Brussels:20250206T133000
DTEND;TZID=Europe/Brussels:20250206T151000
DTSTAMP:20260423T104329
CREATED:20240612T111736Z
LAST-MODIFIED:20240612T111740Z
UID:10000696-1738848600-1738854600@septem.stghislain.be
SUMMARY:L’affaire Costalamone | Inti Théâtre
DESCRIPTION:Genre : Théâtre- conférence \nThématique du spectacle : Violences\, faits divers\, débat\, justice \nÀ l’occasion du mariage de son frère\, Martial Costalamone fait 8 victimes : 5 morts\, 2 blessés graves et 1 blessé léger. Au fur et à mesure du récit\, on découvre Martial\, Terence le pleu-pleu\, et le village de Mortagne où s’affrontent depuis toujours deux clans : les scieurs et les vignerons. Une seule passion les unit tous : la chasse. Ils répètent d’ailleurs sans cesse : « Je suis né chasseur ! Je mourrai pas gibier ! ».Le récit est transmis sans pathos et avec distance. Pour permettre cette distance\, ce n’est pas Martial qui se trouve devant les spectateurices mais une citoyenne « enquêtrice-assistante-sociale- psychologue »\, bien décidée à questionner l’utilité et le fonctionnement de la justice. L’affaire Costalamone veut ouvrir un chemin vers une meilleure compréhension des mécanismes de la violence. Au spectacle s’ajoute une discussion philo avec les spectateurices pour questionner le rôle de la justice\, avec l’aide d’une personne ressource spécialiste en droit pénal ou criminologie.Qui a la responsabilité du crime commis ?Comment le réparer ? \nMédiation: Ateliers philo de 50 minutes par la compagnie Inti Théâtre avec une personne ressource \nS4 à S5 \nJeudi 6 février 2025 à 10h00 (Complet) et 13h30 (reste 27 places)Vendredi 7 février 2025 à 10h00 et 13h30 (Complet)
URL:https://septem.stghislain.be/agenda/l-affaire-costalamone/2025-02-06/2/
LOCATION:Les Jardins du Cloître\, 37 Grand Place\, Saint-Ghislain\, 7330\, Belgique
CATEGORIES:Saint-Ghislain,Scolaires
ATTACH;FMTTYPE=image/png:https://septem.stghislain.be/wp-content/uploads/2024/06/l-affaire-costalamone-Septem-Culture_Saint_Ghislain-2024.png
ORGANIZER;CN="Septem":MAILTO:info@septem.stghislain.be
END:VEVENT
BEGIN:VEVENT
DTSTART;TZID=Europe/Brussels:20250206T143000
DTEND;TZID=Europe/Brussels:20250206T170000
DTSTAMP:20260423T104329
CREATED:20241129T085611Z
LAST-MODIFIED:20250317T093006Z
UID:10001117-1738852200-1738861200@septem.stghislain.be
SUMMARY:Atelier céramique | Modelage et peinture avec Anne
DESCRIPTION:Rejoignez-nous pour des ateliers passionnants où vous aurez l’opportunité de donner vie à des objets décoratifs uniques en argile avec Madame Van Der Borght. \n  \n\nle jeudi 16 janvier (18H à 20H30): Atelier peinture sur céramique\nle jeudi 6 février (14H30 à 17H): Atelier pâte autodurcissante\nle jeudi 13 mars (18H à 20H30): Atelier peinture sur céramique\nle jeudi10 avril (18H à 20H30): Atelier peinture sur céramique
URL:https://septem.stghislain.be/agenda/ceramique-anne/2025-02-06/
LOCATION:Les Jardins du Cloître\, 37 Grand Place\, Saint-Ghislain\, 7330\, Belgique
CATEGORIES:Ateliers,Hautrage,Saint-Ghislain
ATTACH;FMTTYPE=image/jpeg:https://septem.stghislain.be/wp-content/uploads/2024/05/ateliers-ceramiques-Septem-Culture_Saint_Ghislain-2024.jpg
ORGANIZER;CN="Septem":MAILTO:info@septem.stghislain.be
END:VEVENT
END:VCALENDAR