BEGIN:VCALENDAR
VERSION:2.0
PRODID:-//Septem - ECPv6.0.13.1//NONSGML v1.0//EN
CALSCALE:GREGORIAN
METHOD:PUBLISH
X-WR-CALNAME:Septem
X-ORIGINAL-URL:https://septem.stghislain.be
X-WR-CALDESC:évènements pour Septem
REFRESH-INTERVAL;VALUE=DURATION:PT1H
X-Robots-Tag:noindex
X-PUBLISHED-TTL:PT1H
BEGIN:VTIMEZONE
TZID:Europe/Brussels
BEGIN:DAYLIGHT
TZOFFSETFROM:+0100
TZOFFSETTO:+0200
TZNAME:CEST
DTSTART:20250330T010000
END:DAYLIGHT
BEGIN:STANDARD
TZOFFSETFROM:+0200
TZOFFSETTO:+0100
TZNAME:CET
DTSTART:20251026T010000
END:STANDARD
END:VTIMEZONE
BEGIN:VEVENT
DTSTART;TZID=Europe/Brussels:20250117T133000
DTEND;TZID=Europe/Brussels:20250117T151500
DTSTAMP:20260423T125550
CREATED:20241014T122929Z
LAST-MODIFIED:20241014T122934Z
UID:10000926-1737120600-1737126900@septem.stghislain.be
SUMMARY:Scolaires | MONK | Concert - Théâtre - Jazz
DESCRIPTION:« Thelonious Monk\, sculpteur de silence » est une ode au silence\, à la folie et à l’amour. \nÉric D’Agostino donne la parole pour la première fois à l’artiste « Monk »\, le pianiste qui n’a jamais parlé. Celui qui s’est réfugié dans le silence de sa musique une vie durant. Le spectacle raconte\, les difficultés pour un artiste hors norme de vivre dans un monde hostile à la folie et à la différence. La folie qui exclut\, rabaisse\, enfuit et réduit au silence. Il n’y a aucune trace des écrits de Monk\, à peine quelques interviews sibyllines. Armé de sa plume et de sa voix\, Éric D’Agostino ose alors l’impossible : se mettre dans la peau de Monk\, dans la voix et les doigts de celui qui a révolutionné la musique et le jazz\, et est considéré comme le père du beebop. \nJauge: 200 élèves maximum \nDurée: 1h30 minutes de spectacle+ 15 minutes d’échanges \nS4 à S6
URL:https://septem.stghislain.be/agenda/monk/
LOCATION:Les Jardins du Cloître\, 37 Grand Place\, Saint-Ghislain\, 7330\, Belgique
CATEGORIES:Saint-Ghislain,Scolaires,Spectacle,Théâtre
ATTACH;FMTTYPE=image/jpeg:https://septem.stghislain.be/wp-content/uploads/2024/10/monk-Septem-Culture_Saint_Ghislain-2024.jpg
ORGANIZER;CN="Septem":MAILTO:info@septem.stghislain.be
END:VEVENT
BEGIN:VEVENT
DTSTART;TZID=Europe/Brussels:20250117T200000
DTEND;TZID=Europe/Brussels:20250117T213000
DTSTAMP:20260423T125550
CREATED:20241014T124118Z
LAST-MODIFIED:20250108T084445Z
UID:10001100-1737144000-1737149400@septem.stghislain.be
SUMMARY:Concert - Théâtre - Jazz | MONK
DESCRIPTION:« Thelonious Monk\, sculpteur de silence » est une ode au silence\, à la folie et à l’amour. \nÉric D’Agostino donne la parole pour la première fois à l’artiste « Monk »\, le pianiste qui n’a jamais parlé. Celui qui s’est réfugié dans le silence de sa musique une vie durant. Le spectacle raconte\, les difficultés pour un artiste hors norme de vivre dans un monde hostile à la folie et à la différence. La folie qui exclut\, rabaisse\, enfuit et réduit au silence. Il n’y a aucune trace des écrits de Monk\, à peine quelques interviews sibyllines. Armé de sa plume et de sa voix\, Éric D’Agostino ose alors l’impossible : se mettre dans la peau de Monk\, dans la voix et les doigts de celui qui a révolutionné la musique et le jazz\, et est considéré comme le père du beebop. \nDurée: 1h30 minutes de spectacle
URL:https://septem.stghislain.be/agenda/monk-concert-theatre-jazz/
LOCATION:Les Jardins du Cloître\, 37 Grand Place\, Saint-Ghislain\, 7330\, Belgique
CATEGORIES:Musique,Saint-Ghislain,Spectacle,Théâtre
ATTACH;FMTTYPE=image/jpeg:https://septem.stghislain.be/wp-content/uploads/2024/10/monk-Septem-Culture_Saint_Ghislain-2024.jpg
ORGANIZER;CN="Septem":MAILTO:info@septem.stghislain.be
END:VEVENT
END:VCALENDAR