BEGIN:VCALENDAR
VERSION:2.0
PRODID:-//Septem - ECPv6.0.13.1//NONSGML v1.0//EN
CALSCALE:GREGORIAN
METHOD:PUBLISH
X-ORIGINAL-URL:https://septem.stghislain.be
X-WR-CALDESC:évènements pour Septem
REFRESH-INTERVAL;VALUE=DURATION:PT1H
X-Robots-Tag:noindex
X-PUBLISHED-TTL:PT1H
BEGIN:VTIMEZONE
TZID:Europe/Brussels
BEGIN:DAYLIGHT
TZOFFSETFROM:+0100
TZOFFSETTO:+0200
TZNAME:CEST
DTSTART:20240331T010000
END:DAYLIGHT
BEGIN:STANDARD
TZOFFSETFROM:+0200
TZOFFSETTO:+0100
TZNAME:CET
DTSTART:20241027T010000
END:STANDARD
END:VTIMEZONE
BEGIN:VEVENT
DTSTART;TZID=Europe/Brussels:20241222T160000
DTEND;TZID=Europe/Brussels:20241222T173000
DTSTAMP:20260423T143325
CREATED:20240913T140444Z
LAST-MODIFIED:20240913T140448Z
UID:10000875-1734883200-1734888600@septem.stghislain.be
SUMMARY:Concert | Blue Swing retombe en enfance
DESCRIPTION:Blue Swing\, c’est avant tout\, une musique que le public reconnaitra dès les premières notes … \nDès le début du concert\, les spectateurs seront sans nul doute séduits par les costumes colorés et l’ambiance décontractée que dégage Blue Swing … car l’humour et les jeux de scène font partie intégrante du spectacle ! \nC’est durant l’été 1988 que Philippe Wattecamps organise un stage d’orchestre pour musiciens débutants au sein de l’académie de musique de Colfontaine (où il est alors professeur de saxophone et clarinette). Le premier concert en octobre 1988 rencontre un vif succès et rapidement\, l’orchestre est demandé pour d’autres concerts dans la région. \n L’ « orchestre junior de l’académie de Colfontaine » était né. En 1991\, un comité de soutien se crée et l’orchestre prend son nom actuel : BLUE SWING. En juillet 2000\, Blue Swing part 12 jours en tournée à la Côte d’Azur et en avril 2003\, il anime quelques soirées en Espagne dans un hôtel de Playa de Aro (Costa Brava). \nAujourd’hui\, Blue Swing compte 40 musiciens et\, fort de ses 36 ans d’expérience\, continue à divertir un large public. Tous les 2 ans un nouveau thème est traîté. Le dimanche 22 décembre 2024\, Blue Swing vous invitera à retomber en enfance avec un spectacle comprenant les plus belles musiques de Disney (Aladdin\, Peter Pan\, Les Aristochats\, La petite sirène) mais également d’autres musiques telles que Les Simpsons\, Goldorak\, Au pays de Candy\, … \nLili Renard\, jeune chanteuse talentueuse vous interprétera certaines chansons célèbres de Disney et Rémi Ceci\, vous surprendra avec d’autres chansons plus fantaisistes. Le meilleur compliment qu’on nous fait après un concert ? « On voit que vous vous amusez beaucoup sur scène et cette chouette ambiance déborde dans le public ! «  \nAu plaisir de vous accueillir en famille le dimanche 22 décembre aux Jardins du Cloître !
URL:https://septem.stghislain.be/agenda/blue-swing/
LOCATION:Les Jardins du Cloître\, 37 Grand Place\, Saint-Ghislain\, 7330\, Belgique
CATEGORIES:Concerts,Musique,Saint-Ghislain
ATTACH;FMTTYPE=image/jpeg:https://septem.stghislain.be/wp-content/uploads/2024/09/concert-blue-swing-Septem-Culture_Saint_Ghislain-2024.jpg
ORGANIZER;CN="Septem":MAILTO:info@septem.stghislain.be
END:VEVENT
END:VCALENDAR