BEGIN:VCALENDAR
VERSION:2.0
PRODID:-//Septem - ECPv6.0.13.1//NONSGML v1.0//EN
CALSCALE:GREGORIAN
METHOD:PUBLISH
X-ORIGINAL-URL:https://septem.stghislain.be
X-WR-CALDESC:évènements pour Septem
REFRESH-INTERVAL;VALUE=DURATION:PT1H
X-Robots-Tag:noindex
X-PUBLISHED-TTL:PT1H
BEGIN:VTIMEZONE
TZID:Europe/Brussels
BEGIN:DAYLIGHT
TZOFFSETFROM:+0100
TZOFFSETTO:+0200
TZNAME:CEST
DTSTART:20240331T010000
END:DAYLIGHT
BEGIN:STANDARD
TZOFFSETFROM:+0200
TZOFFSETTO:+0100
TZNAME:CET
DTSTART:20241027T010000
END:STANDARD
END:VTIMEZONE
BEGIN:VEVENT
DTSTART;TZID=Europe/Brussels:20241130T100000
DTEND;TZID=Europe/Brussels:20241215T163000
DTSTAMP:20260423T143327
CREATED:20240912T131122Z
LAST-MODIFIED:20241206T101538Z
UID:10000870-1732960800-1734280200@septem.stghislain.be
SUMMARY:Exposition | Benoit Bouchez "Carnet de voyage"
DESCRIPTION:Benoît Bouchez\, qui êtes-vous ?Je suis photographe de presse depuis une trentaine d’années.A mes heures perdues\, j’aimais prendre en photo ma famille\, mes amis. Capturer les instants de vie était une nécessité\, un besoin de m’évader et d’immortaliser des moments inoubliables. J’avoue que j’ai mis un peu de temps avant de trouver ma véritable vocation.Fort heureusement\, une rencontre décisive m’a permis de trouver ma voie. Mon photographe du village qui\, tout comme moi\, était un véritable passionné de la photo et m’a encouragé à poursuivre sur cette lancée. \n\nQu’est-ce qui vous a amené à la photographie ?Fin des années 80\, j’ai eu le déclic lors de mon tout premier Festival de Dour auquel j’ai assisté en tant que spectateur. J’étais très impressionné par la foule et les artistes qui donnaient tout sur scène.Outre la musique\, j’ai toujours été un amoureux de sport extrême\, un fan de la formule 1 . Je m’intéresse également au patrimoine folklorique et naturel comme le Doudou\, les paysages irlandais et écossais à couper le souffle. La photographie est un besoin vital\, j’aime observer ce qui m’entoure et capter le moment présent.Après mon expo Rock Collection qui retrace 35 ans de photos de concert avec des figures emblématiques comme David Bowie\, Bono\, Lenny Kravitz\, U2\, Depeche Mode\, Simple Minds\, Muse \, The Cure ou j’ai réalise la photo promo de leur DVD Trilogy en 2002 .Cette fois si je me consacre sur les voyages réaliser lors de mes dernières années. Lofoten (Norvège) \, Irlande \,Irlande du Nord \,Ecosse\,Les Vosges \, Les Dolomites (Italie) \,L’Islande \n\nwww.benoitbouchez.be \nInstagram  \nFACEBOOK \n\n  \n\nHoraires exposition: \n– les samedi 30/11 et dimanche 01/12 de 14h à 17h.\n– La semaine du 02 au 06/12 de 10h à 16h.\n– Samedi 07/12 et dimanche 08/12 de 14h à 17h.\n– Semaine du 09 au 13/12 de 10h à 16h : le mercredi et vendredi : 10h à 19h.
URL:https://septem.stghislain.be/agenda/exposition-benoit-bouchez/
LOCATION:Couvent d’Hautrage\, Grand'Place\, Hautrage\, 7334
CATEGORIES:Expositions,Saint-Ghislain
ATTACH;FMTTYPE=image/jpeg:https://septem.stghislain.be/wp-content/uploads/2024/09/exposition-photo-benoit-bouchez-Septem-Culture_Saint_Ghislain-2024..jpg
ORGANIZER;CN="Septem":MAILTO:info@septem.stghislain.be
END:VEVENT
BEGIN:VEVENT
DTSTART;TZID=Europe/Brussels:20241212T100000
DTEND;TZID=Europe/Brussels:20241212T105000
DTSTAMP:20260423T143327
CREATED:20240612T094817Z
LAST-MODIFIED:20240612T094821Z
UID:10000689-1733997600-1734000600@septem.stghislain.be
SUMMARY:Griboujazz II | Jeunesses Musicales
DESCRIPTION:Genre : Musique Jazz \nThématique du spectacle : Voyage dans le jazz \nBienvenue dans le laboratoire de création de jazz ! Dans ce spectacle joyeusement interactif\, nous entrons dans le cerveau en ébullition d’un·e musicien·ne en plein processus d’improvisation. À notre disposition : une contrebasse\, une batterie\, un saxophone et une guitare\, qui joueront une musique composée… par nous-mêmes ! Rythme lent ou rapide\, humeur joyeuse ou fatiguée\, mélodie simple ou bizarre\, tout est modifiable.Les enfants sont plus directement associés à l’élaboration de la composition\, aussitôt transposée sur écran en une suite de figures dansantes. \nPour aider à suivre la construction d’une pièce en temps réel\, le concert est accompagné par la projection d’animations interactives qui illustrent de façon imagée et ludique les différents ingrédients du jazz : couleur harmonique\, rythme\, tempo\, mélodie… Une immersion totale dans la composition instantanée\, un vrai jeu d’enfant ! \nDe M3 à P5 \nLes animatrices de Septem peuvent intervenir dans les classes à la demande. \nJeudi 12 décembre 2024:pour la séance de 10h il reste 20 placespour la séance de 13h30 il reste 40 places
URL:https://septem.stghislain.be/agenda/griboujazz/2024-12-12/1/
LOCATION:Les Jardins du Cloître\, 37 Grand Place\, Saint-Ghislain\, 7330\, Belgique
CATEGORIES:Saint-Ghislain,Scolaires
ATTACH;FMTTYPE=image/jpeg:https://septem.stghislain.be/wp-content/uploads/2024/06/griboujazz-II-Septem-Culture_Saint_Ghislain-2024.jpg
ORGANIZER;CN="Septem":MAILTO:info@septem.stghislain.be
END:VEVENT
BEGIN:VEVENT
DTSTART;TZID=Europe/Brussels:20241212T133000
DTEND;TZID=Europe/Brussels:20241212T142000
DTSTAMP:20260423T143327
CREATED:20240612T094817Z
LAST-MODIFIED:20240612T094821Z
UID:10000690-1734010200-1734013200@septem.stghislain.be
SUMMARY:Griboujazz II | Jeunesses Musicales
DESCRIPTION:Genre : Musique Jazz \nThématique du spectacle : Voyage dans le jazz \nBienvenue dans le laboratoire de création de jazz ! Dans ce spectacle joyeusement interactif\, nous entrons dans le cerveau en ébullition d’un·e musicien·ne en plein processus d’improvisation. À notre disposition : une contrebasse\, une batterie\, un saxophone et une guitare\, qui joueront une musique composée… par nous-mêmes ! Rythme lent ou rapide\, humeur joyeuse ou fatiguée\, mélodie simple ou bizarre\, tout est modifiable.Les enfants sont plus directement associés à l’élaboration de la composition\, aussitôt transposée sur écran en une suite de figures dansantes. \nPour aider à suivre la construction d’une pièce en temps réel\, le concert est accompagné par la projection d’animations interactives qui illustrent de façon imagée et ludique les différents ingrédients du jazz : couleur harmonique\, rythme\, tempo\, mélodie… Une immersion totale dans la composition instantanée\, un vrai jeu d’enfant ! \nDe M3 à P5 \nLes animatrices de Septem peuvent intervenir dans les classes à la demande. \nJeudi 12 décembre 2024:pour la séance de 10h il reste 20 placespour la séance de 13h30 il reste 40 places
URL:https://septem.stghislain.be/agenda/griboujazz/2024-12-12/2/
LOCATION:Les Jardins du Cloître\, 37 Grand Place\, Saint-Ghislain\, 7330\, Belgique
CATEGORIES:Saint-Ghislain,Scolaires
ATTACH;FMTTYPE=image/jpeg:https://septem.stghislain.be/wp-content/uploads/2024/06/griboujazz-II-Septem-Culture_Saint_Ghislain-2024.jpg
ORGANIZER;CN="Septem":MAILTO:info@septem.stghislain.be
END:VEVENT
END:VCALENDAR