BEGIN:VCALENDAR
VERSION:2.0
PRODID:-//Septem - ECPv6.0.13.1//NONSGML v1.0//EN
CALSCALE:GREGORIAN
METHOD:PUBLISH
X-ORIGINAL-URL:https://septem.stghislain.be
X-WR-CALDESC:évènements pour Septem
REFRESH-INTERVAL;VALUE=DURATION:PT1H
X-Robots-Tag:noindex
X-PUBLISHED-TTL:PT1H
BEGIN:VTIMEZONE
TZID:Europe/Brussels
BEGIN:DAYLIGHT
TZOFFSETFROM:+0100
TZOFFSETTO:+0200
TZNAME:CEST
DTSTART:20240331T010000
END:DAYLIGHT
BEGIN:STANDARD
TZOFFSETFROM:+0200
TZOFFSETTO:+0100
TZNAME:CET
DTSTART:20241027T010000
END:STANDARD
END:VTIMEZONE
BEGIN:VEVENT
DTSTART;TZID=Europe/Brussels:20241130T100000
DTEND;TZID=Europe/Brussels:20241215T163000
DTSTAMP:20260423T143133
CREATED:20240912T131122Z
LAST-MODIFIED:20241206T101538Z
UID:10000870-1732960800-1734280200@septem.stghislain.be
SUMMARY:Exposition | Benoit Bouchez "Carnet de voyage"
DESCRIPTION:Benoît Bouchez\, qui êtes-vous ?Je suis photographe de presse depuis une trentaine d’années.A mes heures perdues\, j’aimais prendre en photo ma famille\, mes amis. Capturer les instants de vie était une nécessité\, un besoin de m’évader et d’immortaliser des moments inoubliables. J’avoue que j’ai mis un peu de temps avant de trouver ma véritable vocation.Fort heureusement\, une rencontre décisive m’a permis de trouver ma voie. Mon photographe du village qui\, tout comme moi\, était un véritable passionné de la photo et m’a encouragé à poursuivre sur cette lancée. \n\nQu’est-ce qui vous a amené à la photographie ?Fin des années 80\, j’ai eu le déclic lors de mon tout premier Festival de Dour auquel j’ai assisté en tant que spectateur. J’étais très impressionné par la foule et les artistes qui donnaient tout sur scène.Outre la musique\, j’ai toujours été un amoureux de sport extrême\, un fan de la formule 1 . Je m’intéresse également au patrimoine folklorique et naturel comme le Doudou\, les paysages irlandais et écossais à couper le souffle. La photographie est un besoin vital\, j’aime observer ce qui m’entoure et capter le moment présent.Après mon expo Rock Collection qui retrace 35 ans de photos de concert avec des figures emblématiques comme David Bowie\, Bono\, Lenny Kravitz\, U2\, Depeche Mode\, Simple Minds\, Muse \, The Cure ou j’ai réalise la photo promo de leur DVD Trilogy en 2002 .Cette fois si je me consacre sur les voyages réaliser lors de mes dernières années. Lofoten (Norvège) \, Irlande \,Irlande du Nord \,Ecosse\,Les Vosges \, Les Dolomites (Italie) \,L’Islande \n\nwww.benoitbouchez.be \nInstagram  \nFACEBOOK \n\n  \n\nHoraires exposition: \n– les samedi 30/11 et dimanche 01/12 de 14h à 17h.\n– La semaine du 02 au 06/12 de 10h à 16h.\n– Samedi 07/12 et dimanche 08/12 de 14h à 17h.\n– Semaine du 09 au 13/12 de 10h à 16h : le mercredi et vendredi : 10h à 19h.
URL:https://septem.stghislain.be/agenda/exposition-benoit-bouchez/
LOCATION:Couvent d’Hautrage\, Grand'Place\, Hautrage\, 7334
CATEGORIES:Expositions,Saint-Ghislain
ATTACH;FMTTYPE=image/jpeg:https://septem.stghislain.be/wp-content/uploads/2024/09/exposition-photo-benoit-bouchez-Septem-Culture_Saint_Ghislain-2024..jpg
ORGANIZER;CN="Septem":MAILTO:info@septem.stghislain.be
END:VEVENT
BEGIN:VEVENT
DTSTART;TZID=Europe/Brussels:20241204T143000
DTEND;TZID=Europe/Brussels:20241204T160000
DTSTAMP:20260423T143133
CREATED:20241004T105938Z
LAST-MODIFIED:20241004T105943Z
UID:10000911-1733322600-1733328000@septem.stghislain.be
SUMMARY:Ateliers Guitare avec Carlo Vargiu de 7 à 12 ans
DESCRIPTION:Plongez dans le monde de la musique lors de nos ateliers musicaux dirigés par Carlo Vargiu. Que vous soyez un jeune mélomane curieux ou un passionné plus expérimenté\, ces ateliers sont conçus pour vous faire vibrer au rythme de la musique\, sans aucune prérequis en solfège ! \nHoraires: \nPour les 7 à 12 ans: 14h30 – 16h00\nPour les participants de plus de 13 ans: 16h30 – 18h00\nInstruments: Guitare (Veuillez apporter votre propre guitare) \nCes ateliers sont spécialement adaptés aux débutants\, offrant une introduction ludique et enrichissante à la guitare et à la musique en général. Les participants auront l’occasion d’apprendre les bases de la guitare\, de jouer en groupe et de développer leur passion pour la musique. \nRejoignez-nous pour une semaine pleine de notes\, de rythmes et de découvertes musicales. Les places sont limitées\, alors réservez dès maintenant pour garantir votre participation !
URL:https://septem.stghislain.be/agenda/guitare-7-12/2024-12-04/
LOCATION:Les Jardins du Cloître\, 37 Grand Place\, Saint-Ghislain\, 7330\, Belgique
CATEGORIES:Ateliers,Jeune public,Musique,Saint-Ghislain
ATTACH;FMTTYPE=image/jpeg:https://septem.stghislain.be/wp-content/uploads/2024/05/ateliers-musicaux-Carlo-Balgiu-Septem-Culture_Saint_Ghislain-2024.jpg
ORGANIZER;CN="Septem":MAILTO:info@septem.stghislain.be
END:VEVENT
BEGIN:VEVENT
DTSTART;TZID=Europe/Brussels:20241204T163000
DTEND;TZID=Europe/Brussels:20241204T180000
DTSTAMP:20260423T143133
CREATED:20241004T110753Z
LAST-MODIFIED:20241004T110758Z
UID:10000923-1733329800-1733335200@septem.stghislain.be
SUMMARY:Ateliers Guitare avec Carlo Vargiu pour les plus de 13 ans
DESCRIPTION:Plongez dans le monde de la musique lors de nos ateliers musicaux dirigés par Carlo Vargiu. Que vous soyez un jeune mélomane curieux ou un passionné plus expérimenté\, ces ateliers sont conçus pour vous faire vibrer au rythme de la musique\, sans aucune prérequis en solfège ! \nHoraires: \nPour les 7 à 12 ans: 14h30 – 16h00\nPour les participants de plus de 13 ans: 16h30 – 18h00\nInstruments: Guitare (Veuillez apporter votre propre guitare) \nCes ateliers sont spécialement adaptés aux débutants\, offrant une introduction ludique et enrichissante à la guitare et à la musique en général. Les participants auront l’occasion d’apprendre les bases de la guitare\, de jouer en groupe et de développer leur passion pour la musique. \nRejoignez-nous pour une semaine pleine de notes\, de rythmes et de découvertes musicales. Les places sont limitées\, alors réservez dès maintenant pour garantir votre participation !
URL:https://septem.stghislain.be/agenda/guitare-13/2024-12-04/
LOCATION:Les Jardins du Cloître\, 37 Grand Place\, Saint-Ghislain\, 7330\, Belgique
CATEGORIES:Ateliers,Jeune public,Musique,Saint-Ghislain
ATTACH;FMTTYPE=image/jpeg:https://septem.stghislain.be/wp-content/uploads/2024/05/ateliers-musicaux-Carlo-Balgiu-Septem-Culture_Saint_Ghislain-2024.jpg
ORGANIZER;CN="Septem":MAILTO:info@septem.stghislain.be
END:VEVENT
END:VCALENDAR