BEGIN:VCALENDAR
VERSION:2.0
PRODID:-//Septem - ECPv6.0.13.1//NONSGML v1.0//EN
CALSCALE:GREGORIAN
METHOD:PUBLISH
X-WR-CALNAME:Septem
X-ORIGINAL-URL:https://septem.stghislain.be
X-WR-CALDESC:évènements pour Septem
REFRESH-INTERVAL;VALUE=DURATION:PT1H
X-Robots-Tag:noindex
X-PUBLISHED-TTL:PT1H
BEGIN:VTIMEZONE
TZID:Europe/Brussels
BEGIN:DAYLIGHT
TZOFFSETFROM:+0100
TZOFFSETTO:+0200
TZNAME:CEST
DTSTART:20240331T010000
END:DAYLIGHT
BEGIN:STANDARD
TZOFFSETFROM:+0200
TZOFFSETTO:+0100
TZNAME:CET
DTSTART:20241027T010000
END:STANDARD
END:VTIMEZONE
BEGIN:VEVENT
DTSTART;TZID=Europe/Brussels:20241125T193000
DTEND;TZID=Europe/Brussels:20241126T210000
DTSTAMP:20260423T143043
CREATED:20240923T120117Z
LAST-MODIFIED:20240923T120121Z
UID:10000896-1732563000-1732654800@septem.stghislain.be
SUMMARY:Cinéma | Un p’tit truc en plus
DESCRIPTION:1h 39min | ComédieDe Artus | Par Artus\, Milan MaugerAvec Artus\, Clovis Cornillac\, Marc RisoSynopsis:Pour échapper à la police\, un fils et son père en cavale sont contraints de trouver refuge dans une colonie de vacances pour jeunes adultes en situation de handicap\, se faisant passer pour un pensionnaire et son éducateur spécialisé. Le début des emmerdes et d’une formidable expérience humaine qui va les changer à jamais.
URL:https://septem.stghislain.be/agenda/cinema-un-ptit-truc-en-plus/
LOCATION:Les Jardins du Cloître\, 37 Grand Place\, Saint-Ghislain\, 7330\, Belgique
CATEGORIES:Cinéma,Films,Saint-Ghislain
ATTACH;FMTTYPE=image/jpeg:https://septem.stghislain.be/wp-content/uploads/2024/06/cinema-un-ptit-truc-en-plus-artus-Septem-Culture_Saint_Ghislain-2024.jpg
ORGANIZER;CN="Septem":MAILTO:info@septem.stghislain.be
END:VEVENT
BEGIN:VEVENT
DTSTART;TZID=Europe/Brussels:20241126T133000
DTEND;TZID=Europe/Brussels:20241126T142000
DTSTAMP:20260423T143043
CREATED:20240612T090928Z
LAST-MODIFIED:20240612T090933Z
UID:10000680-1732627800-1732630800@septem.stghislain.be
SUMMARY:Contes pour éclairer la terre | Pascale Delagnes
DESCRIPTION:Genre : Contes et musiques \nThématique du spectacle : Courage\, avoir foi en soi\, persévérance\, révasser \nQuand le vent se lève et fait danser la cime des arbres\, l’accordéon se met à chanter et Renard pointe le bout de son nez. C’est le moment pour les histoires…Comment Grand ours\, écureuil et petit enfant ont retrouvé la lumière\, l’histoire d’une jeune femme qui sait parler aux loups et autres histoires de grenouilles\, d’éléphants et de vers de terre\, pour éclairer la Terre et allumer nos cœurs. \nP1 à P4 \nMédiation: \n\nPicardie laique : atelier philo en classe.\nLes animatrices de Septem peuvent intervenir dans les classes à la demande.\n\nLieux: \n\nMardi 5 novembre 2024 à 13h30 : Maison Villageoise\, Place d’Hautrage n°44\, 7334 Hautrage\nJeudi 7 novembre 2024 à 13h30 : Ecole de la Sainte-Famille\, Rue Louis Gobelet n°222\, 7331 Baudour\nMardi 26 novembre 2024 à 13h30 : Foyer Paroissial d’Hautrage-Etat \, Rue de l’Eglise n°14\, 7333 Tertre\nJeudi 28 novembre 2024 à 13h30 : Ecole Saint-Amand\, Rue du Salon n°9\, 7332 Sirault
URL:https://septem.stghislain.be/agenda/contes-pour-eclairer-la-terre/2024-11-26/
LOCATION:Voir description\, Belgique
CATEGORIES:Saint-Ghislain,Scolaires
ATTACH;FMTTYPE=image/jpeg:https://septem.stghislain.be/wp-content/uploads/2024/06/contes-pour-eclairer-la-terre-Septem-Culture_Saint_Ghislain-2024.jpg
ORGANIZER;CN="Septem":MAILTO:info@septem.stghislain.be
END:VEVENT
BEGIN:VEVENT
DTSTART;TZID=Europe/Brussels:20241126T133000
DTEND;TZID=Europe/Brussels:20241126T153000
DTSTAMP:20260423T143043
CREATED:20240617T091551Z
LAST-MODIFIED:20240923T115942Z
UID:10000723-1732627800-1732635000@septem.stghislain.be
SUMMARY:Cinéma | Un p’tit truc en plus
DESCRIPTION:1h 39min | ComédieDe Artus | Par Artus\, Milan MaugerAvec Artus\, Clovis Cornillac\, Marc RisoSynopsis:Pour échapper à la police\, un fils et son père en cavale sont contraints de trouver refuge dans une colonie de vacances pour jeunes adultes en situation de handicap\, se faisant passer pour un pensionnaire et son éducateur spécialisé. Le début des emmerdes et d’une formidable expérience humaine qui va les changer à jamais.
URL:https://septem.stghislain.be/agenda/un-ptit-truc-en-plus/
LOCATION:Les Jardins du Cloître\, 37 Grand Place\, Saint-Ghislain\, 7330\, Belgique
CATEGORIES:Cinéma,Films,Saint-Ghislain
ATTACH;FMTTYPE=image/jpeg:https://septem.stghislain.be/wp-content/uploads/2024/06/cinema-un-ptit-truc-en-plus-artus-Septem-Culture_Saint_Ghislain-2024.jpg
ORGANIZER;CN="Septem":MAILTO:info@septem.stghislain.be
END:VEVENT
BEGIN:VEVENT
DTSTART;TZID=Europe/Brussels:20241126T200000
DTEND;TZID=Europe/Brussels:20241126T213000
DTSTAMP:20260423T143043
CREATED:20240913T082803Z
LAST-MODIFIED:20240913T082808Z
UID:10000873-1732651200-1732656600@septem.stghislain.be
SUMMARY:JAZZ | Les lundis d’Hortense | Camille-Alban Spreng's ODIL + Nina Kortekaas
DESCRIPTION:ODIL est un groupe multi-forme de jazz et de musique improvisée basé à Bruxelles. Avec un large éventail d’influences (Jim Black\, Tim Berne\, Kneebody\, Carla Bley) et l’énergie d’un groupe de rock\, leur musique touche un large public\, de l’amateur de musique improvisée aux fans de riffs sauvages. Le groupe a sorti trois albums : Something (QFTF\, 2016)\, RESON feat. Leila Martial\, Valentin Ceccaldi (QFTF\, 2018) et Unheimlich feat. Nina Kortekaas (W.E.R.F. records\, 2023). \nCe nouveau disque est né de la passion de Camille-Alban pour les auteurs de la Beat generation. Sublimés par la voix de la chanteuse Nina Kortekaas (Noa Lee)\, des poèmes d’Allen Ginsberg sont mis en musique\, notamment ‘White Shroud’ et ‘Pull My Daisy’ (véritable hymne symbolique du mouvement\, coécrit par Allen Ginsberg\, Jack Kerouac et Neal Cassady). Les textes que Camille-Alban a lui-même écrits pour le reste de l’album dégagent la même ambiance beatnik.
URL:https://septem.stghislain.be/agenda/odil-kortekaas-jazz/
LOCATION:Les Jardins du Cloître\, 37 Grand Place\, Saint-Ghislain\, 7330\, Belgique
CATEGORIES:Concerts,Musique,Saint-Ghislain
ATTACH;FMTTYPE=image/jpeg:https://septem.stghislain.be/wp-content/uploads/2024/09/Jazz-ODIL-Nina-Kortekaas-Septem-Culture_Saint_Ghislain-2024.jpg
ORGANIZER;CN="Septem":MAILTO:info@septem.stghislain.be
END:VEVENT
END:VCALENDAR