BEGIN:VCALENDAR
VERSION:2.0
PRODID:-//Septem - ECPv6.0.13.1//NONSGML v1.0//EN
CALSCALE:GREGORIAN
METHOD:PUBLISH
X-WR-CALNAME:Septem
X-ORIGINAL-URL:https://septem.stghislain.be
X-WR-CALDESC:évènements pour Septem
REFRESH-INTERVAL;VALUE=DURATION:PT1H
X-Robots-Tag:noindex
X-PUBLISHED-TTL:PT1H
BEGIN:VTIMEZONE
TZID:Europe/Brussels
BEGIN:DAYLIGHT
TZOFFSETFROM:+0100
TZOFFSETTO:+0200
TZNAME:CEST
DTSTART:20240331T010000
END:DAYLIGHT
BEGIN:STANDARD
TZOFFSETFROM:+0200
TZOFFSETTO:+0100
TZNAME:CET
DTSTART:20241027T010000
END:STANDARD
END:VTIMEZONE
BEGIN:VEVENT
DTSTART;TZID=Europe/Brussels:20241113T143000
DTEND;TZID=Europe/Brussels:20241113T160000
DTSTAMP:20260423T155707
CREATED:20241004T105938Z
LAST-MODIFIED:20241004T105943Z
UID:10000908-1731508200-1731513600@septem.stghislain.be
SUMMARY:Ateliers Guitare avec Carlo Vargiu de 7 à 12 ans
DESCRIPTION:Plongez dans le monde de la musique lors de nos ateliers musicaux dirigés par Carlo Vargiu. Que vous soyez un jeune mélomane curieux ou un passionné plus expérimenté\, ces ateliers sont conçus pour vous faire vibrer au rythme de la musique\, sans aucune prérequis en solfège ! \nHoraires: \nPour les 7 à 12 ans: 14h30 – 16h00\nPour les participants de plus de 13 ans: 16h30 – 18h00\nInstruments: Guitare (Veuillez apporter votre propre guitare) \nCes ateliers sont spécialement adaptés aux débutants\, offrant une introduction ludique et enrichissante à la guitare et à la musique en général. Les participants auront l’occasion d’apprendre les bases de la guitare\, de jouer en groupe et de développer leur passion pour la musique. \nRejoignez-nous pour une semaine pleine de notes\, de rythmes et de découvertes musicales. Les places sont limitées\, alors réservez dès maintenant pour garantir votre participation !
URL:https://septem.stghislain.be/agenda/guitare-7-12/2024-11-13/
LOCATION:Les Jardins du Cloître\, 37 Grand Place\, Saint-Ghislain\, 7330\, Belgique
CATEGORIES:Ateliers,Jeune public,Musique,Saint-Ghislain
ATTACH;FMTTYPE=image/jpeg:https://septem.stghislain.be/wp-content/uploads/2024/05/ateliers-musicaux-Carlo-Balgiu-Septem-Culture_Saint_Ghislain-2024.jpg
ORGANIZER;CN="Septem":MAILTO:info@septem.stghislain.be
END:VEVENT
BEGIN:VEVENT
DTSTART;TZID=Europe/Brussels:20241113T163000
DTEND;TZID=Europe/Brussels:20241113T180000
DTSTAMP:20260423T155707
CREATED:20241004T110753Z
LAST-MODIFIED:20241004T110758Z
UID:10000920-1731515400-1731520800@septem.stghislain.be
SUMMARY:Ateliers Guitare avec Carlo Vargiu pour les plus de 13 ans
DESCRIPTION:Plongez dans le monde de la musique lors de nos ateliers musicaux dirigés par Carlo Vargiu. Que vous soyez un jeune mélomane curieux ou un passionné plus expérimenté\, ces ateliers sont conçus pour vous faire vibrer au rythme de la musique\, sans aucune prérequis en solfège ! \nHoraires: \nPour les 7 à 12 ans: 14h30 – 16h00\nPour les participants de plus de 13 ans: 16h30 – 18h00\nInstruments: Guitare (Veuillez apporter votre propre guitare) \nCes ateliers sont spécialement adaptés aux débutants\, offrant une introduction ludique et enrichissante à la guitare et à la musique en général. Les participants auront l’occasion d’apprendre les bases de la guitare\, de jouer en groupe et de développer leur passion pour la musique. \nRejoignez-nous pour une semaine pleine de notes\, de rythmes et de découvertes musicales. Les places sont limitées\, alors réservez dès maintenant pour garantir votre participation !
URL:https://septem.stghislain.be/agenda/guitare-13/2024-11-13/
LOCATION:Les Jardins du Cloître\, 37 Grand Place\, Saint-Ghislain\, 7330\, Belgique
CATEGORIES:Ateliers,Jeune public,Musique,Saint-Ghislain
ATTACH;FMTTYPE=image/jpeg:https://septem.stghislain.be/wp-content/uploads/2024/05/ateliers-musicaux-Carlo-Balgiu-Septem-Culture_Saint_Ghislain-2024.jpg
ORGANIZER;CN="Septem":MAILTO:info@septem.stghislain.be
END:VEVENT
BEGIN:VEVENT
DTSTART;TZID=Europe/Brussels:20241113T200000
DTEND;TZID=Europe/Brussels:20241113T210000
DTSTAMP:20260423T155707
CREATED:20240809T102102Z
LAST-MODIFIED:20240810T070824Z
UID:10000813-1731528000-1731531600@septem.stghislain.be
SUMMARY:Théâtre | My Mother | Isabelle Antoine
DESCRIPTION:Isabelle Antoine nous présente deuxième one woman show. Après « Isa dans tous ses états  » voici « My mother » \nLes relations mère-fille peuvent magnifiquement compliquées. \nCar si le lien qui les unit est unique\, il est aussi et surtout complexe. \nCette relation\, l’auteure a souhaité la décomplexer en proposant une pièce théâtrale aussi drôle qu’émouvante. \nLa comédienne nous explique : » On parle ici d’une mère particulière parce qu’elle est encombrante\, étouffante\, castratrice voire destructrice même. \nC’est un personnage très théâtral\, ce qui me permet de l’imiter et d’en faire rire\, mais aussi d’être dans l’émotion car elle peut être touchante et se révéler d’une fragile flamboyance ». \nUn spectacle poignant écrit et joué par Isabelle Antoine dans une mise en scène de Claudie Rion.
URL:https://septem.stghislain.be/agenda/my-mother-isabelle-antoine/
LOCATION:Les Jardins du Cloître\, 37 Grand Place\, Saint-Ghislain\, 7330\, Belgique
CATEGORIES:Saint-Ghislain,Spectacle,Théâtre
ATTACH;FMTTYPE=image/png:https://septem.stghislain.be/wp-content/uploads/2024/08/theatre-isabelle-antoine-my-mother-Septem-Culture_Saint_Ghislain-2024-1.png
ORGANIZER;CN="Septem":MAILTO:info@septem.stghislain.be
END:VEVENT
END:VCALENDAR