BEGIN:VCALENDAR
VERSION:2.0
PRODID:-//Septem - ECPv6.0.13.1//NONSGML v1.0//EN
CALSCALE:GREGORIAN
METHOD:PUBLISH
X-ORIGINAL-URL:https://septem.stghislain.be
X-WR-CALDESC:évènements pour Septem
REFRESH-INTERVAL;VALUE=DURATION:PT1H
X-Robots-Tag:noindex
X-PUBLISHED-TTL:PT1H
BEGIN:VTIMEZONE
TZID:Europe/Brussels
BEGIN:DAYLIGHT
TZOFFSETFROM:+0100
TZOFFSETTO:+0200
TZNAME:CEST
DTSTART:20240331T010000
END:DAYLIGHT
BEGIN:STANDARD
TZOFFSETFROM:+0200
TZOFFSETTO:+0100
TZNAME:CET
DTSTART:20241027T010000
END:STANDARD
END:VTIMEZONE
BEGIN:VEVENT
DTSTART;TZID=Europe/Brussels:20241108T200000
DTEND;TZID=Europe/Brussels:20241108T213000
DTSTAMP:20260423T155824
CREATED:20240919T083300Z
LAST-MODIFIED:20240919T083305Z
UID:10000891-1731096000-1731101400@septem.stghislain.be
SUMMARY:Concert | La vie d’une femme | The Virago Symphonic Orchestra
DESCRIPTION:Aurélie Dorzée & The Virago Symphonic Orchestra: Cette création est une collaboration entre la musicienne Aurélie Dorzée (violon\, viole d’amour\, voix & … scie musicale ) et le Virago Symphonic Orchestra\, un orchestre féminin\, dirigé par Pascale Van Os. Elles interprèteront des compositions de et avec Aurélie Dorzée.D’une voix vertigineuse\, douce et acrobatique et avec une élégance sans faille\, la musique oscille entre folk féerique & classique.C’est une ballade musicale d’une exquise délicatesse dans la vie d’une femme \nAurélie Dorzée (soliste): Diplômée des différents Conservatoires royaux: Bruxelles\, Liège et Mons\, elle est active dans les musiques actuelles (traditionnelles\, improvisation) depuis 25 ans et s’est produit dans les plus belles salles et festivals d’Europe aux côtés de Tom Theuns\, Trio Trad\, Panta Rhei\, Steve Houben\, Youssou N’Dour\, José Van Dam\, Bernard Foccroule\, Areski Elle a reçu le Flander Folk Award « Best Live band » pour son duo avec Tom Theuns et leur duo est Nr4 European Charts world music. Dans les pas d’Iva Bittova\, cette artiste aux talents multiples souffle un vent de liberté. Elle est dotée d’une personnalité riche et curieuse. Fille de comédien\, sa musique est un théâtre ! \nVirago Symphonic Orchestra \nEline Cote se consacre depuis 8 ans à l’égalité des genres dans la musique classique du monde occidental. Pour remédier à cette inégalité\, elle a fondé le « Virago Symphonic Orchestra » en 2019. L’orchestre est composé de femmes talentueuses\, dir. Pascale Van Os\, chef d’orchestre\, et n’interprète que de la musique de compositrices. Eline a étudié au Conservatoire Royal d’Anvers\, où elle a obtenu en 2020 son Master ans la section projets créatifs avec grande distinction et une grande distinction pour le Master en arts de la scène : Contrebasse. Elle est directrice musicale de son propre orchestre\, le Virago Symphonic Orchestra\, qu’elle a fondé à l’âge de 20 ans\, et elle donne également des conférences sur ce sujet. Elle est également co-directrice du ‘Lilith Ensemble’. Cet ensemble interprète exclusivement de la musique de compositrices\, et opte pour une occupation proportionnelle du genre au sein même de l’ensemble. Eline est également membre du conseil d’administration de l’IAWM\, ‘International Alliance for Women in Music’\, où elle a également été nommée ‘Concert Chair’. \nwww.viragosymphonicorchestra.com \n\nAwards2007 : album of the year by national radiostation KLARA2014 « Coup de coeur » Québec « La création du monde »2014 et 2016 nominé aux Octaves de la Musique2021 FLEMISH FOLK AWARD for « Best Live Band »2022 Nr 4 au European Charts « World Music »« Best Album » radio KLARAPascale Van Os received the Ernest van der Eycken Award as an aspiring conductor.
URL:https://septem.stghislain.be/agenda/la-vie-d-une-femme/
LOCATION:Les Jardins du Cloître\, 37 Grand Place\, Saint-Ghislain\, 7330\, Belgique
CATEGORIES:Concerts,Musique,Saint-Ghislain
ATTACH;FMTTYPE=image/jpeg:https://septem.stghislain.be/wp-content/uploads/2024/09/The-Virago-Symphonic-Orchestra-Septem-Culture_Saint_Ghislain-2024-Septem-Culture_Saint_Ghislain-2024.jpg
ORGANIZER;CN="Septem":MAILTO:info@septem.stghislain.be
END:VEVENT
END:VCALENDAR