BEGIN:VCALENDAR
VERSION:2.0
PRODID:-//Septem - ECPv6.0.13.1//NONSGML v1.0//EN
CALSCALE:GREGORIAN
METHOD:PUBLISH
X-ORIGINAL-URL:https://septem.stghislain.be
X-WR-CALDESC:évènements pour Septem
REFRESH-INTERVAL;VALUE=DURATION:PT1H
X-Robots-Tag:noindex
X-PUBLISHED-TTL:PT1H
BEGIN:VTIMEZONE
TZID:Europe/Brussels
BEGIN:DAYLIGHT
TZOFFSETFROM:+0100
TZOFFSETTO:+0200
TZNAME:CEST
DTSTART:20240331T010000
END:DAYLIGHT
BEGIN:STANDARD
TZOFFSETFROM:+0200
TZOFFSETTO:+0100
TZNAME:CET
DTSTART:20241027T010000
END:STANDARD
END:VTIMEZONE
BEGIN:VEVENT
DTSTART;TZID=Europe/Brussels:20241005T100000
DTEND;TZID=Europe/Brussels:20241107T163000
DTSTAMP:20260423T155826
CREATED:20240910T072711Z
LAST-MODIFIED:20241007T071740Z
UID:10000858-1728122400-1730997000@septem.stghislain.be
SUMMARY:Exposition | Déesses et hiercheuses
DESCRIPTION:Célèbre la force endurante des femmes à travers le prisme des déesses\, ré-imaginées pour l’ère moderne. \nÀ l’aube du XXe siècle\, alors que les paysages industriels émergent dans un tumulte de machines\, de bruit assourdissant et de suie omniprésente\, les femmes travaillant dans les mines se forgent des existences marquées par des épreuves incessantes\, mais également par une résilience hors du commun. Ces héroïnes silencieuses\, trop souvent laissées en marge des récits historiques\, sont aujourd’hui mises à l’honneur dans une exposition bouleversante. « Déesses et Hiercheuses » leur rend hommage\, les érigeant en symboles de persévérance et de courage. \nÀ travers une sélection minutieuse de photographies d’époque\, d’objets personnels poignants et de récits authentiques\, l’exposition nous plonge dans le quotidien de ces femmes dont le labeur acharné a soutenu\, presque dans l’ombre\, l’essor de l’industrie moderne. Elles deviennent\, sous nos yeux\, les piliers méconnus d’une époque révolue\, et leurs histoires résonnent encore\, vibrantes de cette humanité souvent oubliée\, mais ô combien essentielle. \nEn parallèle à la réalité âpre des mines\, se déploie un autre univers : celui des scènes brillantes d’opéra\, où les visages des divas capturés dans des instants de grâce et d’émotion pure témoignent du pouvoir éternel de l’art. Chaque portrait devient un miroir de l’âme\, une invitation à plonger dans la beauté du moment et à dialoguer avec des époques où l’expression artistique transcende les mots. Les étoiles de l’opéra\, dans toute leur splendeur\, nous rappellent que l’art\, même face aux pires épreuves\, possède ce don unique de nous élever\, de nous émouvoir\, et de nous inspirer. \nEntre ces deux mondes – celui des mines et celui des scènes lyriques – surgit une forme d’alchimie moderne. Les portraits générés par intelligence artificielle\, à la croisée des réalités historiques et des imaginaires artistiques\, tissent un pont inédit entre les vies concrètes des mineures et les représentations réinventées des divas. Ces créations\, empreintes de technologie\, réinventent ces figures emblématiques et nous offrent une nouvelle lecture\, à la fois tangible et rêvée\, de leur existence et de leur héritage. \n			\n				\n				\n				\n				\n				\n\nUne présentation de Septem en partenariat avec Transcultures.\nCommissaire : Olivier Guyaux – Le Conservatoire numérique asbl\nImages croisées provenant des archives de : Musée de la Photographie à Charleroi\, Musée de la Vie Wallonne – Province de Liège\, Musée de la Mine et du Développement Durable à Bois-du-Luc\, Tiny Gallery à Bruxelles\, Maison de la Métallurgie et de l’Industrie à Liège\, Archives et Musée de la Littérature à Bruxelles\, Collection du Musée des Beaux-Arts de Mons\, propriété de la Ville de Mons\, en dépôt à l’Artothèque\, Service Général du Patrimoine de la Fédération Wallonie-Bruxelles – Pep’s\n\n\n			\n				Livret de l'exposition
URL:https://septem.stghislain.be/agenda/expo-deesses-hiercheuses/
LOCATION:Couvent d’Hautrage\, Grand'Place\, Hautrage\, 7334
CATEGORIES:Expositions,Saint-Ghislain
ATTACH;FMTTYPE=image/jpeg:https://septem.stghislain.be/wp-content/uploads/2024/09/exposition-deesses-et-hiercheuses-Septem-Culture_Saint_Ghislain-2024.jpg
ORGANIZER;CN="Septem":MAILTO:info@septem.stghislain.be
END:VEVENT
BEGIN:VEVENT
DTSTART;TZID=Europe/Brussels:20241029T190000
DTEND;TZID=Europe/Brussels:20241029T210000
DTSTAMP:20260423T155826
CREATED:20241017T052009Z
LAST-MODIFIED:20241017T052014Z
UID:10000943-1730228400-1730235600@septem.stghislain.be
SUMMARY:Cinéma | Furiosa : Une saga Mad Max
DESCRIPTION:De George Miller – 2024 \nScience-fiction post-apocalyptique – 148 minutes \nAvec Anya Taylor-Joy\, Chris Hemsworth\, Tom Burke\, … \n\nDix ans après « Fury Road »\, Georges Miller retrouve le personnage de Furiosa (alors interprété par Charlize Theron) sous la forme d’une préquelle en racontant sa jeunesse\, son parcours épique et sa construction de future impératrice de ce monde apocalyptique. Il donne ainsi plus de consistance au personnage lui-même et à son environnement. Tout commence donc quand la petite Furiosa est enlevée et sa mère tuée par le tout puissant maître de guerre Dementus… Dès scènes d’action époustouflantes enchaînées sur un rythme infernal\, des décors néo planétaires… Toute la puissance et l’inventivité d’un grand spectacle cinématographique.
URL:https://septem.stghislain.be/agenda/cinema-furiosa-une-saga-mad-max/
LOCATION:Les Jardins du Cloître\, 37 Grand Place\, Saint-Ghislain\, 7330\, Belgique
CATEGORIES:Cinéma,En famille,Films,Saint-Ghislain
ATTACH;FMTTYPE=image/jpeg:https://septem.stghislain.be/wp-content/uploads/2024/10/cinema-mad-max-furiosa-Septem-Culture_Saint_Ghislain-2024.jpg
ORGANIZER;CN="Septem":MAILTO:info@septem.stghislain.be
END:VEVENT
BEGIN:VEVENT
DTSTART;TZID=Europe/Brussels:20241029T190000
DTEND;TZID=Europe/Brussels:20241029T213000
DTSTAMP:20260423T155826
CREATED:20240909T075208Z
LAST-MODIFIED:20240909T075212Z
UID:10000849-1730228400-1730237400@septem.stghislain.be
SUMMARY:Cinema | Furiosa : Une saga Mad Max
DESCRIPTION:De George Miller – 2024 \nScience-fiction post-apocalyptique – 148 minutes \nAvec Anya Taylor-Joy\, Chris Hemsworth\, Tom Burke\, … \n\nDix ans après « Fury Road »\, Georges Miller retrouve le personnage de Furiosa (alors interprété par Charlize Theron) sous la forme d’une préquelle en racontant sa jeunesse\, son parcours épique et sa construction de future impératrice de ce monde apocalyptique. Il donne ainsi plus de consistance au personnage lui-même et à son environnement. Tout commence donc quand la petite Furiosa est enlevée et sa mère tuée par le tout puissant maître de guerre Dementus… Dès scènes d’action époustouflantes enchaînées sur un rythme infernal\, des décors néo planétaires… Toute la puissance et l’inventivité d’un grand spectacle cinématographique.
URL:https://septem.stghislain.be/agenda/furiosa/
LOCATION:Les Jardins du Cloître\, 37 Grand Place\, Saint-Ghislain\, 7330\, Belgique
CATEGORIES:Ciné Famille,Films,Saint-Ghislain
ATTACH;FMTTYPE=image/png:https://septem.stghislain.be/wp-content/uploads/2024/08/cinema-furiosa-mad-max-Septem-Culture_Saint_Ghislain-2024.png
ORGANIZER;CN="Septem":MAILTO:info@septem.stghislain.be
END:VEVENT
END:VCALENDAR