BEGIN:VCALENDAR
VERSION:2.0
PRODID:-//Septem - ECPv6.0.13.1//NONSGML v1.0//EN
CALSCALE:GREGORIAN
METHOD:PUBLISH
X-WR-CALNAME:Septem
X-ORIGINAL-URL:https://septem.stghislain.be
X-WR-CALDESC:évènements pour Septem
REFRESH-INTERVAL;VALUE=DURATION:PT1H
X-Robots-Tag:noindex
X-PUBLISHED-TTL:PT1H
BEGIN:VTIMEZONE
TZID:Europe/Brussels
BEGIN:DAYLIGHT
TZOFFSETFROM:+0100
TZOFFSETTO:+0200
TZNAME:CEST
DTSTART:20240331T010000
END:DAYLIGHT
BEGIN:STANDARD
TZOFFSETFROM:+0200
TZOFFSETTO:+0100
TZNAME:CET
DTSTART:20241027T010000
END:STANDARD
END:VTIMEZONE
BEGIN:VEVENT
DTSTART;TZID=Europe/Brussels:20241005T100000
DTEND;TZID=Europe/Brussels:20241107T163000
DTSTAMP:20260423T184242
CREATED:20240910T072711Z
LAST-MODIFIED:20241007T071740Z
UID:10000858-1728122400-1730997000@septem.stghislain.be
SUMMARY:Exposition | Déesses et hiercheuses
DESCRIPTION:Célèbre la force endurante des femmes à travers le prisme des déesses\, ré-imaginées pour l’ère moderne. \nÀ l’aube du XXe siècle\, alors que les paysages industriels émergent dans un tumulte de machines\, de bruit assourdissant et de suie omniprésente\, les femmes travaillant dans les mines se forgent des existences marquées par des épreuves incessantes\, mais également par une résilience hors du commun. Ces héroïnes silencieuses\, trop souvent laissées en marge des récits historiques\, sont aujourd’hui mises à l’honneur dans une exposition bouleversante. « Déesses et Hiercheuses » leur rend hommage\, les érigeant en symboles de persévérance et de courage. \nÀ travers une sélection minutieuse de photographies d’époque\, d’objets personnels poignants et de récits authentiques\, l’exposition nous plonge dans le quotidien de ces femmes dont le labeur acharné a soutenu\, presque dans l’ombre\, l’essor de l’industrie moderne. Elles deviennent\, sous nos yeux\, les piliers méconnus d’une époque révolue\, et leurs histoires résonnent encore\, vibrantes de cette humanité souvent oubliée\, mais ô combien essentielle. \nEn parallèle à la réalité âpre des mines\, se déploie un autre univers : celui des scènes brillantes d’opéra\, où les visages des divas capturés dans des instants de grâce et d’émotion pure témoignent du pouvoir éternel de l’art. Chaque portrait devient un miroir de l’âme\, une invitation à plonger dans la beauté du moment et à dialoguer avec des époques où l’expression artistique transcende les mots. Les étoiles de l’opéra\, dans toute leur splendeur\, nous rappellent que l’art\, même face aux pires épreuves\, possède ce don unique de nous élever\, de nous émouvoir\, et de nous inspirer. \nEntre ces deux mondes – celui des mines et celui des scènes lyriques – surgit une forme d’alchimie moderne. Les portraits générés par intelligence artificielle\, à la croisée des réalités historiques et des imaginaires artistiques\, tissent un pont inédit entre les vies concrètes des mineures et les représentations réinventées des divas. Ces créations\, empreintes de technologie\, réinventent ces figures emblématiques et nous offrent une nouvelle lecture\, à la fois tangible et rêvée\, de leur existence et de leur héritage. \n			\n				\n				\n				\n				\n				\n\nUne présentation de Septem en partenariat avec Transcultures.\nCommissaire : Olivier Guyaux – Le Conservatoire numérique asbl\nImages croisées provenant des archives de : Musée de la Photographie à Charleroi\, Musée de la Vie Wallonne – Province de Liège\, Musée de la Mine et du Développement Durable à Bois-du-Luc\, Tiny Gallery à Bruxelles\, Maison de la Métallurgie et de l’Industrie à Liège\, Archives et Musée de la Littérature à Bruxelles\, Collection du Musée des Beaux-Arts de Mons\, propriété de la Ville de Mons\, en dépôt à l’Artothèque\, Service Général du Patrimoine de la Fédération Wallonie-Bruxelles – Pep’s\n\n\n			\n				Livret de l'exposition
URL:https://septem.stghislain.be/agenda/expo-deesses-hiercheuses/
LOCATION:Couvent d’Hautrage\, Grand'Place\, Hautrage\, 7334
CATEGORIES:Expositions,Saint-Ghislain
ATTACH;FMTTYPE=image/jpeg:https://septem.stghislain.be/wp-content/uploads/2024/09/exposition-deesses-et-hiercheuses-Septem-Culture_Saint_Ghislain-2024.jpg
ORGANIZER;CN="Septem":MAILTO:info@septem.stghislain.be
END:VEVENT
BEGIN:VEVENT
DTSTART;TZID=Europe/Brussels:20241021T200000
DTEND;TZID=Europe/Brussels:20241021T213000
DTSTAMP:20260423T184242
CREATED:20240618T093055Z
LAST-MODIFIED:20240619T115431Z
UID:10000745-1729540800-1729546200@septem.stghislain.be
SUMMARY:Exploration du monde | « Il était une fois Hong Kong »
DESCRIPTION:Hong Kong\, mégalopole des contrastes et des extravagances\, exhibe\, sans retenue\, son modernisme outrancier mais\, au-delà du décor flamboyant\, la vie s’épanouit au rythme de coutumes et de célébrations parfois séculaires dans des marchés de rue colorés\, dans de petits ports de pêche ou dans les Nouveaux Territoires qui offrent à la nature des espaces préservés.\nCent cinquante-six ans d’une histoire invraisemblable écrite aux confins de l’Empire du Milieu par des officiers britanniques\, des aventuriers\, des trafiquants et des marchands prospères ont fait de Hong Kong un lieu fascinant\, unique au monde\, où le mythe et la réalité ont toujours malicieusement fusionné. \nCarrefour de l’Orient et de l’Occident\, le “port aux parfums”\, un îlot désolé et rocailleux des Mers de Chine\, est devenu\, au fil du temps\, le “miracle économique” que l’on sait ! Ce paradis du capitalisme sauvage\, qui s’est toujours parfaitement adapté à tous les bouleversements que l’histoire ou l’économie lui ont imposés\, est\, aujourd’hui\, une place financière et commerciale de première importance.  \nLe 1er juillet 1997\, la rétrocession de ce joyau de la couronne britannique à la Chine populaire a indéniablement assombri les esprits\, rigoureusement clôturé un espace de liberté et définitivement tourné la page d’un temps\, désormais\, révolu. Le Territoire ne sera plus ce qu’il fut ! \nPour autant\, Hong Kong reste à découvrir\, la réalité est\, en effet\, bien différente de l’image stéréotypée qui nous en est trop souvent proposée. \nAu-delà des gratte-ciels futuristes\, des quartiers surpeuplés et des vitrines inondées de néons apparaît une société singulière où se perpétuent\, face au modernisme souvent outrancier\, d’innombrables coutumes et célébrations\, où des sampans traditionnels sillonnent\, comme autrefois\, les eaux de petits ports de pêche\, où des espaces naturels quasi vierges résistent à la gloutonnerie du béton !  \nRobert-Emile CANAT nous propose dans ce film étonnant de découvrir Hong Kong dans ses évidences et ses extravagances\, tel que nous pensions le connaître mais ne pouvions l’imaginer !
URL:https://septem.stghislain.be/agenda/hong-kong/
LOCATION:Les Jardins du Cloître\, 37 Grand Place\, Saint-Ghislain\, 7330\, Belgique
CATEGORIES:Cinéma,Documentaires,Explo du Monde,Films,Saint-Ghislain
ATTACH;FMTTYPE=image/jpeg:https://septem.stghislain.be/wp-content/uploads/2024/06/exploration-du-monde-hong-kongSeptem-Culture_Saint_Ghislain-2024.jpg
ORGANIZER;CN="Septem":MAILTO:info@septem.stghislain.be
END:VEVENT
END:VCALENDAR