BEGIN:VCALENDAR
VERSION:2.0
PRODID:-//Septem - ECPv6.0.13.1//NONSGML v1.0//EN
CALSCALE:GREGORIAN
METHOD:PUBLISH
X-WR-CALNAME:Septem
X-ORIGINAL-URL:https://septem.stghislain.be
X-WR-CALDESC:évènements pour Septem
REFRESH-INTERVAL;VALUE=DURATION:PT1H
X-Robots-Tag:noindex
X-PUBLISHED-TTL:PT1H
BEGIN:VTIMEZONE
TZID:Europe/Brussels
BEGIN:DAYLIGHT
TZOFFSETFROM:+0100
TZOFFSETTO:+0200
TZNAME:CEST
DTSTART:20240331T010000
END:DAYLIGHT
BEGIN:STANDARD
TZOFFSETFROM:+0200
TZOFFSETTO:+0100
TZNAME:CET
DTSTART:20241027T010000
END:STANDARD
END:VTIMEZONE
BEGIN:VEVENT
DTSTART;TZID=Europe/Brussels:20241001T133000
DTEND;TZID=Europe/Brussels:20241001T153000
DTSTAMP:20260423T184242
CREATED:20240617T080447Z
LAST-MODIFIED:20240617T080451Z
UID:10000713-1727789400-1727796600@septem.stghislain.be
SUMMARY:Cinéma | La Zone d'intérêt
DESCRIPTION:1h 45min | Drame\, Historique\, GuerreDe Jonathan Glazer | Par Jonathan GlazerAvec Christian Friedel\, Sandra Hüller\, Johann KarthausSynopsis:Le commandant d’Auschwitz\, Rudolf Höss\, et sa femme Hedwig s’efforcent de construire une vie de rêve pour leur famille dans une maison avec jardin à côté du camp.
URL:https://septem.stghislain.be/agenda/la-zone-d-interet/2024-10-01/1/
LOCATION:Les Jardins du Cloître\, 37 Grand Place\, Saint-Ghislain\, 7330\, Belgique
CATEGORIES:Cinéma,Films,Saint-Ghislain
ATTACH;FMTTYPE=image/jpeg:https://septem.stghislain.be/wp-content/uploads/2024/06/cinema-la-zone-d-interet-Septem-Culture_Saint_Ghislain-2024.jpg
ORGANIZER;CN="Septem":MAILTO:info@septem.stghislain.be
END:VEVENT
BEGIN:VEVENT
DTSTART;TZID=Europe/Brussels:20241001T193000
DTEND;TZID=Europe/Brussels:20241001T213000
DTSTAMP:20260423T184242
CREATED:20240617T080447Z
LAST-MODIFIED:20240617T080451Z
UID:10000714-1727811000-1727818200@septem.stghislain.be
SUMMARY:Cinéma | La Zone d'intérêt
DESCRIPTION:1h 45min | Drame\, Historique\, GuerreDe Jonathan Glazer | Par Jonathan GlazerAvec Christian Friedel\, Sandra Hüller\, Johann KarthausSynopsis:Le commandant d’Auschwitz\, Rudolf Höss\, et sa femme Hedwig s’efforcent de construire une vie de rêve pour leur famille dans une maison avec jardin à côté du camp.
URL:https://septem.stghislain.be/agenda/la-zone-d-interet/2024-10-01/2/
LOCATION:Les Jardins du Cloître\, 37 Grand Place\, Saint-Ghislain\, 7330\, Belgique
CATEGORIES:Cinéma,Films,Saint-Ghislain
ATTACH;FMTTYPE=image/jpeg:https://septem.stghislain.be/wp-content/uploads/2024/06/cinema-la-zone-d-interet-Septem-Culture_Saint_Ghislain-2024.jpg
ORGANIZER;CN="Septem":MAILTO:info@septem.stghislain.be
END:VEVENT
END:VCALENDAR