BEGIN:VCALENDAR
VERSION:2.0
PRODID:-//Septem - ECPv6.0.13.1//NONSGML v1.0//EN
CALSCALE:GREGORIAN
METHOD:PUBLISH
X-ORIGINAL-URL:https://septem.stghislain.be
X-WR-CALDESC:évènements pour Septem
REFRESH-INTERVAL;VALUE=DURATION:PT1H
X-Robots-Tag:noindex
X-PUBLISHED-TTL:PT1H
BEGIN:VTIMEZONE
TZID:Europe/Brussels
BEGIN:DAYLIGHT
TZOFFSETFROM:+0100
TZOFFSETTO:+0200
TZNAME:CEST
DTSTART:20240331T010000
END:DAYLIGHT
BEGIN:STANDARD
TZOFFSETFROM:+0200
TZOFFSETTO:+0100
TZNAME:CET
DTSTART:20241027T010000
END:STANDARD
END:VTIMEZONE
BEGIN:VEVENT
DTSTART;TZID=Europe/Brussels:20240929T163000
DTEND;TZID=Europe/Brussels:20240929T173000
DTSTAMP:20260423T213848
CREATED:20240829T140927Z
LAST-MODIFIED:20240829T140931Z
UID:10000848-1727627400-1727631000@septem.stghislain.be
SUMMARY:Théâtre & Spectacle | Journée internationale des Aînés
DESCRIPTION:Le dimanche 29 septembre\, la Ville de Saint-Ghislain vous donne rendez-vous aux Jardins du Cloître pour sa traditionnelle journée dédiée aux seniors. \nAu programme16h30 : spectacle « Un peu d’amour et d’humanité » par Gil Depreter \n\nInformations pratiquesInscriptions gratuites mais obligatoires au 065 76 19 24 ou valentine.pilotta@saint-ghislain.beMise à disposition gratuite du Taxi Loisirs pour les personnes âgées et/ou à mobilité réduite : 065 76 19 97
URL:https://septem.stghislain.be/agenda/journer-internationale-des-aines/
LOCATION:Les Jardins du Cloître\, 37 Grand Place\, Saint-Ghislain\, 7330\, Belgique
CATEGORIES:Saint-Ghislain,Spectacle,Théâtre
ATTACH;FMTTYPE=image/jpeg:https://septem.stghislain.be/wp-content/uploads/2024/08/Images-site.jpg
ORGANIZER;CN="Septem":MAILTO:info@septem.stghislain.be
END:VEVENT
END:VCALENDAR