BEGIN:VCALENDAR
VERSION:2.0
PRODID:-//Septem - ECPv6.0.13.1//NONSGML v1.0//EN
CALSCALE:GREGORIAN
METHOD:PUBLISH
X-ORIGINAL-URL:https://septem.stghislain.be
X-WR-CALDESC:évènements pour Septem
REFRESH-INTERVAL;VALUE=DURATION:PT1H
X-Robots-Tag:noindex
X-PUBLISHED-TTL:PT1H
BEGIN:VTIMEZONE
TZID:Europe/Brussels
BEGIN:DAYLIGHT
TZOFFSETFROM:+0100
TZOFFSETTO:+0200
TZNAME:CEST
DTSTART:20240331T010000
END:DAYLIGHT
BEGIN:STANDARD
TZOFFSETFROM:+0200
TZOFFSETTO:+0100
TZNAME:CET
DTSTART:20241027T010000
END:STANDARD
END:VTIMEZONE
BEGIN:VEVENT
DTSTART;TZID=Europe/Brussels:20240927T200000
DTEND;TZID=Europe/Brussels:20240927T220000
DTSTAMP:20260423T202251
CREATED:20240701T140631Z
LAST-MODIFIED:20240923T060344Z
UID:10000787-1727467200-1727474400@septem.stghislain.be
SUMMARY:FRANC'OURSE | CLEMIX en exclusivité pour Septem | Première partie: Simon Danhier
DESCRIPTION:C’est la Fête de la Fédération Wallonie-Bruxelles !\nDans le cadre de la Fête de la Fédération Wallonie-Bruxelles avec le soutien de Court-Circuit \nEntre chanson française\, hip hop électro et disco funky\, l’artiste belge Clemix raconte avec humour et ironie ses histoires joyeusement désabusées. Cette One-Woman-Show\, chanteuse\, compositrice\, productrice et pianiste\, vogue avec aisance entre l’énergie funky d’un set électro et l’ambiance intimiste du piano-voix. Après 2 EP électroniques\, un EP piano-voix\, une belle série de clips\, plusieurs sélections et une centaine de dates explosives en Belgique\, France\, Suisse et Canada\, Clemix prépare la sortie de son premier album qui réunira toutes les facettes de sa personnalité et qui sera à son image: libre\, pluriel et décomplexé.SELECTIONS & PRIX: Sélection Francosessions 2018: accompagnement par le Studio des Variétés de Paris / Finaliste du Parcours Francofaune 2018 / Prix des Arts de la Scène CC Evere 2018 / Finaliste Franc’off 2018 (Francofolies de Spa\, 2018) / Sélection « Terre de Chanson » (Le Bijou\, Toulouse\, 2020) / Sélection Prix Moustaki (Paris\, 2021) / Sélection Jeunesses Musicales saison 2022-2023 (Belgique\, 2022) / Sélection C’est dans l’air (Montréal\, 2022) / Sélection Changez d’Air (Lyon\, France\, 2023) / Sélection tremplin Mans Pop Festival (Le Mans\, France\, 2023) \nPremière partie: Simon Danhier: Il se livre\, Simon. Il touche et échange avec son public en chantant des textes qui racontent les joies\, les peines\, les vies que l’on mène et qui\, invariablement\,transpirent l’espoir. Oscillant entre chanson française\, reggae et hip-hop\, l’énergie s’articule autour des textes en français qui transportent du guitare-voix au dub atmosphérique. Les influences sont multiples et s’étendent de Bernard Lavilliers à Fat Freddy’s Drop.C’est doux\, c’est fou\, c’est libre et sans conclusion
URL:https://septem.stghislain.be/agenda/clemix-simon-danhier/
LOCATION:Les Jardins du Cloître\, 37 Grand Place\, Saint-Ghislain\, 7330\, Belgique
CATEGORIES:Concerts,Musique,Saint-Ghislain
ATTACH;FMTTYPE=image/jpeg:https://septem.stghislain.be/wp-content/uploads/2024/07/simon-danhier-clemix-Septem-Culture_Saint_Ghislain-2024.jpg
ORGANIZER;CN="Septem":MAILTO:info@septem.stghislain.be
END:VEVENT
END:VCALENDAR