BEGIN:VCALENDAR
VERSION:2.0
PRODID:-//Septem - ECPv6.0.13.1//NONSGML v1.0//EN
CALSCALE:GREGORIAN
METHOD:PUBLISH
X-WR-CALNAME:Septem
X-ORIGINAL-URL:https://septem.stghislain.be
X-WR-CALDESC:évènements pour Septem
REFRESH-INTERVAL;VALUE=DURATION:PT1H
X-Robots-Tag:noindex
X-PUBLISHED-TTL:PT1H
BEGIN:VTIMEZONE
TZID:Europe/Brussels
BEGIN:DAYLIGHT
TZOFFSETFROM:+0100
TZOFFSETTO:+0200
TZNAME:CEST
DTSTART:20240331T010000
END:DAYLIGHT
BEGIN:STANDARD
TZOFFSETFROM:+0200
TZOFFSETTO:+0100
TZNAME:CET
DTSTART:20241027T010000
END:STANDARD
END:VTIMEZONE
BEGIN:VEVENT
DTSTART;TZID=Europe/Brussels:20240924T180000
DTEND;TZID=Europe/Brussels:20240924T200000
DTSTAMP:20260423T202006
CREATED:20240829T100753Z
LAST-MODIFIED:20240910T125306Z
UID:10000846-1727200800-1727208000@septem.stghislain.be
SUMMARY:Atelier poésie avec Jacky Goethals
DESCRIPTION:Explorez les merveilles de la poésie lors de nos ateliers animés par Jacky Goethals. \nQue vous soyez un amateur de vers ou un novice curieux\, ces ateliers sont l’occasion parfaite de laisser libre cours à votre créativité littéraire. \nDates: 9/16/23/30 juillet et 6/13/20/27 août \nHoraires: 18h00 – 20h00 \nLieu: Couvent d’Hautrage \nTarif: 6€ par personne \nJacky Goethals vous accompagnera dans un voyage artistique où les mots deviennent des œuvres d’art. \nQue vous souhaitiez écrire vos premiers poèmes ou affiner votre style poétique\, ces ateliers sont ouverts à tous\, sans exception. \nInscrivez-vous dès maintenant pour réserver votre place à ces ateliers poétiques.
URL:https://septem.stghislain.be/agenda/atelier-poesie-avec-jacky-goethals/2024-09-24/
LOCATION:Couvent d’Hautrage\, Grand'Place\, Hautrage\, 7334
CATEGORIES:Ateliers,Hautrage,Saint-Ghislain
ATTACH;FMTTYPE=image/jpeg:https://septem.stghislain.be/wp-content/uploads/2024/05/atelier-poesie-Septem-Culture_Saint_Ghislain-2024.jpg
ORGANIZER;CN="Septem":MAILTO:info@septem.stghislain.be
END:VEVENT
END:VCALENDAR