BEGIN:VCALENDAR
VERSION:2.0
PRODID:-//Septem - ECPv6.0.13.1//NONSGML v1.0//EN
CALSCALE:GREGORIAN
METHOD:PUBLISH
X-WR-CALNAME:Septem
X-ORIGINAL-URL:https://septem.stghislain.be
X-WR-CALDESC:évènements pour Septem
REFRESH-INTERVAL;VALUE=DURATION:PT1H
X-Robots-Tag:noindex
X-PUBLISHED-TTL:PT1H
BEGIN:VTIMEZONE
TZID:Europe/Brussels
BEGIN:DAYLIGHT
TZOFFSETFROM:+0100
TZOFFSETTO:+0200
TZNAME:CEST
DTSTART:20240331T010000
END:DAYLIGHT
BEGIN:STANDARD
TZOFFSETFROM:+0200
TZOFFSETTO:+0100
TZNAME:CET
DTSTART:20241027T010000
END:STANDARD
END:VTIMEZONE
BEGIN:VEVENT
DTSTART;TZID=Europe/Brussels:20240917T133000
DTEND;TZID=Europe/Brussels:20240917T153000
DTSTAMP:20260423T184405
CREATED:20240617T075302Z
LAST-MODIFIED:20240617T075307Z
UID:10000710-1726579800-1726587000@septem.stghislain.be
SUMMARY:Cinéma | Amal - Un esprit libre
DESCRIPTION:1h 51min | DrameDe Jawad RhalibPar Jawad Rhalib\, Chloé LéonilAvec Lubna Azabal\, Catherine Salée\, Fabrizio RongioneSynopsis:Amal\, enseignante dans un lycée à Bruxelles\, encourage ses élèves à s’exprimer librement. Avec ses méthodes pédagogiques audacieuses et son enthousiasme\, elle va bouleverser leur vie. Jusqu’à en choquer certains. Peu à peu Amal va se sentir harcelée\, menacée.
URL:https://septem.stghislain.be/agenda/amal-un-esprit-libre/2024-09-17/1/
LOCATION:Les Jardins du Cloître\, 37 Grand Place\, Saint-Ghislain\, 7330\, Belgique
CATEGORIES:Cinéma,Films,Saint-Ghislain
ATTACH;FMTTYPE=image/png:https://septem.stghislain.be/wp-content/uploads/2024/06/cinema-amal-un-esprit-libre-Septem-Culture_Saint_Ghislain-2024.png
ORGANIZER;CN="Septem":MAILTO:info@septem.stghislain.be
END:VEVENT
BEGIN:VEVENT
DTSTART;TZID=Europe/Brussels:20240917T193000
DTEND;TZID=Europe/Brussels:20240917T213000
DTSTAMP:20260423T184405
CREATED:20240617T075302Z
LAST-MODIFIED:20240617T075307Z
UID:10000711-1726601400-1726608600@septem.stghislain.be
SUMMARY:Cinéma | Amal - Un esprit libre
DESCRIPTION:1h 51min | DrameDe Jawad RhalibPar Jawad Rhalib\, Chloé LéonilAvec Lubna Azabal\, Catherine Salée\, Fabrizio RongioneSynopsis:Amal\, enseignante dans un lycée à Bruxelles\, encourage ses élèves à s’exprimer librement. Avec ses méthodes pédagogiques audacieuses et son enthousiasme\, elle va bouleverser leur vie. Jusqu’à en choquer certains. Peu à peu Amal va se sentir harcelée\, menacée.
URL:https://septem.stghislain.be/agenda/amal-un-esprit-libre/2024-09-17/2/
LOCATION:Les Jardins du Cloître\, 37 Grand Place\, Saint-Ghislain\, 7330\, Belgique
CATEGORIES:Cinéma,Films,Saint-Ghislain
ATTACH;FMTTYPE=image/png:https://septem.stghislain.be/wp-content/uploads/2024/06/cinema-amal-un-esprit-libre-Septem-Culture_Saint_Ghislain-2024.png
ORGANIZER;CN="Septem":MAILTO:info@septem.stghislain.be
END:VEVENT
END:VCALENDAR