BEGIN:VCALENDAR
VERSION:2.0
PRODID:-//Septem - ECPv6.0.13.1//NONSGML v1.0//EN
CALSCALE:GREGORIAN
METHOD:PUBLISH
X-WR-CALNAME:Septem
X-ORIGINAL-URL:https://septem.stghislain.be
X-WR-CALDESC:évènements pour Septem
REFRESH-INTERVAL;VALUE=DURATION:PT1H
X-Robots-Tag:noindex
X-PUBLISHED-TTL:PT1H
BEGIN:VTIMEZONE
TZID:Europe/Brussels
BEGIN:DAYLIGHT
TZOFFSETFROM:+0100
TZOFFSETTO:+0200
TZNAME:CEST
DTSTART:20240331T010000
END:DAYLIGHT
BEGIN:STANDARD
TZOFFSETFROM:+0200
TZOFFSETTO:+0100
TZNAME:CET
DTSTART:20241027T010000
END:STANDARD
END:VTIMEZONE
BEGIN:VEVENT
DTSTART;TZID=Europe/Brussels:20240905T183000
DTEND;TZID=Europe/Brussels:20240915T170000
DTSTAMP:20260423T202009
CREATED:20240817T080328Z
LAST-MODIFIED:20240820T122327Z
UID:10000814-1725561000-1726419600@septem.stghislain.be
SUMMARY:Exposition commémorative | LES 80 ANS DE LA LIBÉRATION DE SAINT-GHISLAIN
DESCRIPTION:En co-organisation avec la ville de Saint-Ghislain\nConcert Gratuit West Music Club le 5 septembre à 20h aux Jardins du Cloître: \nInscription au concert : cliquez-ici
URL:https://septem.stghislain.be/agenda/80-ans-liberation-st-ghislain/
LOCATION:Espace Ockeghem\, Grand'Place\, Saint-Ghislain\, 7330\, Belgique
CATEGORIES:Expositions,Saint-Ghislain
ATTACH;FMTTYPE=image/jpeg:https://septem.stghislain.be/wp-content/uploads/2024/08/exposition-80-ans-de-la-liberation-de-saint-ghislain-Septem-Culture_Saint_Ghislain-2024.jpg
ORGANIZER;CN="Septem":MAILTO:info@septem.stghislain.be
GEO:50.448167069123;3.8202549846597
X-APPLE-STRUCTURED-LOCATION;VALUE=URI;X-ADDRESS=Espace Ockeghem Grand'Place Saint-Ghislain 7330 Belgique;X-APPLE-RADIUS=500;X-TITLE=Grand'Place:geo:3.8202549846597,50.448167069123
END:VEVENT
BEGIN:VEVENT
DTSTART;TZID=Europe/Brussels:20240905T200000
DTEND;TZID=Europe/Brussels:20240905T220000
DTSTAMP:20260423T202009
CREATED:20240708T121719Z
LAST-MODIFIED:20240820T122435Z
UID:10000792-1725566400-1725573600@septem.stghislain.be
SUMMARY:Jazz | Le West Music Club | GRATUIT
DESCRIPTION:En co-organisation avec la ville de Saint-Ghislain\nConcert gratuit dans le cadre du 80ème anniversaire de la Libération de St-Ghislain.\nLe WEST MUSIC CLUB a été créé en 1969 à Leuze dans le Hainaut occidental. Il rassemblait les musiciens venant de Renaix\, Grammont\, Tournai\, Ath. \nEt depuis le 26 avril 2022\, nous sommes reconnus comme « Société Royale ». Allez dans les News pour admirer notre diplôme. \nIl s’inspira dès le départ des big bands de la tradition du jazz : Count BASIE\, Duke ELLINGTON mais aussi Glenn MILLER pour satisfaire un large public. \nLe WEST MUSIC CLUB a enregistré 3 « 45 tours »\, 7 LP\, 6 CD dont le récent « Natural » enregistré en 2013 et le tout dernier « WMC Plays Placebo » sorti en février 2019. \nAujourd’hui Le WEST MUSIC CLUB continue de s’inscrire dans la tradition des big bands de Jazz des années ’30\, mais avec un grand intérêt pour l’évolution et l’ouverture indispensable vers les formes actuelles permettant aux solistes de l’orchestre de s’exprimer largement.
URL:https://septem.stghislain.be/agenda/west-music-club/
LOCATION:Les Jardins du Cloître\, 37 Grand Place\, Saint-Ghislain\, 7330\, Belgique
CATEGORIES:Concerts,Musique,Saint-Ghislain
ATTACH;FMTTYPE=image/jpeg:https://septem.stghislain.be/wp-content/uploads/2024/07/concert-west-music-club-80-ans-de-la-liberation-de-saint-ghislain-Septem-Culture_Saint_Ghislain-2024.jpg
ORGANIZER;CN="Septem":MAILTO:info@septem.stghislain.be
END:VEVENT
END:VCALENDAR