BEGIN:VCALENDAR
VERSION:2.0
PRODID:-//Septem - ECPv6.0.13.1//NONSGML v1.0//EN
CALSCALE:GREGORIAN
METHOD:PUBLISH
X-WR-CALNAME:Septem
X-ORIGINAL-URL:https://septem.stghislain.be
X-WR-CALDESC:évènements pour Septem
REFRESH-INTERVAL;VALUE=DURATION:PT1H
X-Robots-Tag:noindex
X-PUBLISHED-TTL:PT1H
BEGIN:VTIMEZONE
TZID:Europe/Brussels
BEGIN:DAYLIGHT
TZOFFSETFROM:+0100
TZOFFSETTO:+0200
TZNAME:CEST
DTSTART:20240331T010000
END:DAYLIGHT
BEGIN:STANDARD
TZOFFSETFROM:+0200
TZOFFSETTO:+0100
TZNAME:CET
DTSTART:20241027T010000
END:STANDARD
END:VTIMEZONE
BEGIN:VEVENT
DTSTART;TZID=Europe/Brussels:20240719T170000
DTEND;TZID=Europe/Brussels:20240901T170000
DTSTAMP:20260423T184408
CREATED:20240710T145835Z
LAST-MODIFIED:20240710T145840Z
UID:10000799-1721408400-1725210000@septem.stghislain.be
SUMMARY:Expo | Sélection vidéo – Gauthier Keyaerts + Christophe Bailleau
DESCRIPTION:Dans le cadre de la Sonic Summer 2024\, un écho de la longue relation de complicité entre Transcultures et ces deux créateurs pluridisciplinaires présente une sélection de vidéos aux croisements des arts visuels et sonores. \nEn ce qui concerne Gauthier Keyaerts\, toute la materia prima des obsessions esthétiques – post surréalistes – de l’artiste: rapport intime à la matière\, dialogue entre microcosme et macrocosme en une mode d’expression libre\, poétique et alchimique\, dans un esprit slow art. \nLes œuvres audiovisuelles de Christophe Bailleau sont empruntes\, quant à elle\, d’une poésie teintée d’humour mêlant des images d’une nature céleste à des ponctuations numériques qui rehaussent un regard d’explorateur sur un quotidien jamais banal. Dans ces deux univers personnels\, sons et images dialoguent subtilement. \n​ \n			\n				\n				\n				\n				\n				Christophe Bailleau \nD’origine normande\, Christophe Bailleau obtient un master en arts plastiques à l’ERG (Ecole de Recherche Graphique) en 2004. Artiste pluridisciplinaire\, Christophe Bailleau développe depuis\, les années 90\,  un projet musical atypique. Ses compositions reposent sur des sources acoustiques (guitare\, percussions\, voix\, bruits divers…)  mélangées à des sons concrets et enregistrements de terrain. Il conçoit ainsi un jeu sur l’attente\, le silence et la tension orageuse. Depuis 2004\, ses compositions sont éditées sur différents labels européens (Stilll\, Carte postale\, Annexia\, Fenêtre\, Soundscaping\, Optical Sound\, Sacred phrases\, Cosmic Winnetou\, IRM\, Transonic\, Mahorka…). Il a réalisé plusieurs pièces de création radiophonique et pratique aussi\, depuis plusieurs années\,  la photographie et plus récemment le dessin et la poésie. Avec le duo audio vidéo Pastoral (créé avec Philippe Franck\, en 2006)\, il pose un regard à la fois surréel et poétique sur les imaginaires et espaces du quotidien avec une forme d’étrangeté lynchienne. Christophe réalise des courts-métrages intrigants et oniriques qui\, essaient de capturer l’indicible.  Son travail audio et vidéo qui a été montré dans de nombreux événements en Belgique et à l’international\, se décline aussi en installation. \n\nsoundcloud.com/christophe-bailleau \n\nGauthier Keyaerts \nGauthier Keyaerts questionne la matière à travers le son et l’image fixe ou en mouvement\, de manière interactive et complémentaire.Artiste sonore (plusieurs albums publiés sur Sub Rosa et Transonic ainsi que des installations et performances diffusées à l’international) et interdisciplinaire\, il fonde son oeuvre sur deux éléments essentiels : une approche radicalement matiériste\, véritable appel à la redécouverte de nos sens\, que ce soit à travers le son ou l’image ; une volonté de communiquer avec le public\, de générer un espace de réflexion libre et ouvert. Ses sujets de prédilection sont la vie\, le rien\, la beauté de l’insignifiance\, les éléments\, le temps\, la mémoire. \n\ngauthierkeyaerts.com
URL:https://septem.stghislain.be/agenda/expo-selection-video-gauthier-keyaerts-christophe-bailleau/
LOCATION:Couvent d’Hautrage\, Grand'Place\, Hautrage\, 7334
CATEGORIES:Arts Video,Expositions,Hautrage,Saint-Ghislain
ATTACH;FMTTYPE=image/jpeg:https://septem.stghislain.be/wp-content/uploads/2024/07/Gauthier_Keyaerts-Voie_vegetale-Banner-Video_PrintScren-Sonic_Summer-Septem-Transcultures-2024.jpg
ORGANIZER;CN="Transcultures":MAILTO:contact@transcultures.be
END:VEVENT
BEGIN:VEVENT
DTSTART;TZID=Europe/Brussels:20240826T090000
DTEND;TZID=Europe/Brussels:20240828T160000
DTSTAMP:20260423T184408
CREATED:20240820T142503Z
LAST-MODIFIED:20240830T102137Z
UID:10000824-1724662800-1724860800@septem.stghislain.be
SUMMARY:Atelier | Création texte/image & Intelligence Artificielle par Thomas Israël - Projet CreaMakers
DESCRIPTION:L’atelier d’introduction à la création assistée par Intelligence Artificielle vise à désacraliser ces outils\, comprendre leurs différents fonctionnements et leurs biais afin de de les utiliser de manière personnelle et originale\, sans peur irrationnelle pour la technologie\, mais tout en ayant conscience des différentes implications aux niveaux personnelle et sociétale. \nAucune prérequis n’est nécessaire pour cet atelier d’initiation\, sinon l’envie de découvrir de manière ludique ces technologies accessibles aujourd’hui à chacun.e. \n\nL’atelier présentera une dizaine d’outils de création artistique incorporant l’IA\, leurs complémentarités et leur intégration dans différentes logiques de productions.Dans un premier temps\, les  participant.es exploreront et testeront des outils de création utilisant l’intelligence artificielle principalement pour la génération de texte et d’image. Ensuite\, ils seront accompagnés dans l’exploration de stratégies pour générer une série d’œuvres cohérentes dans le cadre d’une ébauche de projet personnel. \n\n			\n				\n				\n				\n				\n				CreaMakers et IA \nDécouvrez le fascinant monde de l’intelligence artificielle à travers l’atelier d’initiation ludique à l’IA générative CreaMakers\, conçu pour tous les publics. Que vous soyez novice en technologie ou amateur curieux\, cet atelier vous plongera dans les incroyables capacités des IA modernes pour générer du texte et des images. Guidé par des artistes spécialisés en nouvelles technologies\, vous explorerez de manière interactive et créative comment les machines peuvent devenir des outils d’expression artistique. \nEn plus de vous familiariser avec ces nouvelles technologies\, cet atelier met l’accent sur le plaisir de la découverte et de la création collective. Partagez vos œuvres avec les autres participants\, échangez des idées et laissez-vous inspirer par les créations des uns et des autres. À la fin de l’atelier\, vous repartirez non seulement avec une meilleure compréhension des IA génératives\, mais aussi avec de vos propres créations textuelles et visuelles. \n			\n				\n				\n				\n				\n				\n			\n				\n				\n				\n				\n				Thomas Israël \nArtiste basé à Bruxelles\, Thomas Israël propose des installations\, des sculptures\, des scénographies vidéo et des performances qui sont autant d’œuvres immersives\, génératives ou interactives. Issu des arts de la scène\, son approche atypique et transdisciplinaire des arts numériques tourne autour de thématiques sociétales\, du corps\, du temps et de l’inconscient. Il a été exposé dans des nombreux festivals\, foires\, galeries et musées dans le monde depuis 2005\, comme le MoMA (New York)\, Les Abattoirs (Toulouse)\, Le Musée des Beaux-Arts (Mons)\, Le Musée National des Beaux-arts (Québec) et Le Haifa Museum of Art. Il aime investir des lieux chargés d’histoires telles que la Grotte préhistorique du Mas d’azil en 2009 & 2011 ou l’Abbaye de Villers en 2018. Skinstrap\, sa première performance en body-mapping est lauréate du prestigieux Japan Media Art Festival 2013. \nDepuis\, ses performances sur la couleur\, la vision et le cancer tournent internationalement au théâtre ou dans le milieu médical (Brésil\, France\, Écosse\, Belgique\, Costa Rica\, Mexique\, Canada et États-Unis). Parallèlement il crée des environnements vidéo scénographiques pour l’Opéra de Bordeaux\, Tokyo Opera House\, Charlerois-danse ou le Théâtre Varia. En 2019 il signe la mise-en-scène\, la scénographie et la vidéo de son premier opéra\, la création scénique mondiale de Futari Shizuka du célèbre compositeur Toshio Hosokawa\, en Corée du Sud. Sa monographie Memento Body est publiée à la Lettre Volée. Il est représenté par la Galerie Charlot depuis 2010 à Paris et Tel-Aviv avec 3 expositions monographiques. Son travail fait partie des collections du MoMA de New York\, du musée des Abattoirs de Toulouse\, et du Musée Juif de Belgique. \n\nthomasisrael.be
URL:https://septem.stghislain.be/agenda/atelier-creation-texte-image-intelligence-artificielle-par-thomas-israel-projet-creamakers/
LOCATION:Couvent d’Hautrage\, Grand'Place\, Hautrage\, 7334
CATEGORIES:Saint-Ghislain
ATTACH;FMTTYPE=image/jpeg:https://septem.stghislain.be/wp-content/uploads/2024/08/CreaMakers-Atelier_Intelligence_Artificielle-Banner_Logo-Credits_Jacques_Urbanska_DALL_E-Transcultures-2024.jpg
ORGANIZER;CN="Transcultures":MAILTO:contact@transcultures.be
END:VEVENT
BEGIN:VEVENT
DTSTART;TZID=Europe/Brussels:20240827T180000
DTEND;TZID=Europe/Brussels:20240827T200000
DTSTAMP:20260423T184408
CREATED:20240514T061826Z
LAST-MODIFIED:20240514T061830Z
UID:10000632-1724781600-1724788800@septem.stghislain.be
SUMMARY:Atelier poésie avec Jacky Goethals
DESCRIPTION:Explorez les merveilles de la poésie lors de nos ateliers animés par Jacky Goethals. \nQue vous soyez un amateur de vers ou un novice curieux\, ces ateliers sont l’occasion parfaite de laisser libre cours à votre créativité littéraire. \nDates: 9/16/23/30 juillet et 6/13/20/27 août \nHoraires: 18h00 – 20h00 \nLieu: Couvent d’Hautrage \nTarif: 6€ par personne \nJacky Goethals vous accompagnera dans un voyage artistique où les mots deviennent des œuvres d’art. \nQue vous souhaitiez écrire vos premiers poèmes ou affiner votre style poétique\, ces ateliers sont ouverts à tous\, sans exception. \nInscrivez-vous dès maintenant pour réserver votre place à ces ateliers poétiques.
URL:https://septem.stghislain.be/agenda/atelier-poesie/2024-08-27/
LOCATION:Couvent d’Hautrage\, Grand'Place\, Hautrage\, 7334
CATEGORIES:Ateliers,Hautrage,Saint-Ghislain
ATTACH;FMTTYPE=image/jpeg:https://septem.stghislain.be/wp-content/uploads/2024/05/atelier-poesie-Septem-Culture_Saint_Ghislain-2024.jpg
ORGANIZER;CN="Septem":MAILTO:info@septem.stghislain.be
END:VEVENT
END:VCALENDAR