BEGIN:VCALENDAR
VERSION:2.0
PRODID:-//Septem - ECPv6.0.13.1//NONSGML v1.0//EN
CALSCALE:GREGORIAN
METHOD:PUBLISH
X-WR-CALNAME:Septem
X-ORIGINAL-URL:https://septem.stghislain.be
X-WR-CALDESC:évènements pour Septem
REFRESH-INTERVAL;VALUE=DURATION:PT1H
X-Robots-Tag:noindex
X-PUBLISHED-TTL:PT1H
BEGIN:VTIMEZONE
TZID:Europe/Brussels
BEGIN:DAYLIGHT
TZOFFSETFROM:+0100
TZOFFSETTO:+0200
TZNAME:CEST
DTSTART:20240331T010000
END:DAYLIGHT
BEGIN:STANDARD
TZOFFSETFROM:+0200
TZOFFSETTO:+0100
TZNAME:CET
DTSTART:20241027T010000
END:STANDARD
END:VTIMEZONE
BEGIN:VEVENT
DTSTART;TZID=Europe/Brussels:20240719T170000
DTEND;TZID=Europe/Brussels:20240901T170000
DTSTAMP:20260423T213651
CREATED:20240710T145835Z
LAST-MODIFIED:20240710T145840Z
UID:10000799-1721408400-1725210000@septem.stghislain.be
SUMMARY:Expo | Sélection vidéo – Gauthier Keyaerts + Christophe Bailleau
DESCRIPTION:Dans le cadre de la Sonic Summer 2024\, un écho de la longue relation de complicité entre Transcultures et ces deux créateurs pluridisciplinaires présente une sélection de vidéos aux croisements des arts visuels et sonores. \nEn ce qui concerne Gauthier Keyaerts\, toute la materia prima des obsessions esthétiques – post surréalistes – de l’artiste: rapport intime à la matière\, dialogue entre microcosme et macrocosme en une mode d’expression libre\, poétique et alchimique\, dans un esprit slow art. \nLes œuvres audiovisuelles de Christophe Bailleau sont empruntes\, quant à elle\, d’une poésie teintée d’humour mêlant des images d’une nature céleste à des ponctuations numériques qui rehaussent un regard d’explorateur sur un quotidien jamais banal. Dans ces deux univers personnels\, sons et images dialoguent subtilement. \n​ \n			\n				\n				\n				\n				\n				Christophe Bailleau \nD’origine normande\, Christophe Bailleau obtient un master en arts plastiques à l’ERG (Ecole de Recherche Graphique) en 2004. Artiste pluridisciplinaire\, Christophe Bailleau développe depuis\, les années 90\,  un projet musical atypique. Ses compositions reposent sur des sources acoustiques (guitare\, percussions\, voix\, bruits divers…)  mélangées à des sons concrets et enregistrements de terrain. Il conçoit ainsi un jeu sur l’attente\, le silence et la tension orageuse. Depuis 2004\, ses compositions sont éditées sur différents labels européens (Stilll\, Carte postale\, Annexia\, Fenêtre\, Soundscaping\, Optical Sound\, Sacred phrases\, Cosmic Winnetou\, IRM\, Transonic\, Mahorka…). Il a réalisé plusieurs pièces de création radiophonique et pratique aussi\, depuis plusieurs années\,  la photographie et plus récemment le dessin et la poésie. Avec le duo audio vidéo Pastoral (créé avec Philippe Franck\, en 2006)\, il pose un regard à la fois surréel et poétique sur les imaginaires et espaces du quotidien avec une forme d’étrangeté lynchienne. Christophe réalise des courts-métrages intrigants et oniriques qui\, essaient de capturer l’indicible.  Son travail audio et vidéo qui a été montré dans de nombreux événements en Belgique et à l’international\, se décline aussi en installation. \n\nsoundcloud.com/christophe-bailleau \n\nGauthier Keyaerts \nGauthier Keyaerts questionne la matière à travers le son et l’image fixe ou en mouvement\, de manière interactive et complémentaire.Artiste sonore (plusieurs albums publiés sur Sub Rosa et Transonic ainsi que des installations et performances diffusées à l’international) et interdisciplinaire\, il fonde son oeuvre sur deux éléments essentiels : une approche radicalement matiériste\, véritable appel à la redécouverte de nos sens\, que ce soit à travers le son ou l’image ; une volonté de communiquer avec le public\, de générer un espace de réflexion libre et ouvert. Ses sujets de prédilection sont la vie\, le rien\, la beauté de l’insignifiance\, les éléments\, le temps\, la mémoire. \n\ngauthierkeyaerts.com
URL:https://septem.stghislain.be/agenda/expo-selection-video-gauthier-keyaerts-christophe-bailleau/
LOCATION:Couvent d’Hautrage\, Grand'Place\, Hautrage\, 7334
CATEGORIES:Arts Video,Expositions,Hautrage,Saint-Ghislain
ATTACH;FMTTYPE=image/jpeg:https://septem.stghislain.be/wp-content/uploads/2024/07/Gauthier_Keyaerts-Voie_vegetale-Banner-Video_PrintScren-Sonic_Summer-Septem-Transcultures-2024.jpg
ORGANIZER;CN="Transcultures":MAILTO:contact@transcultures.be
END:VEVENT
BEGIN:VEVENT
DTSTART;TZID=Europe/Brussels:20240812T090000
DTEND;TZID=Europe/Brussels:20240812T130000
DTSTAMP:20260423T213651
CREATED:20240514T091234Z
LAST-MODIFIED:20240514T091238Z
UID:10000646-1723453200-1723467600@septem.stghislain.be
SUMMARY:Atelier réalisation de géants (à partir de 9 ans)
DESCRIPTION:Animé par les talentueuses Michèle Lecomte et Laurence Thirion\, cet atelier invite tous\, petits et grands\, à se retrouver et à marquer de leur empreinte le folklore de Saint-Ghislain. L’été passé\, nous avons donné vie à deux géants : Saint-Ghislain et Baudour. \nRejoignez-nous pour un atelier passionnant où l’imagination prend vie sous les mains expertes de Michèle et Laurence. \nÀ partir de 9 ans\, les jeunes talents pourront explorer le monde fascinant de la création de géants\, guidés par des artistes chevronnés.
URL:https://septem.stghislain.be/agenda/atelier-realisation-geants/2024-08-12/
LOCATION:Les Jardins du Cloître\, 37 Grand Place\, Saint-Ghislain\, 7330\, Belgique
CATEGORIES:Ateliers,Saint-Ghislain
ATTACH;FMTTYPE=image/jpeg:https://septem.stghislain.be/wp-content/uploads/2024/05/atelier-realisations-de-geants-Septem-Culture_Saint_Ghislain-2024.jpg
ORGANIZER;CN="Septem":MAILTO:info@septem.stghislain.be
END:VEVENT
BEGIN:VEVENT
DTSTART;TZID=Europe/Brussels:20240812T093000
DTEND;TZID=Europe/Brussels:20240812T123000
DTSTAMP:20260423T213651
CREATED:20240628T091106Z
LAST-MODIFIED:20240628T091110Z
UID:10000762-1723455000-1723465800@septem.stghislain.be
SUMMARY:Atelier de photographie - Espace Image et Création en association avec le RPCM
DESCRIPTION:Organisé par EIC en collaboration avec le Royal Photo club Montois. \nAge : à partir de 15 ansLieu : Couvent d’Hautrage \nLes ateliers seront animés par des photographes amateurs de l’Association Espace Image Création et du Royal Photo Club Montois. \nLe stage sera ouvert à partir de 5 participants. Divers thèmes seront abordés allant du maniement de l’appareil photo au post traitement de l’image. \nUn peu de théorie mais beaucoup de pratique sur le terrain. Alors si vous êtes intéressés\, venez nous rejoindre et découvrir le domaine de la photographie.
URL:https://septem.stghislain.be/agenda/atelier-de-photographie/2024-08-12/
LOCATION:Les Jardins du Cloître\, 37 Grand Place\, Saint-Ghislain\, 7330\, Belgique
CATEGORIES:Ateliers,Saint-Ghislain
ATTACH;FMTTYPE=image/jpeg:https://septem.stghislain.be/wp-content/uploads/2024/06/stage-photographique-Septem-Culture_Saint_Ghislain-2024.jpg
ORGANIZER;CN="Septem":MAILTO:info@septem.stghislain.be
END:VEVENT
BEGIN:VEVENT
DTSTART;TZID=Europe/Brussels:20240812T210000
DTEND;TZID=Europe/Brussels:20240812T223000
DTSTAMP:20260423T213651
CREATED:20240417T064925Z
LAST-MODIFIED:20240705T092505Z
UID:10000523-1723496400-1723501800@septem.stghislain.be
SUMMARY:Concert & Dance | « Soleils d’Espagne » par le Trio Manuel de Falla
DESCRIPTION:« Soleils d’Espagne » \npar le Trio Manuel de Falla\, \nLeonor Jiménez\, danse \nRamón Gomez\, violoncelle \nPilar Valero\,piano \n\nSpectacle de danse et musique espagnoles « Soleils d’Espagne » \nVenez vivre une soirée au rythme et aux couleurs de la danse et de la musique espagnoles ! \nNous pourrions intituler ce spectacle « les couleurs de la passion »\, pour danse\, violoncelle et piano\, tant il montre un éventail de possibilités de grands auteurs de la musique espagnole que sont Manuel de Falla\, Isaac Albeniz ou Enrique Granados : rythme et force\, expression et lyrisme\, racines populaires ou moments impressionnistes\, vous aurez un parcours de différents aspects de la passion faite mouvement grâce à la danse. \nCes rythmes et pas de danses vous emporteront dans le pays du soleil ! \nVenez vous laisser envoûter par la danse de Leonor Jiménez et la musique de compositeurs espagnols des XIXe et début XXe interprétée au violoncelle par Ramón Gómez et au piano par Pilar Valero.
URL:https://septem.stghislain.be/agenda/soleils-d-espagne/
LOCATION:Parc communal de Tertre\, Belgique
CATEGORIES:Concerts,Danse,Musique,Saint-Ghislain
ATTACH;FMTTYPE=image/jpeg:https://septem.stghislain.be/wp-content/uploads/2024/04/soleils-d-espagne-Septem-Culture_Saint_Ghislain-2024.jpg
ORGANIZER;CN="Septem":MAILTO:info@septem.stghislain.be
END:VEVENT
END:VCALENDAR