BEGIN:VCALENDAR
VERSION:2.0
PRODID:-//Septem - ECPv6.0.13.1//NONSGML v1.0//EN
CALSCALE:GREGORIAN
METHOD:PUBLISH
X-WR-CALNAME:Septem
X-ORIGINAL-URL:https://septem.stghislain.be
X-WR-CALDESC:évènements pour Septem
REFRESH-INTERVAL;VALUE=DURATION:PT1H
X-Robots-Tag:noindex
X-PUBLISHED-TTL:PT1H
BEGIN:VTIMEZONE
TZID:Europe/Brussels
BEGIN:DAYLIGHT
TZOFFSETFROM:+0100
TZOFFSETTO:+0200
TZNAME:CEST
DTSTART:20240331T010000
END:DAYLIGHT
BEGIN:STANDARD
TZOFFSETFROM:+0200
TZOFFSETTO:+0100
TZNAME:CET
DTSTART:20241027T010000
END:STANDARD
END:VTIMEZONE
BEGIN:VEVENT
DTSTART;TZID=Europe/Brussels:20240719T170000
DTEND;TZID=Europe/Brussels:20240901T170000
DTSTAMP:20260423T201718
CREATED:20240710T145835Z
LAST-MODIFIED:20240710T145840Z
UID:10000799-1721408400-1725210000@septem.stghislain.be
SUMMARY:Expo | Sélection vidéo – Gauthier Keyaerts + Christophe Bailleau
DESCRIPTION:Dans le cadre de la Sonic Summer 2024\, un écho de la longue relation de complicité entre Transcultures et ces deux créateurs pluridisciplinaires présente une sélection de vidéos aux croisements des arts visuels et sonores. \nEn ce qui concerne Gauthier Keyaerts\, toute la materia prima des obsessions esthétiques – post surréalistes – de l’artiste: rapport intime à la matière\, dialogue entre microcosme et macrocosme en une mode d’expression libre\, poétique et alchimique\, dans un esprit slow art. \nLes œuvres audiovisuelles de Christophe Bailleau sont empruntes\, quant à elle\, d’une poésie teintée d’humour mêlant des images d’une nature céleste à des ponctuations numériques qui rehaussent un regard d’explorateur sur un quotidien jamais banal. Dans ces deux univers personnels\, sons et images dialoguent subtilement. \n​ \n			\n				\n				\n				\n				\n				Christophe Bailleau \nD’origine normande\, Christophe Bailleau obtient un master en arts plastiques à l’ERG (Ecole de Recherche Graphique) en 2004. Artiste pluridisciplinaire\, Christophe Bailleau développe depuis\, les années 90\,  un projet musical atypique. Ses compositions reposent sur des sources acoustiques (guitare\, percussions\, voix\, bruits divers…)  mélangées à des sons concrets et enregistrements de terrain. Il conçoit ainsi un jeu sur l’attente\, le silence et la tension orageuse. Depuis 2004\, ses compositions sont éditées sur différents labels européens (Stilll\, Carte postale\, Annexia\, Fenêtre\, Soundscaping\, Optical Sound\, Sacred phrases\, Cosmic Winnetou\, IRM\, Transonic\, Mahorka…). Il a réalisé plusieurs pièces de création radiophonique et pratique aussi\, depuis plusieurs années\,  la photographie et plus récemment le dessin et la poésie. Avec le duo audio vidéo Pastoral (créé avec Philippe Franck\, en 2006)\, il pose un regard à la fois surréel et poétique sur les imaginaires et espaces du quotidien avec une forme d’étrangeté lynchienne. Christophe réalise des courts-métrages intrigants et oniriques qui\, essaient de capturer l’indicible.  Son travail audio et vidéo qui a été montré dans de nombreux événements en Belgique et à l’international\, se décline aussi en installation. \n\nsoundcloud.com/christophe-bailleau \n\nGauthier Keyaerts \nGauthier Keyaerts questionne la matière à travers le son et l’image fixe ou en mouvement\, de manière interactive et complémentaire.Artiste sonore (plusieurs albums publiés sur Sub Rosa et Transonic ainsi que des installations et performances diffusées à l’international) et interdisciplinaire\, il fonde son oeuvre sur deux éléments essentiels : une approche radicalement matiériste\, véritable appel à la redécouverte de nos sens\, que ce soit à travers le son ou l’image ; une volonté de communiquer avec le public\, de générer un espace de réflexion libre et ouvert. Ses sujets de prédilection sont la vie\, le rien\, la beauté de l’insignifiance\, les éléments\, le temps\, la mémoire. \n\ngauthierkeyaerts.com
URL:https://septem.stghislain.be/agenda/expo-selection-video-gauthier-keyaerts-christophe-bailleau/
LOCATION:Couvent d’Hautrage\, Grand'Place\, Hautrage\, 7334
CATEGORIES:Arts Video,Expositions,Hautrage,Saint-Ghislain
ATTACH;FMTTYPE=image/jpeg:https://septem.stghislain.be/wp-content/uploads/2024/07/Gauthier_Keyaerts-Voie_vegetale-Banner-Video_PrintScren-Sonic_Summer-Septem-Transcultures-2024.jpg
ORGANIZER;CN="Transcultures":MAILTO:contact@transcultures.be
END:VEVENT
BEGIN:VEVENT
DTSTART;TZID=Europe/Brussels:20240729T140000
DTEND;TZID=Europe/Brussels:20240802T151500
DTSTAMP:20260423T201719
CREATED:20240513T135140Z
LAST-MODIFIED:20240515T093827Z
UID:10000614-1722261600-1722611700@septem.stghislain.be
SUMMARY:Ateliers Musicaux avec Carlo Vargiu de 7 à 12 ans
DESCRIPTION:Plongez dans le monde de la musique lors de nos ateliers musicaux dirigés par Carlo Balgiu. Que vous soyez un jeune mélomane curieux ou un passionné plus expérimenté\, ces ateliers sont conçus pour vous faire vibrer au rythme de la musique\, sans aucune prérequis en solfège ! \nDates: 4 semaines du 15 juillet – 9 août \n\nHoraires: \nPour les 7 à 12 ans: 14h00 – 15h15Pour les participants de plus de 13 ans: 15h30 – 16h45Instruments: Guitare (Veuillez apporter votre propre guitare) \n\nCes ateliers sont spécialement adaptés aux débutants\, offrant une introduction ludique et enrichissante à la guitare et à la musique en général. Les participants auront l’occasion d’apprendre les bases de la guitare\, de jouer en groupe et de développer leur passion pour la musique. \nPrix: 50€ pour l’ensemble de la semaine choisie \nRejoignez-nous pour une semaine pleine de notes\, de rythmes et de découvertes musicales. Les places sont limitées\, alors réservez dès maintenant pour garantir votre participation !
URL:https://septem.stghislain.be/agenda/ateliers-musicaux-7-12ans/2024-07-29/
LOCATION:Couvent d’Hautrage\, Grand'Place\, Hautrage\, 7334
CATEGORIES:Ateliers,Hautrage,Musique,Saint-Ghislain
ATTACH;FMTTYPE=image/jpeg:https://septem.stghislain.be/wp-content/uploads/2024/05/ateliers-musicaux-Carlo-Balgiu-Septem-Culture_Saint_Ghislain-2024.jpg
ORGANIZER;CN="Septem":MAILTO:info@septem.stghislain.be
END:VEVENT
BEGIN:VEVENT
DTSTART;TZID=Europe/Brussels:20240729T153000
DTEND;TZID=Europe/Brussels:20240802T164500
DTSTAMP:20260423T201719
CREATED:20240513T135911Z
LAST-MODIFIED:20240515T091847Z
UID:10000622-1722267000-1722617100@septem.stghislain.be
SUMMARY:Ateliers Musicaux avec Carlo Vargiu pour les plus de 13 ans
DESCRIPTION:Plongez dans le monde de la musique lors de nos ateliers musicaux dirigés par Carlo Balgiu. Que vous soyez un jeune mélomane curieux ou un passionné plus expérimenté\, ces ateliers sont conçus pour vous faire vibrer au rythme de la musique\, sans aucune prérequis en solfège ! \nDates: 4 semaines du 15 juillet – 9 août \n\nHoraires: \nPour les 7 à 12 ans: 14h00 – 15h15Pour les participants de plus de 13 ans: 15h30 – 16h45Instruments: Guitare (Veuillez apporter votre propre guitare) \n\nCes ateliers sont spécialement adaptés aux débutants\, offrant une introduction ludique et enrichissante à la guitare et à la musique en général. Les participants auront l’occasion d’apprendre les bases de la guitare\, de jouer en groupe et de développer leur passion pour la musique. \nPrix: 50€ pour l’ensemble de la semaine choisie \nRejoignez-nous pour une semaine pleine de notes\, de rythmes et de découvertes musicales. Les places sont limitées\, alors réservez dès maintenant pour garantir votre participation !
URL:https://septem.stghislain.be/agenda/ateliers-musicaux-avec-carlo-balgiu-pour-les-plus-de-13-ans/2024-07-29/
LOCATION:Couvent d’Hautrage\, Grand'Place\, Hautrage\, 7334
CATEGORIES:Ateliers,Hautrage,Musique,Saint-Ghislain
ATTACH;FMTTYPE=image/jpeg:https://septem.stghislain.be/wp-content/uploads/2024/05/ateliers-musicaux-Carlo-Balgiu-Septem-Culture_Saint_Ghislain-2024.jpg
ORGANIZER;CN="Septem":MAILTO:info@septem.stghislain.be
END:VEVENT
BEGIN:VEVENT
DTSTART;TZID=Europe/Brussels:20240802T200000
DTEND;TZID=Europe/Brussels:20240802T204500
DTSTAMP:20260423T201719
CREATED:20240617T114803Z
LAST-MODIFIED:20240617T114807Z
UID:10000731-1722628800-1722631500@septem.stghislain.be
SUMMARY:Seul en scène « AilleurS »
DESCRIPTION:Ne vous êtes-vous jamais demandé ce qui pouvait se cacher derrière une porte fermée ? Quels univers pourraient vous attendre ? Quel « ailleurs » pourriez-vous y découvrir ? Plongez dans un voyage poétique à travers ces mystérieuses portes\, à la découverte des AilleurS. \nTextes déclamés par Flavio Martino \nDurée : +- 45 minutes \nGenre : Divers (Drame\, Fantastique\,…)
URL:https://septem.stghislain.be/agenda/seul-en-scene-ailleurs/
LOCATION:Chapelle Notre Dame de Pitié\, Rue de la Chapelle 15/21\, Baudour\, 7331
CATEGORIES:Baudour,Saint-Ghislain,Théâtre
ATTACH;FMTTYPE=image/jpeg:https://septem.stghislain.be/wp-content/uploads/2024/06/seul-en-secne-ailleurS-Septem-Culture_Saint_Ghislain-2024.jpg
ORGANIZER;CN="Septem":MAILTO:info@septem.stghislain.be
END:VEVENT
END:VCALENDAR