BEGIN:VCALENDAR
VERSION:2.0
PRODID:-//Septem - ECPv6.0.13.1//NONSGML v1.0//EN
CALSCALE:GREGORIAN
METHOD:PUBLISH
X-WR-CALNAME:Septem
X-ORIGINAL-URL:https://septem.stghislain.be
X-WR-CALDESC:évènements pour Septem
REFRESH-INTERVAL;VALUE=DURATION:PT1H
X-Robots-Tag:noindex
X-PUBLISHED-TTL:PT1H
BEGIN:VTIMEZONE
TZID:Europe/Brussels
BEGIN:DAYLIGHT
TZOFFSETFROM:+0100
TZOFFSETTO:+0200
TZNAME:CEST
DTSTART:20240331T010000
END:DAYLIGHT
BEGIN:STANDARD
TZOFFSETFROM:+0200
TZOFFSETTO:+0100
TZNAME:CET
DTSTART:20241027T010000
END:STANDARD
END:VTIMEZONE
BEGIN:VEVENT
DTSTART;TZID=Europe/Brussels:20240713T200000
DTEND;TZID=Europe/Brussels:20240713T230000
DTSTAMP:20260423T213742
CREATED:20240418T102514Z
LAST-MODIFIED:20240621T073728Z
UID:10000524-1720900800-1720911600@septem.stghislain.be
SUMMARY:Concert des Chorales Catholiques Burundaises + option repas
DESCRIPTION:La chorale Catholique Burundaise NINAHAZA de Louvain-la-Neuve\, en collaboration avec Septem\, vous offrira un concert extraordinaire\, une expérience musicale unique à ne pas manquer. Joignez-vous à nous pour une soirée animée et inoubliable où la chorale NINAHAZA de Louvain la Neuve vous transportera dans un univers envoûtant.Découvrez des chansons émouvantes en français et en Kirundi accompagnées par les danses traditionnelles qui vous inciteront à danser et à partager des moments de connexion et de joie. Laissez-vous emporter par la magie de la musique et vivez des émotions intenses au rythme des mélodies envoûtantes de cette chorale burundaise renommée.Pour ceux désireux de découvrir la gastronomie burundaise\, une option repas est prévue à la fin du concert pour vous permettre de savourer des mets traditionnels et prolonger cette soirée culturelle dans la convivialité et la gourmandise. \n\nPrix: \nConcert seul: 15-18€ \nConcert + repas: 25-28€ \n\nProgramme: \nDe 19h30 à 19h45 : Accueil et installation du publicDe 19h45 à 19h55 : Présentation de SeptemDe 20h00 à 20h30 : Chansons et dansesDe 20h30 à 21h10 : Chansons et danses ( suite)De 21h10 à 21h45 : Partage du repas burundais dans la salle de la Maison Villageoise \nRéservez dès maintenant pour une soirée magique et immersive au cœur de la culture musicale burundaise. Nous avons hâte de vous accueillir pour une soirée musicale inoubliable ! \n\nLa Chorale NINAHAZA ( Louons le Seigneur) de Louvain la neuve est née de l’initiative des Burundais vivant à Ottignies-Louvain-la-Neuve en Belgique en décembre 1998. Elle est ouverte à tout public sans aucune distinction.Son objectif est de mettre la passion de chanter au service des chrétiens afin de les aider à prier.Elle offre également une opportunité de retrouver et de partager des éléments culturels à ses membres.C’est une chorale qui chante à voix mixtes et en différentes circonstances ayant le goût de chanter dans une atmosphère de détente et de cordialité avec un répertoire de chants variés.Des animations à des événements culturels et religieux dans des centres d’accueil des personnes en situation de handicap et lors d’autres événements culturels comme ceux organisés par le Diocèse de Malines-Bruxelles sont aussi au rendez-vous.
URL:https://septem.stghislain.be/agenda/concert-des-chorales-catholiques-burundaises/
LOCATION:Eglise d’Hautrage\, 6 place d’Hautrage\, Hautrage\, 7334
CATEGORIES:Chant,Concerts,Hautrage,Musique,Saint-Ghislain
ATTACH;FMTTYPE=image/jpeg:https://septem.stghislain.be/wp-content/uploads/2024/04/Concert-des-Chorales-Catholiques-Burundaises-Septem-Culture_Saint_Ghislain-2024.jpg
ORGANIZER;CN="Septem":MAILTO:info@septem.stghislain.be
END:VEVENT
END:VCALENDAR