BEGIN:VCALENDAR
VERSION:2.0
PRODID:-//Septem - ECPv6.0.13.1//NONSGML v1.0//EN
CALSCALE:GREGORIAN
METHOD:PUBLISH
X-ORIGINAL-URL:https://septem.stghislain.be
X-WR-CALDESC:évènements pour Septem
REFRESH-INTERVAL;VALUE=DURATION:PT1H
X-Robots-Tag:noindex
X-PUBLISHED-TTL:PT1H
BEGIN:VTIMEZONE
TZID:Europe/Brussels
BEGIN:DAYLIGHT
TZOFFSETFROM:+0100
TZOFFSETTO:+0200
TZNAME:CEST
DTSTART:20240331T010000
END:DAYLIGHT
BEGIN:STANDARD
TZOFFSETFROM:+0200
TZOFFSETTO:+0100
TZNAME:CET
DTSTART:20241027T010000
END:STANDARD
END:VTIMEZONE
BEGIN:VEVENT
DTSTART;TZID=Europe/Brussels:20240712T090000
DTEND;TZID=Europe/Brussels:20240712T113000
DTSTAMP:20260424T150830
CREATED:20240513T115937Z
LAST-MODIFIED:20240528T125330Z
UID:10000544-1720774800-1720783800@septem.stghislain.be
SUMMARY:Ateliers céramiques - modelage\, décoration\, mosaïque
DESCRIPTION:Rejoignez-nous pour des ateliers passionnants où vous aurez l’opportunité de donner vie à des objets décoratifs uniques en argile avec Madame Van Der Borght. \n\n12 juillet: Atelier de modelage: Que ce soit des fleurs délicates\, des photophores chaleureux\, des caches pots élégants ou des vides poches fonctionnels\, laissez libre cours à votre créativité inspirée par les saisons. Au cours de cet atelier\, vous apprendrez à décorer et colorer vos créations en utilisant des engobes\, ajoutant une touche personnelle et vibrante à chaque pièce. Après avoir façonné vos chefs-d’œuvre\, vous pourrez les récupérer dans leur version émaillée et colorée après 2 à 3 semaines à Hautrage.\n28 juillet: Peinture sur céramique: Rejoignez-nous pour un atelier de peinture sur céramique\, où vous aurez l’occasion de décorer un mug\, une tasse ou un bol selon votre inspiration. Exprimez votre créativité en utilisant des émaux vibrants pour réaliser un objet à la fois pratique\, alimentaire et esthétiquement unique.\n9 août : Atelier modelage terre autodurcissante : Utilisez votre imagination pour façonner des pièces personnalisées qui ajouteront une touche artistique à votre espace.Une fois que vous avez sculpté vos pièces uniques\, vous pourrez les emporter chez vous immédiatement. Laissez-les sécher pendant quelques jours\, puis laissez libre cours à votre créativité en les peignant avec de la peinture acrylique si vous le souhaitez.\n23 août: Atelier mosaïque: Créez une Œuvre Colorée et Unique sur Support en Bois!Joignez-vous à notre atelier de mosaïque où vous aurez l’opportunité de laisser libre cours à votre créativité en réalisant une magnifique mosaïque sur un support en bois. Utilisez des émaux de Briare\, du grès cérame et du verre pour composer des pièces uniques et éclatantes.Que ce soit pour embellir un dessous de verre\, agrémenter un sous-plat ou transformer un plateau en une œuvre d’art fonctionnelle\, la mosaïque offre une infinité de possibilités créatives. Laissez-vous inspirer par les couleurs et les textures des matériaux pour concevoir une pièce unique qui ajoute une touche de sophistication à votre espace
URL:https://septem.stghislain.be/agenda/ateliers-ceramiques/2024-07-12/
LOCATION:Couvent d’Hautrage\, Grand'Place\, Hautrage\, 7334
CATEGORIES:Ateliers,Hautrage,Saint-Ghislain
ATTACH;FMTTYPE=image/jpeg:https://septem.stghislain.be/wp-content/uploads/2024/05/ateliers-ceramiques-Septem-Culture_Saint_Ghislain-2024.jpg
ORGANIZER;CN="Septem":MAILTO:info@septem.stghislain.be
END:VEVENT
END:VCALENDAR