BEGIN:VCALENDAR
VERSION:2.0
PRODID:-//Septem - ECPv6.0.13.1//NONSGML v1.0//EN
CALSCALE:GREGORIAN
METHOD:PUBLISH
X-WR-CALNAME:Septem
X-ORIGINAL-URL:https://septem.stghislain.be
X-WR-CALDESC:évènements pour Septem
REFRESH-INTERVAL;VALUE=DURATION:PT1H
X-Robots-Tag:noindex
X-PUBLISHED-TTL:PT1H
BEGIN:VTIMEZONE
TZID:Europe/Brussels
BEGIN:DAYLIGHT
TZOFFSETFROM:+0100
TZOFFSETTO:+0200
TZNAME:CEST
DTSTART:20240331T010000
END:DAYLIGHT
BEGIN:STANDARD
TZOFFSETFROM:+0200
TZOFFSETTO:+0100
TZNAME:CET
DTSTART:20241027T010000
END:STANDARD
END:VTIMEZONE
BEGIN:VEVENT
DTSTART;TZID=Europe/Brussels:20240627T183000
DTEND;TZID=Europe/Brussels:20240630T180000
DTSTAMP:20260423T230720
CREATED:20240618T140507Z
LAST-MODIFIED:20240621T092305Z
UID:10000753-1719513000-1719770400@septem.stghislain.be
SUMMARY:Exposition | NOM’ART
DESCRIPTION:“L’exposition des Cours des Métiers d’Art du Hainaut sera consacrée aux différents états de la céramique.De la terre en poudre\, crue\, à la terre cuite émaillée.” \n\nListe des intervenants :Les professeurs intervenant dans l’atelier de céramique sont:Delphine Demoisy\, sculpteur et professeur de travail artistique du métalFrance Ossieur\, céramiste ayant travaillé au Musée du Cinquantenaire en tant que restauratrice d’oeuvres d’artAlain Losa\, céramiste et potierSara Signore\, sculpteur et également professeur de plâtre \n\nL’exposition Nom’Art se fait en collaboration avec les CMAH
URL:https://septem.stghislain.be/agenda/exposition-nomart/
LOCATION:Espace Ockeghem\, Grand'Place\, Saint-Ghislain\, 7330\, Belgique
CATEGORIES:Expositions,Saint-Ghislain
ATTACH;FMTTYPE=image/jpeg:https://septem.stghislain.be/wp-content/uploads/2024/06/exposition-nom-art-Septem-Culture_Saint_Ghislain-2024.jpg
ORGANIZER;CN="Septem":MAILTO:info@septem.stghislain.be
GEO:50.448167069123;3.8202549846597
X-APPLE-STRUCTURED-LOCATION;VALUE=URI;X-ADDRESS=Espace Ockeghem Grand'Place Saint-Ghislain 7330 Belgique;X-APPLE-RADIUS=500;X-TITLE=Grand'Place:geo:3.8202549846597,50.448167069123
END:VEVENT
BEGIN:VEVENT
DTSTART;TZID=Europe/Brussels:20240628T200000
DTEND;TZID=Europe/Brussels:20240628T213000
DTSTAMP:20260423T230720
CREATED:20240328T084338Z
LAST-MODIFIED:20240412T084651Z
UID:10000509-1719604800-1719610200@septem.stghislain.be
SUMMARY:Concert RAP | KAVA - Première partie : So\, Slim et MEH
DESCRIPTION:Kava\, le jeune rappeur de Saint-Ghislain\, se produira aux Jardins du Cloître à Saint-Ghislain le vendredi 28 juin à 20h. Les billets pour cette soirée musicale exceptionnelle sont proposés au prix de 15-18€. \nKava\, un artiste polyvalent\, se distingue par sa capacité à s’adapter aisément à divers styles musicaux tels que le rap lyrical\, cloud et mainstream. Réputé pour son exigence dans l’écriture de ses textes et la profondeur de leur signification\, le rappeur accorde une attention particulière à la finalité de ses projets. Son objectif est de garantir un flow contemporain\, varié et accessible à un large public. \nPremière partie: So\, Slim et MEH \nGrâce à sa maîtrise des différents styles de rap et des tendances musicales actuelles\, Kava a su\, au fil du temps\, forger son identité musicale et artistique unique.
URL:https://septem.stghislain.be/agenda/kava/
LOCATION:Les Jardins du Cloître\, 37 Grand Place\, Saint-Ghislain\, 7330\, Belgique
CATEGORIES:Concerts,Musique,Poésie,Saint-Ghislain
ATTACH;FMTTYPE=image/jpeg:https://septem.stghislain.be/wp-content/uploads/2024/03/kava-Septem-Culture_Saint_Ghislain-2024-1.jpg
ORGANIZER;CN="Septem":MAILTO:info@septem.stghislain.be
END:VEVENT
END:VCALENDAR