BEGIN:VCALENDAR
VERSION:2.0
PRODID:-//Septem - ECPv6.0.13.1//NONSGML v1.0//EN
CALSCALE:GREGORIAN
METHOD:PUBLISH
X-WR-CALNAME:Septem
X-ORIGINAL-URL:https://septem.stghislain.be
X-WR-CALDESC:évènements pour Septem
REFRESH-INTERVAL;VALUE=DURATION:PT1H
X-Robots-Tag:noindex
X-PUBLISHED-TTL:PT1H
BEGIN:VTIMEZONE
TZID:Europe/Brussels
BEGIN:DAYLIGHT
TZOFFSETFROM:+0100
TZOFFSETTO:+0200
TZNAME:CEST
DTSTART:20240331T010000
END:DAYLIGHT
BEGIN:STANDARD
TZOFFSETFROM:+0200
TZOFFSETTO:+0100
TZNAME:CET
DTSTART:20241027T010000
END:STANDARD
END:VTIMEZONE
BEGIN:VEVENT
DTSTART;TZID=Europe/Brussels:20240606T180000
DTEND;TZID=Europe/Brussels:20240613T170000
DTSTAMP:20260423T230548
CREATED:20240412T071656Z
LAST-MODIFIED:20240516T120636Z
UID:10000521-1717696800-1718298000@septem.stghislain.be
SUMMARY:Exposition | La création d'une ville invisible : Octavia
DESCRIPTION:En partenariat avec le secteur EducationPermanente et jeunesse de Hainaut Culture \nExposition « La création d’une ville invisible : Octavia »Vous êtes cordialement invités à plonger dans un monde imaginaire captivant lors de notre exposition spéciale « La création d’une ville invisible : Octavia« \, présentée en collaboration avec le secteur Education Permanente et Jeunesse de Hainaut Culture. \nEn hommage à Italo Calvino\, éminent romancier italien du XXe siècle reconnu pour sa créativité débordante et son esprit malicieux\, cette exposition vous transportera dans l’univers fantastique de son ouvrage emblématique « Les Villes invisibles ». \nChristine Mordant et Daniela Albis nous liront en italien et en français des extraits de ce formidable récit dans lequel Calvino\, par le truchement d’histoires racontées par Marco Polo\, nous emmène visiter des villes invisibles le 6 juin 2024 à 18h00. Visites guidées le 11 et 13 juin de 13h à 16h30 \nGrâce à la participation de l’Asbl La Marjolaine\, la Prévôté de Baudour et des ateliers Patchwork en partenariat avec Septem\, découvrez les représentations uniques de la ville d’Octavia créées par une multitude de participants qui viendront s’ajouter aux Octavie déjà créées par 20 autres créateurs : S.Bolognino\, A.Breyer\, J.Bulteel\, JG Closset\, V.Claes\, D.Decot\, S.Dionkre\, F.Deruyck\, N.Dubois\, P.Dubit\, I.Linotte\, R.Noviello\, C.Père\, M.Puleo\, JC Saudoyez\, A.Simeoni\, MH Sigart\, F.Scandolo\, C.Vandiepenbeeck.Du 6 au 12 juin 2024\, venez admirer ces œuvres inspirantes exposées au couvent d’Hautrage et laissez-vous imprégner par la magie d’Octavie/Octavia.
URL:https://septem.stghislain.be/agenda/ville-invisible-octavia/
LOCATION:Couvent d’Hautrage\, Grand'Place\, Hautrage\, 7334
CATEGORIES:Expositions,Saint-Ghislain
ATTACH;FMTTYPE=image/jpeg:https://septem.stghislain.be/wp-content/uploads/2024/04/creation-d-une-ville-invisible-Octavia-Septem-Culture_Saint_Ghislain-2024.jpg
ORGANIZER;CN="Septem":MAILTO:info@septem.stghislain.be
END:VEVENT
END:VCALENDAR