BEGIN:VCALENDAR
VERSION:2.0
PRODID:-//Septem - ECPv6.0.13.1//NONSGML v1.0//EN
CALSCALE:GREGORIAN
METHOD:PUBLISH
X-WR-CALNAME:Septem
X-ORIGINAL-URL:https://septem.stghislain.be
X-WR-CALDESC:évènements pour Septem
REFRESH-INTERVAL;VALUE=DURATION:PT1H
X-Robots-Tag:noindex
X-PUBLISHED-TTL:PT1H
BEGIN:VTIMEZONE
TZID:Europe/Brussels
BEGIN:DAYLIGHT
TZOFFSETFROM:+0100
TZOFFSETTO:+0200
TZNAME:CEST
DTSTART:20240331T010000
END:DAYLIGHT
BEGIN:STANDARD
TZOFFSETFROM:+0200
TZOFFSETTO:+0100
TZNAME:CET
DTSTART:20241027T010000
END:STANDARD
END:VTIMEZONE
BEGIN:VEVENT
DTSTART;TZID=Europe/Brussels:20240531T200000
DTEND;TZID=Europe/Brussels:20240531T210000
DTSTAMP:20260423T230740
CREATED:20240105T095428Z
LAST-MODIFIED:20240105T095433Z
UID:10000465-1717185600-1717189200@septem.stghislain.be
SUMMARY:Concert Jazz | Iguazú Quintet | Nicolas Sanna
DESCRIPTION:🎶Concert Iguazú Quintet : Une fusion envoûtante de Tango Nuevo et de Jazz de Chambre🎶 \nNous sommes ravis de vous annoncer le concert tant attendu de l’Iguazú Quintet ! Cet ensemble belge\, composé de musiciens multifacettes\, vous transportera dans un voyage musical moderne à travers le Tango Nuevo\, explorant de nouveaux territoires avec des arrangements originaux et des moments d’improvisation captivants. \nFondé en 2016 au sein du Conservatoire Royal de Mons (Arts2)\, l’Iguazú Quintet a rapidement évolué vers un projet professionnel mêlant musique classique\, tango et jazz. Le groupe a su conquérir les scènes belges et internationales grâce à son talent et sa passion. \nAprès la sortie de leur premier album dédié à Astor Piazzolla en 2020\, l’Iguazú Quintet prend désormais une direction plus jeune et plus moderne que jamais. Ils brouillent les frontières entre les genres musicaux et se positionnent fièrement comme une formation de « Jazz de Chambre ». \nPréparez-vous à embarquer pour un rêve éveillé et coloré\, le long des ruelles et des clubs de Buenos Aires. Leur musique vous transportera instantanément dans l’atmosphère vibrante de la capitale argentine\, où le tango se mêle aux influences contemporaines avec audace et créativité. \nNe manquez pas cette occasion unique
URL:https://septem.stghislain.be/agenda/iguazu-quintet/
LOCATION:Les Jardins du Cloître\, 37 Grand Place\, Saint-Ghislain\, 7330\, Belgique
CATEGORIES:Concerts,Musique,Saint-Ghislain
ATTACH;FMTTYPE=image/jpeg:https://septem.stghislain.be/wp-content/uploads/2024/01/Iguazu-Quintet-Septem-Culture_Saint_Ghislain-2024.jpg
ORGANIZER;CN="Septem":MAILTO:info@septem.stghislain.be
END:VEVENT
END:VCALENDAR