BEGIN:VCALENDAR
VERSION:2.0
PRODID:-//Septem - ECPv6.0.13.1//NONSGML v1.0//EN
CALSCALE:GREGORIAN
METHOD:PUBLISH
X-ORIGINAL-URL:https://septem.stghislain.be
X-WR-CALDESC:évènements pour Septem
REFRESH-INTERVAL;VALUE=DURATION:PT1H
X-Robots-Tag:noindex
X-PUBLISHED-TTL:PT1H
BEGIN:VTIMEZONE
TZID:Europe/Brussels
BEGIN:DAYLIGHT
TZOFFSETFROM:+0100
TZOFFSETTO:+0200
TZNAME:CEST
DTSTART:20240331T010000
END:DAYLIGHT
BEGIN:STANDARD
TZOFFSETFROM:+0200
TZOFFSETTO:+0100
TZNAME:CET
DTSTART:20241027T010000
END:STANDARD
END:VTIMEZONE
BEGIN:VEVENT
DTSTART;TZID=Europe/Brussels:20240524T100000
DTEND;TZID=Europe/Brussels:20240530T170000
DTSTAMP:20260424T002318
CREATED:20240514T073756Z
LAST-MODIFIED:20240514T073800Z
UID:10000640-1716544800-1717088400@septem.stghislain.be
SUMMARY:Exposition | La Mine
DESCRIPTION:
URL:https://septem.stghislain.be/agenda/exposition-la-mine/
LOCATION:Les Jardins du Cloître\, 37 Grand Place\, Saint-Ghislain\, 7330\, Belgique
CATEGORIES:Expositions,Saint-Ghislain
ATTACH;FMTTYPE=image/jpeg:https://septem.stghislain.be/wp-content/uploads/2024/05/exposition-la-mine-Septem-Culture_Saint_Ghislain-2024.jpg
ORGANIZER;CN="Septem":MAILTO:info@septem.stghislain.be
END:VEVENT
BEGIN:VEVENT
DTSTART;TZID=Europe/Brussels:20240525T100000
DTEND;TZID=Europe/Brussels:20240529T170000
DTSTAMP:20260424T002318
CREATED:20240329T091323Z
LAST-MODIFIED:20240404T095347Z
UID:10000518-1716631200-1717002000@septem.stghislain.be
SUMMARY:Exposition pour la Fondation privée Tic Tac
DESCRIPTION:ART’AIME4 Artistes4 Thèmes2 Ateliers4 artistes aux techniques et styles différents unis pour un même projet.La re socialisation des enfants de la rue de Ouagadougou\, au travers des activités artistiques et culturelles\, soutenues par la Fondation Tic Tac .Celle-ci vient en aide au plus démunis particulièrement les enfants .Pour plus d’info\, voir le site : https://tictaczen.org/ \nExpo du 25 au 29 maiVernissage vendredi 24 mai 18h \n2 ateliers d’art thérapie seront proposésLundi 27 et mardi 28de 14 h à 16h \nPrix: 25€ce montant sera destiné pour la réinsertion des enfants de la rue à Ouagadougou
URL:https://septem.stghislain.be/agenda/expo-ouagadougou/
LOCATION:Couvent d’Hautrage\, Grand'Place\, Hautrage\, 7334
CATEGORIES:Expositions,Hautrage,Saint-Ghislain
ATTACH;FMTTYPE=image/jpeg:https://septem.stghislain.be/wp-content/uploads/2024/03/expo-ouagadougou-Septem-Culture_Saint_Ghislain-2024-2.jpg
ORGANIZER;CN="Septem":MAILTO:info@septem.stghislain.be
END:VEVENT
BEGIN:VEVENT
DTSTART;TZID=Europe/Brussels:20240525T103000
DTEND;TZID=Europe/Brussels:20240525T113000
DTSTAMP:20260424T002318
CREATED:20240321T120157Z
LAST-MODIFIED:20240514T115517Z
UID:10000506-1716633000-1716636600@septem.stghislain.be
SUMMARY:Samedi Musica 3 | Dynamic Brass
DESCRIPTION:Le «Dynamic Brass» est un ensemble instrumental sous la forme d’un quintette de cuivres (composé d’une trompette piccolo\, d’une trompette\, d’un cor\, d’un trombone et d’un tuba). \nAfin de faire découvrir cette belle famille instrumentale\, ils vous présenteront chacun de leurs instruments au travers d’interprétations\, d’explications\, de détails techniques et historiques\, le tout dans un esprit très convivial mais également de manière assez ludique par rapport au public de l’entité Saint-Ghislainoise.
URL:https://septem.stghislain.be/agenda/samedi-musica-3/
LOCATION:Les Jardins du Cloître\, 37 Grand Place\, Saint-Ghislain\, 7330\, Belgique
CATEGORIES:Ateliers,En famille,Jeune public,Musique,Saint-Ghislain
ATTACH;FMTTYPE=image/jpeg:https://septem.stghislain.be/wp-content/uploads/2024/03/samedi-musica3-dynamic-brass-Septem-Culture_Saint_Ghislain-2024.jpg
ORGANIZER;CN="Septem":MAILTO:info@septem.stghislain.be
END:VEVENT
BEGIN:VEVENT
DTSTART;TZID=Europe/Brussels:20240525T170000
DTEND;TZID=Europe/Brussels:20240525T203000
DTSTAMP:20260424T002318
CREATED:20240408T091426Z
LAST-MODIFIED:20240515T102043Z
UID:10000517-1716656400-1716669000@septem.stghislain.be
SUMMARY:Présentation de notre saison 2024-2025 - Départ de la Gare de St-Ghislain à 17h
DESCRIPTION:🌟 Événement à ne pas manquer ! 🌟 \nVous êtes cordialement invités à venir découvrir notre programmation exceptionnelle le 25 mai. Départ de la gare à 17h avec les Fous Volants direction les Jardins du Cloître de Saint-Ghislain. \n– Fous Volants : 17h00 (départ à la gare de Saint-Ghislain)– Fanfare sur la place : 17h30 (Fanfare de Vaudignies)– Début aux Jardins du Cloître : 19h15 \n🎬 Des séances de cinéma envoûtantes🎭 Des pièces de théâtre captivantes🎶 Des concerts vibrants🎨 Des ateliers créatifs inspirants🎭 Des spectacles pleins de magie💃 Des performances de danse envoûtantes \nVenez explorer notre palette d’événements culturels qui sauront éveiller vos sens\, enrichir votre esprit et vous offrir des moments inoubliables. Que vous soyez passionné de cinéma\, amateur de théâtre\, mélomane ou amateur de danse\, notre programmation variée comblera toutes vos attentes. \nRéservez dès maintenant votre place pour cette journée immersive et laissez-vous emporter par la magie de l’art sous toutes ses formes. Rejoignez-nous le 25 mai à 17h pour une expérience conviviale. Nous avons hâte de partager ces moments uniques avec vous ! 🎉🎭🎶🎨 \nRéservations par mail à info@septem.stghislain.be
URL:https://septem.stghislain.be/agenda/presentation-saison-24-25/
LOCATION:Les Jardins du Cloître\, 37 Grand Place\, Saint-Ghislain\, 7330\, Belgique
CATEGORIES:Programmes,Rencontres,Saint-Ghislain
ATTACH;FMTTYPE=image/jpeg:https://septem.stghislain.be/wp-content/uploads/2024/03/presentation-saison-24-25-Septem-Culture_Saint_Ghislain-2024.jpg
ORGANIZER;CN="Septem":MAILTO:info@septem.stghislain.be
END:VEVENT
END:VCALENDAR