BEGIN:VCALENDAR
VERSION:2.0
PRODID:-//Septem - ECPv6.0.13.1//NONSGML v1.0//EN
CALSCALE:GREGORIAN
METHOD:PUBLISH
X-WR-CALNAME:Septem
X-ORIGINAL-URL:https://septem.stghislain.be
X-WR-CALDESC:évènements pour Septem
REFRESH-INTERVAL;VALUE=DURATION:PT1H
X-Robots-Tag:noindex
X-PUBLISHED-TTL:PT1H
BEGIN:VTIMEZONE
TZID:Europe/Brussels
BEGIN:DAYLIGHT
TZOFFSETFROM:+0100
TZOFFSETTO:+0200
TZNAME:CEST
DTSTART:20240331T010000
END:DAYLIGHT
BEGIN:STANDARD
TZOFFSETFROM:+0200
TZOFFSETTO:+0100
TZNAME:CET
DTSTART:20241027T010000
END:STANDARD
END:VTIMEZONE
BEGIN:VEVENT
DTSTART;TZID=Europe/Brussels:20240521T133000
DTEND;TZID=Europe/Brussels:20240521T163000
DTSTAMP:20260424T002031
CREATED:20231114T094709Z
LAST-MODIFIED:20231114T094713Z
UID:10000415-1716298200-1716309000@septem.stghislain.be
SUMMARY:Cinéma | Oppenheimer
DESCRIPTION:En 1942\, convaincus que l’Allemagne nazie est en train de développer une arme nucléaire\, les États-Unis initient\, dans le plus grand secret\, le « Projet Manhattan » destiné à mettre au point la première bombe atomique de l’histoire. \nPour piloter ce dispositif\, le gouvernement engage J. Robert Oppenheimer\, brillant physicien\, qui sera bientôt surnommé « le père de la bombe atomique ». C’est dans le laboratoire ultra-secret de Los Alamos\, au cœur du désert du \nNouveau-Mexique\, que le scientifique et son équipe mettent au point une arme révolutionnaire dont les conséquences\, vertigineuses\, continuent de peser sur le monde actuel… \nDurée: 3h
URL:https://septem.stghislain.be/agenda/oppenheimer/2024-05-21/1/
LOCATION:Les Jardins du Cloître\, 37 Grand Place\, Saint-Ghislain\, 7330\, Belgique
CATEGORIES:Cinéma,Films,Saint-Ghislain
ATTACH;FMTTYPE=image/jpeg:https://septem.stghislain.be/wp-content/uploads/2023/11/cinema-Oppenheimer-Septem-Culture_Saint_Ghislain-2024.jpg
ORGANIZER;CN="Septem":MAILTO:info@septem.stghislain.be
END:VEVENT
BEGIN:VEVENT
DTSTART;TZID=Europe/Brussels:20240521T193000
DTEND;TZID=Europe/Brussels:20240521T223000
DTSTAMP:20260424T002031
CREATED:20231114T094709Z
LAST-MODIFIED:20231114T094713Z
UID:10000416-1716319800-1716330600@septem.stghislain.be
SUMMARY:Cinéma | Oppenheimer
DESCRIPTION:En 1942\, convaincus que l’Allemagne nazie est en train de développer une arme nucléaire\, les États-Unis initient\, dans le plus grand secret\, le « Projet Manhattan » destiné à mettre au point la première bombe atomique de l’histoire. \nPour piloter ce dispositif\, le gouvernement engage J. Robert Oppenheimer\, brillant physicien\, qui sera bientôt surnommé « le père de la bombe atomique ». C’est dans le laboratoire ultra-secret de Los Alamos\, au cœur du désert du \nNouveau-Mexique\, que le scientifique et son équipe mettent au point une arme révolutionnaire dont les conséquences\, vertigineuses\, continuent de peser sur le monde actuel… \nDurée: 3h
URL:https://septem.stghislain.be/agenda/oppenheimer/2024-05-21/2/
LOCATION:Les Jardins du Cloître\, 37 Grand Place\, Saint-Ghislain\, 7330\, Belgique
CATEGORIES:Cinéma,Films,Saint-Ghislain
ATTACH;FMTTYPE=image/jpeg:https://septem.stghislain.be/wp-content/uploads/2023/11/cinema-Oppenheimer-Septem-Culture_Saint_Ghislain-2024.jpg
ORGANIZER;CN="Septem":MAILTO:info@septem.stghislain.be
END:VEVENT
END:VCALENDAR