BEGIN:VCALENDAR
VERSION:2.0
PRODID:-//Septem - ECPv6.0.13.1//NONSGML v1.0//EN
CALSCALE:GREGORIAN
METHOD:PUBLISH
X-ORIGINAL-URL:https://septem.stghislain.be
X-WR-CALDESC:évènements pour Septem
REFRESH-INTERVAL;VALUE=DURATION:PT1H
X-Robots-Tag:noindex
X-PUBLISHED-TTL:PT1H
BEGIN:VTIMEZONE
TZID:Europe/Brussels
BEGIN:DAYLIGHT
TZOFFSETFROM:+0100
TZOFFSETTO:+0200
TZNAME:CEST
DTSTART:20240331T010000
END:DAYLIGHT
BEGIN:STANDARD
TZOFFSETFROM:+0200
TZOFFSETTO:+0100
TZNAME:CET
DTSTART:20241027T010000
END:STANDARD
END:VTIMEZONE
BEGIN:VEVENT
DTSTART;TZID=Europe/Brussels:20240503T100000
DTEND;TZID=Europe/Brussels:20240509T170000
DTSTAMP:20260424T002314
CREATED:20240507T125735Z
LAST-MODIFIED:20240507T125739Z
UID:10000529-1714730400-1715274000@septem.stghislain.be
SUMMARY:Exposition | UE didactique
DESCRIPTION:Offrir une possibilité à la jeunesse et au grand public d’être pleinement informé tant du fonctionnement de l’UE que de l’offre politique démocratique est une mission qu’entend prendre à bras le corps Septem . Venez découvrir l’exposition UE didactique du 3 mai au 9 mai inclus. \nUE : Débat des partis politiques \nLe 9 juin 2024\, le Parlement européen sera renouvelé. La montée des extrêmes inquiète grandement notre société démocratique. C’est en ce sens que notre Centre culturel a\ndécidé de se mobiliser et d’organiser un dé- bat avec les principaux partis politiques.
URL:https://septem.stghislain.be/agenda/ue-didactique/
LOCATION:Les Jardins du Cloître\, 37 Grand Place\, Saint-Ghislain\, 7330\, Belgique
CATEGORIES:Expositions,Saint-Ghislain
ATTACH;FMTTYPE=image/jpeg:https://septem.stghislain.be/wp-content/uploads/2024/05/exposition-UE-didactique-Septem-Culture_Saint_Ghislain-2024.jpg
ORGANIZER;CN="Septem":MAILTO:info@septem.stghislain.be
END:VEVENT
BEGIN:VEVENT
DTSTART;TZID=Europe/Brussels:20240503T180000
DTEND;TZID=Europe/Brussels:20240503T223000
DTSTAMP:20260424T002314
CREATED:20240430T153954Z
LAST-MODIFIED:20240501T130812Z
UID:10000527-1714759200-1714775400@septem.stghislain.be
SUMMARY:Expo | Transcultures Opening @ Couvent d’Hautrage
DESCRIPTION:Pour célébrer sa participation active au projet alliant création et formation au Couvent d’Hautrage\, Transcultures\, en partenariat avec Septem\, vous convie à une manifestation multiple à l’image du Centre interdisciplinaire des cultures numériques et sonores\, dans différents espaces de ce lieu historique (16ème siècle). \nVous pourrez y découvrir\, dans une ambiance conviviale et une approche transversale chères à Transcultures depuis ses origines (1996)\, la richesse et singularité des propositions sonores\, visuelles et multimédiatiques (pour la plupart\, des créations pour cette occasion) d’artistes belges et de dimension internationale qui ont été préalablement accueillis en résidence dans cet écrin patrimonial inspirant. \n			\n				Voir le programme complet sur le site de Transcultures\n			\n				\n				\n				\n				\n				03 > 18.05.2024 (12 > 17:00) – Expositions + Performances + Vidéos\nVendredi 03.05 \n18.00 vernissage des expositions numérique/son/photo/vidéo– Ce que j’ai exhumé (Fred Chemama)– Phonons & Photons (Alain Wergifosse)+ Tommy Lawson – Apéro Mix (apéro offert)20.00 performanceFred Chemama (vidéo\, lumière) + Alain Wergifosse (live soundtrack) : Présence et fantasmagorie \nSamedi 04.05 \n12.00 > 17.00 expositions + vidéos14.00 > 17.00 atelier Isa*Belle Corps & Son + Open Transonic studio + Tommy Lawson – Apéro Mix (apéro offert) \nDimanche 05.05 \n14.00 > 17.00 expositions + Open Transonic studio16.00 performances sonopoétiques– Eric Therer/Quelques piétons : Fragments d’un carnet conventuel– Christian Leroy (piano\, synthé) + Paradise Now (voix\, électronique\, guitare) + guests Isa*Belle (bols chantants)\, Mira (lumière) : Dada Sonopoetics– Quelques piétons – Apéro mix \nSamedi 11.05 \n12.00 > 19.00 expositions + vidéos + Transonic open studio19.00 rencontre avec les artistes Fred Chemama & Alain Wergifosse (modérateur : Philippe Franck) + apéro offert20.00 concerts– Alain Wergifosse Organa Mantra (orgue\, électronique)– Performance Fred Chemama avec Alain Wergifosse Foz Machine \n			\n				\n				\n				\n				\n				\n			\n				Voir le programme complet sur le site de Transcultures
URL:https://septem.stghislain.be/agenda/transcultures-opening-couvent-dhautrage/
LOCATION:Couvent d’Hautrage\, Grand'Place\, Hautrage\, 7334
CATEGORIES:Arts Numériques,Arts Plastiques,Arts Sonores,Arts Video,Concerts,Expositions,Musique,Performances,Poésie,Saint-Ghislain
ATTACH;FMTTYPE=image/jpeg:https://septem.stghislain.be/wp-content/uploads/2024/04/Transcultures_Opening-Banner1-Background_Fred_Chemama-Couvent_d_Hautrage-2024.jpg
ORGANIZER;CN="Transcultures":MAILTO:contact@transcultures.be
END:VEVENT
END:VCALENDAR