BEGIN:VCALENDAR
VERSION:2.0
PRODID:-//Septem - ECPv6.0.13.1//NONSGML v1.0//EN
CALSCALE:GREGORIAN
METHOD:PUBLISH
X-ORIGINAL-URL:https://septem.stghislain.be
X-WR-CALDESC:évènements pour Septem
REFRESH-INTERVAL;VALUE=DURATION:PT1H
X-Robots-Tag:noindex
X-PUBLISHED-TTL:PT1H
BEGIN:VTIMEZONE
TZID:Europe/Brussels
BEGIN:DAYLIGHT
TZOFFSETFROM:+0100
TZOFFSETTO:+0200
TZNAME:CEST
DTSTART:20240331T010000
END:DAYLIGHT
BEGIN:STANDARD
TZOFFSETFROM:+0200
TZOFFSETTO:+0100
TZNAME:CET
DTSTART:20241027T010000
END:STANDARD
END:VTIMEZONE
BEGIN:VEVENT
DTSTART;TZID=Europe/Brussels:20240420T090000
DTEND;TZID=Europe/Brussels:20240428T170000
DTSTAMP:20260424T014245
CREATED:20240313T133657Z
LAST-MODIFIED:20240411T142619Z
UID:10000500-1713603600-1714323600@septem.stghislain.be
SUMMARY:Exposition | Bleu-Impressions de Paysages Marins | Anne-Lies Verbeeck
DESCRIPTION:Par ses œuvres\, l’artiste décrit ses impressions des plus vastes masses liquides qui couvrent notre planète : les mers et les océans. Ses créations sont à la fois très complexes et très “impressionnistes” puisque la plupart de celles-ci ont été réalisées après que l’artiste se soit perdue sur les plages ou entre les rochers de la façade atlantique en passant de la Gaspésie pour revenir près des côtes d’Armor. \nInitiée via des formations en psychologie et en psychanalyse\, l’artiste est fortement attirée par ces eaux qui symbolisent à ses yeux à la fois la liberté non entravée\, celle que pourrait contenir l’esprit et la volonté de s’y perdre comme un bateau rouge qui navigue sur les flots. \n\nVernissage : Samedi 20/04/2024 à 11h00  \nOuverture au public : du 20/04 au 28/04/2024  \nHeure d’ouverture : selon l’horaire au Couvent de 09h00 à 16h30. 
URL:https://septem.stghislain.be/agenda/bleu-impressions-de-paysages-marins/
LOCATION:Couvent d’Hautrage\, Grand'Place\, Hautrage\, 7334
CATEGORIES:Expositions,Saint-Ghislain
ATTACH;FMTTYPE=image/jpeg:https://septem.stghislain.be/wp-content/uploads/2024/03/exposition-Bleu-Impression-de-Paysages-Marins-Verbeek-Septem-Culture_Saint_Ghislain-2024.jpg
ORGANIZER;CN="Septem":MAILTO:info@septem.stghislain.be
END:VEVENT
BEGIN:VEVENT
DTSTART;TZID=Europe/Brussels:20240427T160000
DTEND;TZID=Europe/Brussels:20240427T173000
DTSTAMP:20260424T014245
CREATED:20231211T092314Z
LAST-MODIFIED:20240319T125816Z
UID:10000444-1714233600-1714239000@septem.stghislain.be
SUMMARY:Divertissement | Magie | Juste une illusion
DESCRIPTION:🎩✨ Préparez-vous à être ébloui par un spectacle de magie enchanteur ! ✨🎩 \nLe 27 avril à 16h ou 20h\, les Jardins du Cloître de Saint-Ghislain accueilleront « Juste une illusion »\, un spectacle de magie captivant qui vous transportera dans un monde mystérieux et féérique. Accompagné de son assistante talentueuse\, cet illusionniste vous promet un spectacle visuel et interactif hors du commun. \nPréparez-vous à être bluffé par des grandes illusions à couper le souffle : lévitation\, disparition dans une pyramide\, découpe de boîte en deux… Ces performances visuelles à succès seront au rendez-vous pour vous émerveiller. \n« Juste une illusion » est bien plus qu’un simple spectacle\, c’est une parenthèse poétique et magique dans votre vie quotidienne. Laissez-vous transporter par l’univers envoûtant de ce duo magique et plongez dans une expérience interactive unique. \nVeuillez noter que ce spectacle n’est pas conseillé aux enfants de moins de 8 ans. \nRéservez dès maintenant vos places pour vivre cette expérience extraordinaire ! \nTarifs : 15 à 18€ \n#SpectacleDeMagie #GrandeIllusion #JardinsDuCloître #Enchantement
URL:https://septem.stghislain.be/agenda/magie-juste-une-illusion/2024-04-27/1/
LOCATION:Les Jardins du Cloître\, 37 Grand Place\, Saint-Ghislain\, 7330\, Belgique
CATEGORIES:Arts de la scène,Saint-Ghislain,Spectacle
ATTACH;FMTTYPE=image/jpeg:https://septem.stghislain.be/wp-content/uploads/2023/12/Magic-fabian-Saint-Ghislain-Autrement-Septem-Culture_Saint_Ghislain-2024.jpg
ORGANIZER;CN="Septem":MAILTO:info@septem.stghislain.be
END:VEVENT
BEGIN:VEVENT
DTSTART;TZID=Europe/Brussels:20240427T200000
DTEND;TZID=Europe/Brussels:20240427T213000
DTSTAMP:20260424T014245
CREATED:20231211T092314Z
LAST-MODIFIED:20240319T125816Z
UID:10000503-1714248000-1714253400@septem.stghislain.be
SUMMARY:Divertissement | Magie | Juste une illusion
DESCRIPTION:🎩✨ Préparez-vous à être ébloui par un spectacle de magie enchanteur ! ✨🎩 \nLe 27 avril à 16h ou 20h\, les Jardins du Cloître de Saint-Ghislain accueilleront « Juste une illusion »\, un spectacle de magie captivant qui vous transportera dans un monde mystérieux et féérique. Accompagné de son assistante talentueuse\, cet illusionniste vous promet un spectacle visuel et interactif hors du commun. \nPréparez-vous à être bluffé par des grandes illusions à couper le souffle : lévitation\, disparition dans une pyramide\, découpe de boîte en deux… Ces performances visuelles à succès seront au rendez-vous pour vous émerveiller. \n« Juste une illusion » est bien plus qu’un simple spectacle\, c’est une parenthèse poétique et magique dans votre vie quotidienne. Laissez-vous transporter par l’univers envoûtant de ce duo magique et plongez dans une expérience interactive unique. \nVeuillez noter que ce spectacle n’est pas conseillé aux enfants de moins de 8 ans. \nRéservez dès maintenant vos places pour vivre cette expérience extraordinaire ! \nTarifs : 15 à 18€ \n#SpectacleDeMagie #GrandeIllusion #JardinsDuCloître #Enchantement
URL:https://septem.stghislain.be/agenda/magie-juste-une-illusion/2024-04-27/2/
LOCATION:Les Jardins du Cloître\, 37 Grand Place\, Saint-Ghislain\, 7330\, Belgique
CATEGORIES:Arts de la scène,Saint-Ghislain,Spectacle
ATTACH;FMTTYPE=image/jpeg:https://septem.stghislain.be/wp-content/uploads/2023/12/Magic-fabian-Saint-Ghislain-Autrement-Septem-Culture_Saint_Ghislain-2024.jpg
ORGANIZER;CN="Septem":MAILTO:info@septem.stghislain.be
END:VEVENT
END:VCALENDAR