BEGIN:VCALENDAR
VERSION:2.0
PRODID:-//Septem - ECPv6.0.13.1//NONSGML v1.0//EN
CALSCALE:GREGORIAN
METHOD:PUBLISH
X-ORIGINAL-URL:https://septem.stghislain.be
X-WR-CALDESC:évènements pour Septem
REFRESH-INTERVAL;VALUE=DURATION:PT1H
X-Robots-Tag:noindex
X-PUBLISHED-TTL:PT1H
BEGIN:VTIMEZONE
TZID:Europe/Brussels
BEGIN:DAYLIGHT
TZOFFSETFROM:+0100
TZOFFSETTO:+0200
TZNAME:CEST
DTSTART:20240331T010000
END:DAYLIGHT
BEGIN:STANDARD
TZOFFSETFROM:+0200
TZOFFSETTO:+0100
TZNAME:CET
DTSTART:20241027T010000
END:STANDARD
END:VTIMEZONE
BEGIN:VEVENT
DTSTART;TZID=Europe/Brussels:20240412T190000
DTEND;TZID=Europe/Brussels:20240421T170000
DTSTAMP:20260424T014245
CREATED:20240130T144119Z
LAST-MODIFIED:20240412T123657Z
UID:10000486-1712948400-1713718800@septem.stghislain.be
SUMMARY:Exposition Monde #Couleurs
DESCRIPTION:Après deux jours de défilé couronné de succès\, venez découvrir ou redécouvrir les créations des élèves du Lycée Provincial ETH. Des tenues directement sorties de comptes de fées mêlant différentes techniques de peintures. Un voyage artistique à ne pas manquer ! \nVernissage : 12/04/2024 à 18h30Ouverture du 12/04 au 21/04/2024 \n\nHoraires d’ouverture : \n\n\ndu lundi au vendredi : de 10h00 à 16h00 \n\n\nsamedi : de 10h00 à 18h00 \n\n\nDimanche : jour de fermeture Comment end  \n\n\n 
URL:https://septem.stghislain.be/agenda/exposition-mondecouleurs/
LOCATION:Espace Ockeghem\, Grand'Place\, Saint-Ghislain\, 7330\, Belgique
CATEGORIES:Expositions,Saint-Ghislain
ATTACH;FMTTYPE=image/jpeg:https://septem.stghislain.be/wp-content/uploads/2024/01/Exposition-ModeCouleurs-Saint-Ghislain-Autrement-Septem-Culture_Saint_Ghislain-2024.jpg
ORGANIZER;CN="Septem":MAILTO:info@septem.stghislain.be
GEO:50.448167069123;3.8202549846597
X-APPLE-STRUCTURED-LOCATION;VALUE=URI;X-ADDRESS=Espace Ockeghem Grand'Place Saint-Ghislain 7330 Belgique;X-APPLE-RADIUS=500;X-TITLE=Grand'Place:geo:3.8202549846597,50.448167069123
END:VEVENT
BEGIN:VEVENT
DTSTART;TZID=Europe/Brussels:20240413T093000
DTEND;TZID=Europe/Brussels:20240413T164500
DTSTAMP:20260424T014245
CREATED:20231130T094644Z
LAST-MODIFIED:20240321T092810Z
UID:10000436-1713000600-1713026700@septem.stghislain.be
SUMMARY:Spectacle | Petite enfance | Sous la table | à partir de 6 mois jusque 6 ans
DESCRIPTION:🎉 Ne manquez pas l’événement « Sous la table » qui se tiendra le 13 avril aux Jardins du Cloître de Saint-Ghislain ! 🌼\nPlusieurs représentations son disponibles dans la journée : 9h30 – 10h15 – 11h00 – 11h45 – 14h30 – 15h15 – 16h00 – 16h45\nPlongez dans un univers magique où petits et grands se glissent ensemble sous la table pour vivre des aventures inoubliables. Rappelez-vous ces moments d’enfance où se cacher sous la table était synonyme de liberté et d’imagination débordante. \nLe plateau au-dessus de votre tête se transforme en un immense écran\, révélant les ombres changeantes d’un magnifique bouquet de fleurs. Bientôt\, le couvert est dressé et vous êtes invités à observer\, cachés sous la table\, la métamorphose qui s’opère. De l’autre côté du miroir\, un repas décalé se déroule\, mêlant l’absurde et la poésie pour échapper joyeusement aux tracas du quotidien. \nAprès le spectacle\, ne manquez pas notre labo participatif ! Des tables basses seront mises à disposition\, regorgeant de formes en papier avec lesquelles vous pourrez jouer\, associer des idées et raconter des histoires. Vous pourrez également vous glisser sous la petite table et découvrir les jeux d’ombre créés grâce à son plateau transformé en écran. \n« Sous la table » est une expérience à vivre en famille ou à partager avec les écoles\, les crèches et les maternelles. \nLes billets sont disponibles au prix de 5 à 8 € / adulte. Gratuit pour les enfants à partir de 6 mois. Réservation indispensable car jauge limitée à 12. \nNous pouvons accueillir de 8 à 10 spectateurs\, enfants et adultes. \nRejoignez-nous pour une aventure extraordinaire où l’imagination prend vie sous la table ! \n#SousLaTable #SpectacleEnfants #ImaginationDébordante #JardinsDuCloître #SaintGhislain \n\nConception et performance : AnneSara Six et Isabelle Pauly \nAide artistique : Marie Van Roey \nMusique : Stéphane Grégoire  Oeil extérieur : Oriane Varak \nDiffusion : Pierre Ronti – Mes Idées Fixes \nAvec le soutien de : la Montagne Magique\, la Maison Culturelle d’Ath\, la bourse aux artistes hainuyers\, la Maison des Cultures de Saint-Gilles\, la Maison des Cultures et de la Cohésion Sociale de Molenbeek\, la SABAM et la Fédération Wallonie-Bruxelles (Arts plastiques)
URL:https://septem.stghislain.be/agenda/sous-la-table/
LOCATION:Les Jardins du Cloître\, 37 Grand Place\, Saint-Ghislain\, 7330\, Belgique
CATEGORIES:En famille,Marionnettes,Saint-Ghislain,Spectacle,Théâtre
ATTACH;FMTTYPE=image/jpeg:https://septem.stghislain.be/wp-content/uploads/2023/11/sous-la-table-Septem-Culture_Saint_Ghislain-2024.jpg
ORGANIZER;CN="Septem":MAILTO:info@septem.stghislain.be
END:VEVENT
END:VCALENDAR