BEGIN:VCALENDAR
VERSION:2.0
PRODID:-//Septem - ECPv6.0.13.1//NONSGML v1.0//EN
CALSCALE:GREGORIAN
METHOD:PUBLISH
X-ORIGINAL-URL:https://septem.stghislain.be
X-WR-CALDESC:évènements pour Septem
REFRESH-INTERVAL;VALUE=DURATION:PT1H
X-Robots-Tag:noindex
X-PUBLISHED-TTL:PT1H
BEGIN:VTIMEZONE
TZID:Europe/Brussels
BEGIN:DAYLIGHT
TZOFFSETFROM:+0100
TZOFFSETTO:+0200
TZNAME:CEST
DTSTART:20240331T010000
END:DAYLIGHT
BEGIN:STANDARD
TZOFFSETFROM:+0200
TZOFFSETTO:+0100
TZNAME:CET
DTSTART:20241027T010000
END:STANDARD
END:VTIMEZONE
BEGIN:VEVENT
DTSTART;TZID=Europe/Brussels:20240308T100000
DTEND;TZID=Europe/Brussels:20240330T170000
DTSTAMP:20260424T024510
CREATED:20240308T095418Z
LAST-MODIFIED:20240308T095422Z
UID:10000499-1709892000-1711818000@septem.stghislain.be
SUMMARY:Concours | Gagne des places pour nos événements
DESCRIPTION:Gagne 𝗱𝗲𝘀 𝗽𝗹𝗮𝗰𝗲𝘀 pour 𝘂𝗻 𝗳𝗶𝗹𝗺\, 𝘂𝗻 𝗰𝗼𝗻𝗰𝗲𝗿𝘁 ou encore 𝘂𝗻𝗲 𝗽𝗶𝗲̀𝗰𝗲 𝗱𝗲 𝘁𝗵𝗲́𝗮̂𝘁𝗿𝗲 de ton choix chez 𝗦𝗲𝗽𝘁𝗲𝗺 !Pour participer\, il te suffit de répondre à ce court questionnaire sans oublier d’indiquer ton adresse mail à la fin. \nPour les 𝟭𝟱-𝟯𝟱 𝗮𝗻𝘀 : cliquez iciPour les 𝟯𝟲 – 𝟲𝟬 𝗮𝗻𝘀 : cliquez iciPour les 𝗽𝗹𝘂𝘀 𝗱𝗲 𝟲𝟬 𝗮𝗻𝘀 : cliquez ici \nVotre 𝗮𝗶𝗱𝗲 𝗻𝗼𝘂𝘀 𝗲𝘀𝘁 𝗽𝗿𝗲́𝗰𝗶𝗲𝘂𝘀𝗲 !
URL:https://septem.stghislain.be/agenda/concours-places-questionnaire/
LOCATION:Les Jardins du Cloître\, 37 Grand Place\, Saint-Ghislain\, 7330\, Belgique
CATEGORIES:Saint-Ghislain
ATTACH;FMTTYPE=image/jpeg:https://septem.stghislain.be/wp-content/uploads/2024/03/concours-gagne-des-places-Septem-Culture_Saint_Ghislain-2024.jpg
ORGANIZER;CN="Septem":MAILTO:info@septem.stghislain.be
END:VEVENT
BEGIN:VEVENT
DTSTART;TZID=Europe/Brussels:20240325T190000
DTEND;TZID=Europe/Brussels:20240325T203000
DTSTAMP:20260424T024510
CREATED:20231107T093604Z
LAST-MODIFIED:20240130T093737Z
UID:10000396-1711393200-1711398600@septem.stghislain.be
SUMMARY:Conférence | Exploration du monde | Himalaya méconnu
DESCRIPTION:Entre Bhoutan et Myanmar cet Himalaya méconnu est un documentaire rare. Il vous fera découvrir l’Arunachal Pradesh\, longtemps fermé aux étrangers. \nNous approchons et partagerons la vie de plusieurs populations tribales aux riches traditions. Un autre visage de l’Himalaya. \nUn film étonnant et des rencontres surprenantes
URL:https://septem.stghislain.be/agenda/exploration-du-monde-himalaya/
LOCATION:Les Jardins du Cloître\, 37 Grand Place\, Saint-Ghislain\, 7330\, Belgique
CATEGORIES:Conférences,Explo du Monde,Saint-Ghislain
ATTACH;FMTTYPE=image/jpeg:https://septem.stghislain.be/wp-content/uploads/2023/11/exploration-du-monde-himalaya-Septem-Culture_Saint_Ghislain-2024.jpg
ORGANIZER;CN="Septem":MAILTO:info@septem.stghislain.be
END:VEVENT
END:VCALENDAR