BEGIN:VCALENDAR
VERSION:2.0
PRODID:-//Septem - ECPv6.0.13.1//NONSGML v1.0//EN
CALSCALE:GREGORIAN
METHOD:PUBLISH
X-ORIGINAL-URL:https://septem.stghislain.be
X-WR-CALDESC:évènements pour Septem
REFRESH-INTERVAL;VALUE=DURATION:PT1H
X-Robots-Tag:noindex
X-PUBLISHED-TTL:PT1H
BEGIN:VTIMEZONE
TZID:Europe/Brussels
BEGIN:DAYLIGHT
TZOFFSETFROM:+0100
TZOFFSETTO:+0200
TZNAME:CEST
DTSTART:20240331T010000
END:DAYLIGHT
BEGIN:STANDARD
TZOFFSETFROM:+0200
TZOFFSETTO:+0100
TZNAME:CET
DTSTART:20241027T010000
END:STANDARD
END:VTIMEZONE
BEGIN:VEVENT
DTSTART;TZID=Europe/Brussels:20240216T183000
DTEND;TZID=Europe/Brussels:20240228T170000
DTSTAMP:20260424T034648
CREATED:20231218T135657Z
LAST-MODIFIED:20240207T090811Z
UID:10000463-1708108200-1709139600@septem.stghislain.be
SUMMARY:Exposition | Luc Herbint | TUÉ À LA TACHE
DESCRIPTION:TUÉ À LA TACHEExposition de LH (Luc HERBINT)\nUne peinture brute\, directe et sans concession.\n\nAttention deux lieux d’expositions:– Aux Jardins du Cloître de Saint-Ghislain dans la salle « La Licorne » du lundi au vendredi de 10h à 17h– Au Couvent d’Hautrage du lundi au vendredi de 14 à 18h et de 12h à 18h le week-end \n\nVernissage : 16/02/24 à 18h30 aux Jardins du Cloître de Saint-Ghislain
URL:https://septem.stghislain.be/agenda/exposition-luc-herbint/
LOCATION:Les Jardins du Cloître\, 37 Grand Place\, Saint-Ghislain\, 7330\, Belgique
CATEGORIES:Arts Visuels,Expositions,Hautrage,Saint-Ghislain
ATTACH;FMTTYPE=image/jpeg:https://septem.stghislain.be/wp-content/uploads/2023/12/expostion-luc-herbint-Septem-Culture_Saint_Ghislain-2024.jpg
ORGANIZER;CN="Septem":MAILTO:info@septem.stghislain.be
END:VEVENT
BEGIN:VEVENT
DTSTART;TZID=Europe/Brussels:20240225T160000
DTEND;TZID=Europe/Brussels:20240225T180000
DTSTAMP:20260424T034648
CREATED:20230705T124712Z
LAST-MODIFIED:20231114T092824Z
UID:10000244-1708876800-1708884000@septem.stghislain.be
SUMMARY:Cinéma | Les Trois Mousquetaires : D'Artagnan
DESCRIPTION:Un film de Martin Bourboulon avec François Civil\, Vincent Cassel\, Romain Duris\, Pio Marmaï et Eva Green \nDu Louvre au Palais de Buckingham\, des bas-fonds de Paris au siège de La Rochelle…Dans un Royaume divisé par les guerres de religion et menacé d’invasion par l’Angleterre\, une poignée d’hommes et de femmes vont croiser leurs épées et lier leur destin à celui de la France.
URL:https://septem.stghislain.be/agenda/les-3-mousquetaires/
LOCATION:Les Jardins du Cloître\, 37 Grand Place\, Saint-Ghislain\, 7330\, Belgique
CATEGORIES:Cinéma,Films,Saint-Ghislain
ATTACH;FMTTYPE=image/jpeg:https://septem.stghislain.be/wp-content/uploads/2023/07/cinema-les-trois-mousquetaires-Septem-Culture_Saint_Ghislain-2024.jpg
ORGANIZER;CN="Septem":MAILTO:info@septem.stghislain.be
END:VEVENT
END:VCALENDAR