BEGIN:VCALENDAR
VERSION:2.0
PRODID:-//Septem - ECPv6.0.13.1//NONSGML v1.0//EN
CALSCALE:GREGORIAN
METHOD:PUBLISH
X-ORIGINAL-URL:https://septem.stghislain.be
X-WR-CALDESC:évènements pour Septem
REFRESH-INTERVAL;VALUE=DURATION:PT1H
X-Robots-Tag:noindex
X-PUBLISHED-TTL:PT1H
BEGIN:VTIMEZONE
TZID:Europe/Brussels
BEGIN:DAYLIGHT
TZOFFSETFROM:+0100
TZOFFSETTO:+0200
TZNAME:CEST
DTSTART:20240331T010000
END:DAYLIGHT
BEGIN:STANDARD
TZOFFSETFROM:+0200
TZOFFSETTO:+0100
TZNAME:CET
DTSTART:20241027T010000
END:STANDARD
END:VTIMEZONE
BEGIN:VEVENT
DTSTART;TZID=Europe/Brussels:20240209T183000
DTEND;TZID=Europe/Brussels:20240221T170000
DTSTAMP:20260424T034535
CREATED:20240129T104628Z
LAST-MODIFIED:20240205T065700Z
UID:10000485-1707503400-1708534800@septem.stghislain.be
SUMMARY:Exposition | “Saint-Ghislain Autrement” par les élèves des ETH section TQ Arts et infographie
DESCRIPTION:Voir la ville de Saint-Ghislain n’est pas chose aisée. Les élèves du Lycée Provincial ETH ont dû user de différentes techniques et angles de prise de vue afin de révéler des détails méconnus et de créer une vision nouvelle de la cité de l’Ourse. Un voyage entre cadrages vertigineux et images abstraites. \n\nHoraires d’ouverture :Du lundi au samedi de 14h00 à 18h00Mercredi de 09h00 à 13h00 et de 14h00 à 18h00Fermé le dimanche \nVernissage : le vendredi 09/02/2024 à 18h30
URL:https://septem.stghislain.be/agenda/expo-st-ghislain-autrement/
LOCATION:Espace Ockeghem\, Grand'Place\, Saint-Ghislain\, 7330\, Belgique
CATEGORIES:Expositions,Saint-Ghislain
ATTACH;FMTTYPE=image/jpeg:https://septem.stghislain.be/wp-content/uploads/2024/01/exposition-Saint-Ghislain-Autrement-Septem-Culture_Saint_Ghislain-2024.jpg
ORGANIZER;CN="Septem":MAILTO:info@septem.stghislain.be
GEO:50.448167069123;3.8202549846597
X-APPLE-STRUCTURED-LOCATION;VALUE=URI;X-ADDRESS=Espace Ockeghem Grand'Place Saint-Ghislain 7330 Belgique;X-APPLE-RADIUS=500;X-TITLE=Grand'Place:geo:3.8202549846597,50.448167069123
END:VEVENT
BEGIN:VEVENT
DTSTART;TZID=Europe/Brussels:20240216T183000
DTEND;TZID=Europe/Brussels:20240228T170000
DTSTAMP:20260424T034535
CREATED:20231218T135657Z
LAST-MODIFIED:20240207T090811Z
UID:10000463-1708108200-1709139600@septem.stghislain.be
SUMMARY:Exposition | Luc Herbint | TUÉ À LA TACHE
DESCRIPTION:TUÉ À LA TACHEExposition de LH (Luc HERBINT)\nUne peinture brute\, directe et sans concession.\n\nAttention deux lieux d’expositions:– Aux Jardins du Cloître de Saint-Ghislain dans la salle « La Licorne » du lundi au vendredi de 10h à 17h– Au Couvent d’Hautrage du lundi au vendredi de 14 à 18h et de 12h à 18h le week-end \n\nVernissage : 16/02/24 à 18h30 aux Jardins du Cloître de Saint-Ghislain
URL:https://septem.stghislain.be/agenda/exposition-luc-herbint/
LOCATION:Les Jardins du Cloître\, 37 Grand Place\, Saint-Ghislain\, 7330\, Belgique
CATEGORIES:Arts Visuels,Expositions,Hautrage,Saint-Ghislain
ATTACH;FMTTYPE=image/jpeg:https://septem.stghislain.be/wp-content/uploads/2023/12/expostion-luc-herbint-Septem-Culture_Saint_Ghislain-2024.jpg
ORGANIZER;CN="Septem":MAILTO:info@septem.stghislain.be
END:VEVENT
BEGIN:VEVENT
DTSTART;TZID=Europe/Brussels:20240217T200000
DTEND;TZID=Europe/Brussels:20240217T213000
DTSTAMP:20260424T034535
CREATED:20231130T091220Z
LAST-MODIFIED:20231130T091223Z
UID:10000435-1708200000-1708205400@septem.stghislain.be
SUMMARY:Divertissement | Chant et danse | Astoria Dance
DESCRIPTION:🎉 Ne ratez pas l’événement « Astoria Danse » le 17 février à 20h aux Jardins du Cloître de Saint-Ghislain ! 🌟 \nVenez découvrir Astoria\, un ensemble musical qui interprète les œuvres d’Astor Piazzolla adaptées et transcrites par l’accordéoniste Christophe Delporte. Leur identité musicale se distingue par leur énergie\, leur rigueur et l’émotion palpable dans leurs interprétations. \nDans la lignée d’Astor Piazzolla\, Astoria trouve son essence à la croisée des chemins. Ils allient la qualité musicale et la maîtrise instrumentale propre à l’univers classique\, tout en préservant la magie rythmique et mélodique des originaux. \nEn échangeant les plafonds bas des bars enfumés et des studios d’enregistrement pour les salles de concert\, Astoria répond aux aspirations du compositeur lui-même. Astor Piazzolla aimait laisser s’épanouir les sonorités uniques et inimitables de son ensemble dans des cadres appropriés. \nDepuis leur création en 2004\, Astoria a participé à de nombreuses émissions de télévision telles que « Vivement Dimanche » présentée par Michel Drucker sur France 2\, et des programmes radio tels que « Le Monde est un Village » sur RTBF La Première. Ils ont enregistré cinq albums et un DVD\, et sont actuellement signés chez Antarctica Records. \nAcclamé par la presse et invité de grands festivals nationaux et internationaux\, Astoria a su conquérir les scènes les plus prestigieuses. Leurs interprétations des standards du « tango nuevo » suscitent une large palette d’émotions\, allant de la malice tendre à la douce nostalgie en passant par une joie débordante. Astoria vous fera voyager des faubourgs de Buenos Aires jusqu’aux terres chaudes enfouies sous la flore tropicale. \nL’ensemble est composé d’Isabelle Chardon au violon\, Jennifer Scavuzzo au chant\, Léonardo Anglani au piano\, Eric Chardon au violoncelle\, Adrien Tyberghein à la contrebasse et Christophe Delporte à l’accordéon\, accordina et bandonéon. Ils seront accompagnés par des invités tels que Marc Grauwels à la flûte\, Fumito Nunoya au marimba\, Dante et Monika Dominguez pour la danse\, ainsi que le chœur The New Baroque Times Voices. \nNe manquez pas cette soirée exceptionnelle ! Les billets sont disponibles au prix de 22 à 25 €. \n#AstoriaDanse #MusiqueLatine #TangoNouveau #SaintGhislain
URL:https://septem.stghislain.be/agenda/astoria-danse/
LOCATION:Les Jardins du Cloître\, 37 Grand Place\, Saint-Ghislain\, 7330\, Belgique
CATEGORIES:Danse,Musique,Saint-Ghislain,Spectacle
ATTACH;FMTTYPE=image/jpeg:https://septem.stghislain.be/wp-content/uploads/2023/11/astoria-danse-Septem-Culture_Saint_Ghislain-2024.jpg
ORGANIZER;CN="Septem":MAILTO:info@septem.stghislain.be
END:VEVENT
END:VCALENDAR