BEGIN:VCALENDAR
VERSION:2.0
PRODID:-//Septem - ECPv6.0.13.1//NONSGML v1.0//EN
CALSCALE:GREGORIAN
METHOD:PUBLISH
X-ORIGINAL-URL:https://septem.stghislain.be
X-WR-CALDESC:évènements pour Septem
REFRESH-INTERVAL;VALUE=DURATION:PT1H
X-Robots-Tag:noindex
X-PUBLISHED-TTL:PT1H
BEGIN:VTIMEZONE
TZID:Europe/Brussels
BEGIN:DAYLIGHT
TZOFFSETFROM:+0100
TZOFFSETTO:+0200
TZNAME:CEST
DTSTART:20240331T010000
END:DAYLIGHT
BEGIN:STANDARD
TZOFFSETFROM:+0200
TZOFFSETTO:+0100
TZNAME:CET
DTSTART:20241027T010000
END:STANDARD
END:VTIMEZONE
BEGIN:VEVENT
DTSTART;TZID=Europe/Brussels:20240202T200000
DTEND;TZID=Europe/Brussels:20240202T213000
DTSTAMP:20260424T034612
CREATED:20231129T125149Z
LAST-MODIFIED:20231205T100642Z
UID:10000431-1706904000-1706909400@septem.stghislain.be
SUMMARY:Concert Rap | Septematik | L'hexaler
DESCRIPTION:🎤 Ne manquez pas le Concert Rap | Septematik | L’hexaler le 2 février à 20h ! 🎶\nUne soirée époustouflante vous attend\, avec une programmation de talents locaux qui ne manqueront pas de vous faire vibrer. \nSpetematik\, 4 ème édition un peu « spéciale ». \nEn effet\, elle met à l’honneur\, « L’HEXALER »\, pionnier du rap Belge pour ses 25 ans de carrière.\nLe Mc originaire de Seraing nous fera l’honneur de sa présence le 2 février aux côtés de nos rappeurs locaux : MSA\, CI2C\, TRIIBOY\, CKZ et SEMPAÏ.\nAu programme\, un cocktail alliant le fond\, la forme\, l’expérience et la fraîcheur !\n \n\nLa programmation \n \n\n– 18h : ouverture des portes\n– 18h30 – 19h30 : OPEN MIC \n– 19h40 – 20h00 : MSA\n– 20h05 – 20h25 : Ci2C\n– entracte\n– 20h45 – 21h10 TRIIBOY\n– 21h15-21h40 : CKZ\n– 21h45 – 22h10: SEMPAI\n– entracte\n– 22h30- finish : L’HEXALER\n\n\nPréparez-vous à vivre des performances extraordinaires et à plonger dans l’univers du rap. Ces artistes locaux promettent une expérience musicale inoubliable !Le prix des billets est de 10 à 12 €. Réservez dès maintenant pour ne pas manquer cette soirée exceptionnelle !#ConcertRap #Septematik #Lhexaler #Musique #SoiréeInoubliable
URL:https://septem.stghislain.be/agenda/septematik-hexaler/
LOCATION:Les Jardins du Cloître\, 37 Grand Place\, Saint-Ghislain\, 7330\, Belgique
CATEGORIES:Concerts,Musique,Saint-Ghislain
ATTACH;FMTTYPE=image/jpeg:https://septem.stghislain.be/wp-content/uploads/2023/11/concert-rap-septematik-hexaler-Septem-Culture_Saint_Ghislain-2024.jpg
ORGANIZER;CN="Septem":MAILTO:info@septem.stghislain.be
END:VEVENT
END:VCALENDAR