BEGIN:VCALENDAR
VERSION:2.0
PRODID:-//Septem - ECPv6.0.13.1//NONSGML v1.0//EN
CALSCALE:GREGORIAN
METHOD:PUBLISH
X-ORIGINAL-URL:https://septem.stghislain.be
X-WR-CALDESC:évènements pour Septem
REFRESH-INTERVAL;VALUE=DURATION:PT1H
X-Robots-Tag:noindex
X-PUBLISHED-TTL:PT1H
BEGIN:VTIMEZONE
TZID:Europe/Brussels
BEGIN:DAYLIGHT
TZOFFSETFROM:+0100
TZOFFSETTO:+0200
TZNAME:CEST
DTSTART:20240331T010000
END:DAYLIGHT
BEGIN:STANDARD
TZOFFSETFROM:+0200
TZOFFSETTO:+0100
TZNAME:CET
DTSTART:20241027T010000
END:STANDARD
END:VTIMEZONE
BEGIN:VEVENT
DTSTART;TZID=Europe/Brussels:20240201T200000
DTEND;TZID=Europe/Brussels:20240201T211500
DTSTAMP:20260424T034609
CREATED:20230904T130048Z
LAST-MODIFIED:20230926T114047Z
UID:10000311-1706817600-1706822100@septem.stghislain.be
SUMMARY:Conférence | À la découverte de notre Univers.
DESCRIPTION:À la découverte de notre Univers\nPlongée dans le monde fascinant des galaxies\nL’histoire commence dans un pays qui n’existe plus\, et se termine en des lieux inaccessibles. Elle parle de ces hommes et de ces femmes qui ont observé le ciel sans relâche\, avec passion et obstination\, de ces personnalités si diverses\, mues par un seul et même objectif : comprendre notre place dans l’Univers. La Terre tourne autour du Soleil… mais où se situe le Soleil par rapport aux autres étoiles ? Quelle est l’origine de la Voie lactée ? Les Univers-Îles existent-ils vraiment ? Que nous montrent les plus puissants télescopes ? Que savons-nous aujourd’hui de la structure de notre Univers ? Comment l’avons-nous compris ? Où se situent les limites de nos connaissances ? Récit d’une épopée scientifique hors du commun\, qui a totalement bouleversé notre vision du monde et de l’Univers… et dont la fin reste encore à écrire. \nFransceso Lo Bue
URL:https://septem.stghislain.be/agenda/conference-notre-univers/
LOCATION:Les Jardins du Cloître\, 37 Grand Place\, Saint-Ghislain\, 7330\, Belgique
CATEGORIES:Conférences,Saint-Ghislain
ATTACH;FMTTYPE=image/jpeg:https://septem.stghislain.be/wp-content/uploads/2023/09/conference_decouverte_de_notre_univers-Septem-Culture_Saint_Ghislain-2023.jpg
ORGANIZER;CN="Septem":MAILTO:info@septem.stghislain.be
END:VEVENT
END:VCALENDAR