BEGIN:VCALENDAR
VERSION:2.0
PRODID:-//Septem - ECPv6.0.13.1//NONSGML v1.0//EN
CALSCALE:GREGORIAN
METHOD:PUBLISH
X-WR-CALNAME:Septem
X-ORIGINAL-URL:https://septem.stghislain.be
X-WR-CALDESC:évènements pour Septem
REFRESH-INTERVAL;VALUE=DURATION:PT1H
X-Robots-Tag:noindex
X-PUBLISHED-TTL:PT1H
BEGIN:VTIMEZONE
TZID:Europe/Brussels
BEGIN:DAYLIGHT
TZOFFSETFROM:+0100
TZOFFSETTO:+0200
TZNAME:CEST
DTSTART:20230326T010000
END:DAYLIGHT
BEGIN:STANDARD
TZOFFSETFROM:+0200
TZOFFSETTO:+0100
TZNAME:CET
DTSTART:20231029T010000
END:STANDARD
END:VTIMEZONE
BEGIN:VEVENT
DTSTART;TZID=Europe/Brussels:20231118T183000
DTEND;TZID=Europe/Brussels:20231126T170000
DTSTAMP:20260424T073254
CREATED:20231109T085459Z
LAST-MODIFIED:20231109T111717Z
UID:10000405-1700332200-1701018000@septem.stghislain.be
SUMMARY:Exposition | Arte Devida | Nicolas Cesaro | GRATUIT
DESCRIPTION:Nicolas Cesaro est un artiste passionné dès son plus jeune âge par l’art du dessin\, notamment inspiré par l’univers des mangas. Son parcours artistique débute à l’école des Ursulines à Mons\, où il se plonge dans l’étude des courants artistiques et perfectionne sa maîtrise de la peinture. \nÀ travers des années d’exploration artistique\, Nicolas développe son propre style qui mêle habilement des couleurs en aplats et des symboles significatifs. Puisant dans son amour pour les mangas\, il infuse une dimension narrative à ses créations\, captivant ainsi l’essence même de son histoire personnelle. \nCependant\, ce qui distingue véritablement Nicolas Cesaro\, c’est sa volonté inébranlable de donner une voix à des sujets sociaux et environnementaux cruciaux. Ses œuvres sont bien plus que de simples peintures\, elles sont des manifestes visuels qui poussent à la réflexion et dénoncent avec force les problèmes qui nous entourent. Son art transcende les frontières académiques\, osant défier les conventions pour créer une vision audacieuse et authentique du monde. \nExplorez l’univers unique de Nicolas Cesaro et plongez dans un monde où l’expression artistique rencontre l’engagement. Chaque toile raconte une histoire et chaque symbole est un appel à la réflexion. \nVernissage: Samedi 18 novembre à 18h30 – GRATUIT
URL:https://septem.stghislain.be/agenda/arte-devida/
LOCATION:Espace Ockeghem\, Grand'Place\, Saint-Ghislain\, 7330\, Belgique
CATEGORIES:Arts Visuels,Expositions,Saint-Ghislain
ATTACH;FMTTYPE=image/jpeg:https://septem.stghislain.be/wp-content/uploads/2023/11/exposition-arte-devida-Nicolas-Cesaro-Septem-Culture_Saint_Ghislain-2024.jpg
ORGANIZER;CN="Septem":MAILTO:info@septem.stghislain.be
GEO:50.448167069123;3.8202549846597
X-APPLE-STRUCTURED-LOCATION;VALUE=URI;X-ADDRESS=Espace Ockeghem Grand'Place Saint-Ghislain 7330 Belgique;X-APPLE-RADIUS=500;X-TITLE=Grand'Place:geo:3.8202549846597,50.448167069123
END:VEVENT
BEGIN:VEVENT
DTSTART;TZID=Europe/Brussels:20231121T193000
DTEND;TZID=Europe/Brussels:20231121T203000
DTSTAMP:20260424T073254
CREATED:20230926T072717Z
LAST-MODIFIED:20230926T072721Z
UID:10000336-1700595000-1700598600@septem.stghislain.be
SUMMARY:Spectacle | L'étrange et incroyable histoire de Télémaque
DESCRIPTION:« À SA NAISSANCE\, LA CARAPACE DE LA CREVETTE EST MOLLE\, CE QUI POSE UN TAS DE PROBLÈMES. C’EST COMPLIQUÉ DE SE DÉBROUILLER DANS CE MONDE AVEC UNE CARAPACE MOLLE. » – TÉLÉMAQUE \nNous sommes sur l’île grecque d’Ithaque. Aujourd’hui\, Télémaque présente en classe son exposé annuel. Mais quelque chose le perturbe. La veille\, un événement incroyable s’est produit : il a reçu – dans des circonstances étranges – un journal des dieux. Cet objet insolite lui donne accès pour la première fois de sa vie aux aventures de son père\, le célèbre héros Ulysse\, roi d’Ithaque. Jusqu’à présent\, il avait seulement entendu parler de lui.Dans la tête de Télémaque trottent des dizaines de questions: « Père. Où es-tu? Qui es-tu? Qui suis-je? » Autour de lui\, il entend sans cesse: « C’est lui\, l’héritier du trône! C’est le fils du héros! » ; « Es-tu si sûre qu’il reviendra ? »\, demande-t-il parfois à sa mère.À l’aide du journal des dieux\, Télémaque explore ces questions avec les spectateurs\, ses camarades de classe. Il nous entraine dans une aventurepeuplée de créatures étonnantes sur les traces de son père\, à la recherche de sa propre histoire. Dans L’étrange et incroyable histoire de Télémaque\, lesspectateurs sont invités à découvrir une vision étonnamment différentes du récit mythique des aventures d’Ulysse – la vision d’un enfant. Le spectacle estdestinée à un public à partir de 7 ans et se joue dans les écoles et les théâtres. \nà partir de 7 ans
URL:https://septem.stghislain.be/agenda/telemaque/
LOCATION:Les Jardins du Cloître\, 37 Grand Place\, Saint-Ghislain\, 7330\, Belgique
CATEGORIES:En famille,Jeune public,Saint-Ghislain,Spectacle
ATTACH;FMTTYPE=image/jpeg:https://septem.stghislain.be/wp-content/uploads/2023/09/telemaque-Septem-Culture_Saint_Ghislain-2023.jpg
ORGANIZER;CN="Septem":MAILTO:info@septem.stghislain.be
END:VEVENT
END:VCALENDAR