BEGIN:VCALENDAR
VERSION:2.0
PRODID:-//Septem - ECPv6.0.13.1//NONSGML v1.0//EN
CALSCALE:GREGORIAN
METHOD:PUBLISH
X-ORIGINAL-URL:https://septem.stghislain.be
X-WR-CALDESC:évènements pour Septem
REFRESH-INTERVAL;VALUE=DURATION:PT1H
X-Robots-Tag:noindex
X-PUBLISHED-TTL:PT1H
BEGIN:VTIMEZONE
TZID:Europe/Brussels
BEGIN:DAYLIGHT
TZOFFSETFROM:+0100
TZOFFSETTO:+0200
TZNAME:CEST
DTSTART:20230326T010000
END:DAYLIGHT
BEGIN:STANDARD
TZOFFSETFROM:+0200
TZOFFSETTO:+0100
TZNAME:CET
DTSTART:20231029T010000
END:STANDARD
END:VTIMEZONE
BEGIN:VEVENT
DTSTART;TZID=Europe/Brussels:20231117T200000
DTEND;TZID=Europe/Brussels:20231117T213000
DTSTAMP:20260424T073432
CREATED:20230915T144045Z
LAST-MODIFIED:20230915T144050Z
UID:10000326-1700251200-1700256600@septem.stghislain.be
SUMMARY:Théâtre | Ah ! Les jolies colonies
DESCRIPTION:Nous savons tous aujourd’hui\, bien mieux qu’auparavant\, ce que peuvent être les privations de libertés\, la perte des repères et autres changements d’habitudes. Bouleversements soudains et brutaux que nous n’avons pas choisis mais dont on est bien obligé de subir les conséquences.\nAvec son nouveau spectacle\, Ben Hamidou nous parle\, avec l’humour et la tendresse qu’on lui connaît\, des tempêtes qui l’avaient brusquement éloigné de ses proches. Il n’avait que 7 ans quand il fut éloigné de sa famille! Envoyé seul loin de Bruxelles durant toute une année\, dans une campagne déserte\, où boudins\, compotes et autres rollmops remplacèrent les délicieux tajines de sa grand-mère.\nHeureusement\, il a survécu pour nous dire comment survivre!
URL:https://septem.stghislain.be/agenda/ah-les-jolies-colonies/
LOCATION:Les Jardins du Cloître\, 37 Grand Place\, Saint-Ghislain\, 7330\, Belgique
CATEGORIES:Saint-Ghislain,Spectacle,Théâtre
ATTACH;FMTTYPE=image/jpeg:https://septem.stghislain.be/wp-content/uploads/2023/09/ah_les-jolies_colonies-Septem-Culture_Saint_Ghislain-2023.jpg
ORGANIZER;CN="Septem":MAILTO:info@septem.stghislain.be
END:VEVENT
END:VCALENDAR