BEGIN:VCALENDAR
VERSION:2.0
PRODID:-//Septem - ECPv6.0.13.1//NONSGML v1.0//EN
CALSCALE:GREGORIAN
METHOD:PUBLISH
X-ORIGINAL-URL:https://septem.stghislain.be
X-WR-CALDESC:évènements pour Septem
REFRESH-INTERVAL;VALUE=DURATION:PT1H
X-Robots-Tag:noindex
X-PUBLISHED-TTL:PT1H
BEGIN:VTIMEZONE
TZID:Europe/Brussels
BEGIN:DAYLIGHT
TZOFFSETFROM:+0100
TZOFFSETTO:+0200
TZNAME:CEST
DTSTART:20230326T010000
END:DAYLIGHT
BEGIN:STANDARD
TZOFFSETFROM:+0200
TZOFFSETTO:+0100
TZNAME:CET
DTSTART:20231029T010000
END:STANDARD
END:VTIMEZONE
BEGIN:VEVENT
DTSTART;TZID=Europe/Brussels:20231103T100000
DTEND;TZID=Europe/Brussels:20231112T180000
DTSTAMP:20260424T073415
CREATED:20231005T160828Z
LAST-MODIFIED:20231026T101221Z
UID:10000362-1699005600-1699812000@septem.stghislain.be
SUMMARY:Expo | proto MATERIA - Alain Wergifosse
DESCRIPTION:MATERIA est un projet d’installation sonore et visuelle autour d’un voyage d’exploration poétique et imaginaire\, à l’intérieur de la matière dans tous ses états et ses transmutations\, navigant dans les phases liquides\, survolant les états gazeux\, pénétrant dans les solides\, parfois aveuglés par des plasmas de vives couleurs ou encore assourdis par les vibrations… \nAlain Wergifosse présente quelques fragments dont le son électronique (que l’entende ou qu’on l’imagine dans des œuvres visuels silencieuses) est le fil conducteur sous forme de « prototype ». \nEn complément\, sont aussi présentés les EROSIONS\, des « géotopies » en mouvement faites de feedback vidéo\, des géographies organiques synthétiques et hypnotiques de mouvements très lents\, ainsi que la série photographique SPECTRES & NEONS qui distille la lumière en mouvement avec des prises en longue exposition lors de promenades nocturnes dans la banlieue. \nSPECTRES & NEONS est aussi le titre du dernier album d’Alain Wergifosse mis en écoute durant la durée de l’exposition. \nEn ouverture de l’exposition\, Alain Wergifosse convie les participants de son atelier « Matières sonores » donné préalablement à Saint-Ghislain\, à un concert unique de l’orchestre éphémère d’instruments cassés et d’objets amplifiés. \n\nVernissage (+ performance) le 3 novembre à partir de 18hOuvert tous les jours sauf le dimanche – 10 > 18h – entrée libreProduction : Septem\, Transcultures/City Sonic 20 ans en partenariat avec Ad LibitumMateria a bénéficié du soutien de la Fédération Wallonie-Bruxelles (arts numériques). \n\n			\n				\n				\n				\n				\n				Alain Wergifosse (Be) \nInsatiable explorateur du son\, de l’image et de l’intermédiatique depuis les années 80\, Alain Wergifosse amplifie toute sorte d’objets résonnants et se spécialise au traitement électronique du Larsen pour réaliser ses compositions et improvisations organiques. il a parcouru le monde en solo et avec divers groupes et projets collectifs (Obmuz\, Macromassa\, SpecOp\, Colectivo Anatomic parmi d’autres). \nA partir de sa base barcelonaise\, il a composé\, pendant une dizaine d’années\, les musiques et les interactions sonores des spectacles Marcel lí Antúnez (ex La Fura dels Baus) et il a collaboré avec de nombreux artises de la scène expérimentale musicale (Zbigniew Karkowski\, Cluster\, Jaki Liebezeit\, Francisco Lopez\, Nad Spiro\, Eli Gras\,…) et participé activement à diverses manifestations aventureuses en Espagne et à l’international. \nCes dernières années\, revenu en Belgique\, il a développé son travail visuel et réalisé des installations immersives et interactives\, des vidéos auto-génératives\, des microscopies et autres compositions matiéristes présentées dans plusieurs festivals et événements internationaux (City Sonic\, MEM\, Kikk\, Semaine du Son\, Simultan\, Transnumériques\, Pléiades…). \n\nalainwergifosse.com
URL:https://septem.stghislain.be/agenda/expo-proto-materia-alain-wergifosse/
LOCATION:Espace Ockeghem\, Grand'Place\, Saint-Ghislain\, 7330\, Belgique
CATEGORIES:Arts Numériques,Arts Plastiques,Arts Sonores,Arts Video,Arts Visuels,Expositions,Saint-Ghislain
ATTACH;FMTTYPE=image/jpeg:https://septem.stghislain.be/wp-content/uploads/2023/10/proto_MATERIA-Alain_Wergifosse-Banner-Exposition-Septem-City_Sonic_20_Years-Transcultures-2023.jpg
ORGANIZER;CN="Septem":MAILTO:info@septem.stghislain.be
GEO:50.448167069123;3.8202549846597
X-APPLE-STRUCTURED-LOCATION;VALUE=URI;X-ADDRESS=Espace Ockeghem Grand'Place Saint-Ghislain 7330 Belgique;X-APPLE-RADIUS=500;X-TITLE=Grand'Place:geo:3.8202549846597,50.448167069123
END:VEVENT
END:VCALENDAR