BEGIN:VCALENDAR
VERSION:2.0
PRODID:-//Septem - ECPv6.0.13.1//NONSGML v1.0//EN
CALSCALE:GREGORIAN
METHOD:PUBLISH
X-WR-CALNAME:Septem
X-ORIGINAL-URL:https://septem.stghislain.be
X-WR-CALDESC:évènements pour Septem
REFRESH-INTERVAL;VALUE=DURATION:PT1H
X-Robots-Tag:noindex
X-PUBLISHED-TTL:PT1H
BEGIN:VTIMEZONE
TZID:Europe/Brussels
BEGIN:DAYLIGHT
TZOFFSETFROM:+0100
TZOFFSETTO:+0200
TZNAME:CEST
DTSTART:20230326T010000
END:DAYLIGHT
BEGIN:STANDARD
TZOFFSETFROM:+0200
TZOFFSETTO:+0100
TZNAME:CET
DTSTART:20231029T010000
END:STANDARD
END:VTIMEZONE
BEGIN:VEVENT
DTSTART;TZID=Europe/Brussels:20231020T183000
DTEND;TZID=Europe/Brussels:20231102T120000
DTSTAMP:20260424T073326
CREATED:20231002T095225Z
LAST-MODIFIED:20231004T105201Z
UID:10000302-1697826600-1698926400@septem.stghislain.be
SUMMARY:Exposition | Beautés sauvages | Gratuit
DESCRIPTION:Exposition « Beautés sauvages » de l’association Solidarité Belgique Sénégal. \nNous sommes très heureux d’ouvrir les portes de notre exposition “Beautés Sauvages” présentée par des collègues de Pairi Daiza qui s’unissent\, en dehors de leur temps de travail\, pour réaliser un projet nature au Sénégal. De nombreux et talentueux photographes leur ont permis de présenter quelques-unes de leurs photos les plus époustouflantes ou insolites d’animaux. Bien sûr\, vous pourrez les acheter afin qu’elles décorent le plus magnifiquement du monde votre intérieur. Tous les bénéfices seront reversés à notre asbl Solidarité Belgique Sénégal. Venez nombreux\, nous serons ravis de vous recevoir. \nVernissage le vendredi 20 octobre à 18h30\nConfirmez votre présence à notre vernissage via ce formulaire : https://forms.gle/PcngetYy1i2teaza7
URL:https://septem.stghislain.be/agenda/exposition-beautes-sauvages/
LOCATION:Les Jardins du Cloître\, 37 Grand Place\, Saint-Ghislain\, 7330\, Belgique
CATEGORIES:Arts Visuels,Expositions,Hautrage,Saint-Ghislain
ATTACH;FMTTYPE=image/jpeg:https://septem.stghislain.be/wp-content/uploads/2023/10/exposition-beautes-sauvages-Septem-Culture_Saint_Ghislain-2023.jpg
ORGANIZER;CN="Septem":MAILTO:info@septem.stghislain.be
END:VEVENT
BEGIN:VEVENT
DTSTART;TZID=Europe/Brussels:20231030T140000
DTEND;TZID=Europe/Brussels:20231102T170000
DTSTAMP:20260424T073326
CREATED:20231005T143931Z
LAST-MODIFIED:20231009T124657Z
UID:10000357-1698674400-1698944400@septem.stghislain.be
SUMMARY:Atelier | Matières sonores – Alain Wergifosse
DESCRIPTION:L’artiste sonore\, visuelle et multimédiatique Alain Wergifosse invite\, petits et grands\, à passer quelques jours d’expérimentation créative autour du son dans toutes ses dimensions électroniques et expérimentales. \nIl propose d’amplifier le son caché des objets quotidiens\, de faire sonner autrement des instruments de musique (avec une attention particulière pour les plus endommagés)\, et ce même si les participants n’ont pas de formation musicale. \nCet atelier ouvert à tous\, est une introduction ludique aux rudiments du son permettant de découvrir une palette de traitements possibles avec des outils électroniques et informatiques : les effets\, la base de la synthèse sonore\, la réalimentation\, le traitement de la voix\, la transformation de la lumière en son\, les ondes électromagnétiques\, les bruits de la radio… \nLes participants peuvent aussi expérimenter les possibilités de la “Table résonnante” qu’Alain Wergifosse utilise pour créer les matières audio pour son nouveau projet “MATERIA”. Avec quelques objets et instruments apportés par les participants pour être ensuite modifiés\, chacun peut prendre part à une joyeuse improvisation collective. \nA noter que qu’une exposition intitulée proto MATERIA de Alain Wergifosse se tiendra dans l’Espace Espace Ockeghem du 03 au 15 novembre 2023. \n\nIl y a 3 jours d’atelier le : 30.10 + 01.11 + 02.11.2023 de 14 à 17:00 \n\n			\n				\n				\n				\n				\n				Alain Wergifosse (Be) \nInsatiable explorateur du son\, de l’image et de l’intermédiatique depuis les années 80\, Alain Wergifosse amplifie toute sorte d’objets résonnants et se spécialise au traitement électronique du Larsen pour réaliser ses compositions et improvisations organiques. il a parcouru le monde en solo et avec divers groupes et projets collectifs (Obmuz\, Macromassa\, SpecOp\, Colectivo Anatomic parmi d’autres). \nA partir de sa base barcelonaise\, il a composé\, pendant une dizaine d’années\, les musiques et les interactions sonores des spectacles Marcel lí Antúnez (ex La Fura dels Baus) et il a collaboré avec de nombreux artises de la scène expérimentale musicale (Zbigniew Karkowski\, Cluster\, Jaki Liebezeit\, Francisco Lopez\, Nad Spiro\, Eli Gras\,…) et participé activement à diverses manifestations aventureuses en Espagne et à l’international. \nCes dernières années\, revenu en Belgique\, il a développé son travail visuel et réalisé des installations immersives et interactives\, des vidéos auto-génératives\, des microscopies et autres compositions matiéristes présentées dans plusieurs festivals et événements internationaux (City Sonic\, MEM\, Kikk\, Semaine du Son\, Simultan\, Transnumériques\, Pléiades…). \n\nalainwergifosse.com
URL:https://septem.stghislain.be/agenda/atelier-matieres-sonores-alain-wergifosse/
LOCATION:Espace Ockeghem\, Grand'Place\, Saint-Ghislain\, 7330\, Belgique
CATEGORIES:Arts Numériques,Arts Sonores,Ateliers,Médiation,REPIT,Saint-Ghislain
ATTACH;FMTTYPE=image/jpeg:https://septem.stghislain.be/wp-content/uploads/2023/10/Alain_Wergifosse-Needless-dance-Banner-Sound_Art-Workshop-Transcultures-2023.jpg
ORGANIZER;CN="Septem":MAILTO:info@septem.stghislain.be
GEO:50.448167069123;3.8202549846597
X-APPLE-STRUCTURED-LOCATION;VALUE=URI;X-ADDRESS=Espace Ockeghem Grand'Place Saint-Ghislain 7330 Belgique;X-APPLE-RADIUS=500;X-TITLE=Grand'Place:geo:3.8202549846597,50.448167069123
END:VEVENT
BEGIN:VEVENT
DTSTART;TZID=Europe/Brussels:20231031T140000
DTEND;TZID=Europe/Brussels:20231031T170000
DTSTAMP:20260424T073326
CREATED:20231005T160743Z
LAST-MODIFIED:20231006T142754Z
UID:10000360-1698760800-1698771600@septem.stghislain.be
SUMMARY:Atelier | Circuit Bending - Xavier Gazon
DESCRIPTION:Un atelier de circuit bending\, c’est l’occasion de découvrir l’art du court-circuitage des jouets sonores\, chercher des connexions sur le circuit interne pour y trouver des sons cachés pour ensuite ajouter des composants au fur et à mesure des trouvailles. \nEquipés d’un fer à souder\, de fils et de boutons\, les participants créent des instruments de musique uniques et originaux de manière ludique à partir de petits jouets qu’ils peuvent customiser\, interfacer\, détourner et modifier comme un puzzle (ou cadavre exquis) et tout cela sans connaissance préalable en électronique. \nCe sera l’occasion de découvrir le matériel\, les concepts avec un peu de pratique pour se lancer dans l’aventure du Do-It-Yourself de la lutherie électronique numérique et analogique avec un des pionniers dans le domaine. \n			\n				\n				\n				\n				\n				Xavier Gazon (Be) \nCompositeur de musiques électroniques et artiste-maker spécialisé dans les interfaces sonores numériques et analogiques. C’est à partir d’objets recyclés ou détournés que Xavier Gazon invente ses instruments hors du commun. Des jouets pour enfants ou des pièces d’imprimantes abandonnées dans la rue constituent la base de ses créations et de son imaginaire. \nIl est un des pionniers du circuit bending en Europe\, art du court-circuitage\, dont la finalité est de transformer les circuits électroniques d’un jouet sonore en instrument musical ou en générateur de sons aléatoires. \nA travers son projet musical electropop Playboy’s Bend et les différents ateliers\, il a fait découvrir cet art à un plus large public lors de nombreux concerts dans les diverses capitales d’Europe et a sorti deux albums. \nLes deux axes principaux de sa démarche artistique sont la création par accidents contrôlés\, théorisé par John Cage et le zen\, ainsi que la réconciliation de thèmes qui a priori s’opposent : homme/machine\, science/art\, émotions/électronique… \n\nxaviergazon.com
URL:https://septem.stghislain.be/agenda/atelier-circuit-bending-xavier-gazon/
LOCATION:Espace Ockeghem\, Grand'Place\, Saint-Ghislain\, 7330\, Belgique
CATEGORIES:Arts Numériques,Arts Sonores,Ateliers,Médiation,Saint-Ghislain
ATTACH;FMTTYPE=image/jpeg:https://septem.stghislain.be/wp-content/uploads/2023/10/Xavier_Gazon-Cicuit_Bending-Banner-REPIT-Septem-Transcultures-2023.jpg
ORGANIZER;CN="Septem":MAILTO:info@septem.stghislain.be
GEO:50.448167069123;3.8202549846597
X-APPLE-STRUCTURED-LOCATION;VALUE=URI;X-ADDRESS=Espace Ockeghem Grand'Place Saint-Ghislain 7330 Belgique;X-APPLE-RADIUS=500;X-TITLE=Grand'Place:geo:3.8202549846597,50.448167069123
END:VEVENT
END:VCALENDAR