BEGIN:VCALENDAR
VERSION:2.0
PRODID:-//Septem - ECPv6.0.13.1//NONSGML v1.0//EN
CALSCALE:GREGORIAN
METHOD:PUBLISH
X-ORIGINAL-URL:https://septem.stghislain.be
X-WR-CALDESC:évènements pour Septem
REFRESH-INTERVAL;VALUE=DURATION:PT1H
X-Robots-Tag:noindex
X-PUBLISHED-TTL:PT1H
BEGIN:VTIMEZONE
TZID:Europe/Brussels
BEGIN:DAYLIGHT
TZOFFSETFROM:+0100
TZOFFSETTO:+0200
TZNAME:CEST
DTSTART:20230326T010000
END:DAYLIGHT
BEGIN:STANDARD
TZOFFSETFROM:+0200
TZOFFSETTO:+0100
TZNAME:CET
DTSTART:20231029T010000
END:STANDARD
END:VTIMEZONE
BEGIN:VEVENT
DTSTART;TZID=Europe/Brussels:20231020T183000
DTEND;TZID=Europe/Brussels:20231102T120000
DTSTAMP:20260424T084440
CREATED:20231002T095225Z
LAST-MODIFIED:20231004T105201Z
UID:10000302-1697826600-1698926400@septem.stghislain.be
SUMMARY:Exposition | Beautés sauvages | Gratuit
DESCRIPTION:Exposition « Beautés sauvages » de l’association Solidarité Belgique Sénégal. \nNous sommes très heureux d’ouvrir les portes de notre exposition “Beautés Sauvages” présentée par des collègues de Pairi Daiza qui s’unissent\, en dehors de leur temps de travail\, pour réaliser un projet nature au Sénégal. De nombreux et talentueux photographes leur ont permis de présenter quelques-unes de leurs photos les plus époustouflantes ou insolites d’animaux. Bien sûr\, vous pourrez les acheter afin qu’elles décorent le plus magnifiquement du monde votre intérieur. Tous les bénéfices seront reversés à notre asbl Solidarité Belgique Sénégal. Venez nombreux\, nous serons ravis de vous recevoir. \nVernissage le vendredi 20 octobre à 18h30\nConfirmez votre présence à notre vernissage via ce formulaire : https://forms.gle/PcngetYy1i2teaza7
URL:https://septem.stghislain.be/agenda/exposition-beautes-sauvages/
LOCATION:Les Jardins du Cloître\, 37 Grand Place\, Saint-Ghislain\, 7330\, Belgique
CATEGORIES:Arts Visuels,Expositions,Hautrage,Saint-Ghislain
ATTACH;FMTTYPE=image/jpeg:https://septem.stghislain.be/wp-content/uploads/2023/10/exposition-beautes-sauvages-Septem-Culture_Saint_Ghislain-2023.jpg
ORGANIZER;CN="Septem":MAILTO:info@septem.stghislain.be
END:VEVENT
BEGIN:VEVENT
DTSTART;TZID=Europe/Brussels:20231026T200000
DTEND;TZID=Europe/Brussels:20231026T213000
DTSTAMP:20260424T084440
CREATED:20230915T140736Z
LAST-MODIFIED:20231009T073313Z
UID:10000322-1698350400-1698355800@septem.stghislain.be
SUMMARY:Théâtre | Humour | Le Dieu du Carnage
DESCRIPTION:Une Comédie satirique\, drôle et grinçante.A l’issue d’une altercation entre leurs fils respectifs\, deux couples se rencontrent pour régler le conflit à l’amiable. Mais le propos policé des adultes dégénère vite ne dispute féroce…Avec cette pièce drôle et efficace\, dans laquelle la mécanique du conflit mélange les registres\, Yasmina Reza propose une comédie grinçante très actuelle\, où pointe une satire de notre société d’apparences! \n\nMise en scène Thierry Piron \nAvec la troupe du Nect’ART Barbara Cerrato Sanchez Lolita Cerrato Sanchez Arnaud Lixon Jack Vanderest \nCréation des lumières et son Amaury Dubois \nDécor Atelier de La Ruche Théâtre Royal \nPhoto Jean-Pierre Dubois \n\nL’équipe de La Ruche Théâtre Royal se donne sans compter pour vous garantir une soirée chaleureuse\, familiale\, professionnelle ou vous reviendrez pour son authenticité.
URL:https://septem.stghislain.be/agenda/le-dieu-du-carnage/
LOCATION:Les Jardins du Cloître\, 37 Grand Place\, Saint-Ghislain\, 7330\, Belgique
CATEGORIES:Saint-Ghislain,Théâtre
ATTACH;FMTTYPE=image/jpeg:https://septem.stghislain.be/wp-content/uploads/2023/09/le_dieu_du_carnage-Septem-Culture_Saint_Ghislain-2023-1.jpg
ORGANIZER;CN="Septem":MAILTO:info@septem.stghislain.be
END:VEVENT
BEGIN:VEVENT
DTSTART;TZID=Europe/Brussels:20231026T200000
DTEND;TZID=Europe/Brussels:20231026T213000
DTSTAMP:20260424T084440
CREATED:20231025T095213Z
LAST-MODIFIED:20231025T095404Z
UID:10000366-1698350400-1698355800@septem.stghislain.be
SUMMARY:Conférence | Cercle d'histoire et d'archéologie de Saint-Ghislain et de la région
DESCRIPTION:Pour cette conférence\, nous aurons le plaisir de recevoir Monsieur Patrick Lefèvre (docteur en histoire\, ancien directeur général du Musée royal de l’Armée et ensuite de la Bibliothèque royale de Belgique) qui abordera le sujet suivant : \nL’Histoire politique de la région Mons-Borinage : intérêts économiques et idéologies (1830-1870) \nAprès une présentation du contexte de la région Mons-Borinage en 1830-1870 (situation démographique ; la ville de Mons\, l’industrie charbonnière et les campagnes environnantes ; les institutions législatives et consultatives alors existantes) et de la révolution de1830\, comme point de départ de l’exposé\, les trois thèmes suivants seront développés: \n1) les électeurs\, les élections et les élus (quelle part de la population montoise participait en 1830- 1870 par ses votes au pouvoir ? Comment se sont alors déroulées les opérations électorales dans l’ensemble de l’arrondissement de Mons? Qui furent les élus et que furent leurs actions au niveau de l’État et de la Province ?);\n2) l’organisation encore embryonnaire des associations politiques du moment dans le jeu politique\, ainsi que l’utilisation de la presse locale comme outil de combat ;\n3) les principaux dossiers politiques qui ont mobilisé Mons et sa région en 1830-1870 (les réformes douanières ; le développement et les tarifs des voies navigables et des chemins de fer; la «< police des ateliers » ; et les différends entre cléricaux et anticléricaux sur l’enseignement\, le temporel des cultes et les cimetières\, ainsi que la question de l’extension du suffrage et du travail des enfants).\nPatrick Lefèvre. \nPrésentation du livre de Patrick Lefèvre : Histoire politique de la région Mons-Borinage. Intérêts économiques et idéologies (1830-1870).\nMons\, Hannonia\, 2023\, 750 p. (collection « Analectes d’histoire du Hainaut »>\, tome XVIII). \nUne histoire du monde patronal\, conçue en marge des aspects techniques et économiques et dans une perspective socio-culturelle\, idéologique et politique\, reste à écrire en Belgique. C’est sous cet angle d’approche resté malheureusement inhabituel que ce livre aborde l’histoire politique des années 1830-1870\, en privilégiant\, dans le chef des élus comme de leurs électeurs censitaires\, la préoccupation d’intérêts matériels davantage que le souci de défendre ou de combattre le rôle de la religion et de l’Église dans la société de l’époque. \nLe livre sera en vente au prix de 30 € lors de la conférence.
URL:https://septem.stghislain.be/agenda/conference-cercle-dhistoire-et-darcheologie-de-saint-ghislain-et-de-la-region/
LOCATION:Les Jardins du Cloître\, 37 Grand Place\, Saint-Ghislain\, 7330\, Belgique
CATEGORIES:Conférences,Saint-Ghislain
ATTACH;FMTTYPE=image/jpeg:https://septem.stghislain.be/wp-content/uploads/2023/10/Cercle_d_Histoire_et_D_archeologie-Banner-Septem-2023-24.jpg
ORGANIZER;CN="Septem":MAILTO:info@septem.stghislain.be
END:VEVENT
END:VCALENDAR