BEGIN:VCALENDAR
VERSION:2.0
PRODID:-//Septem - ECPv6.0.13.1//NONSGML v1.0//EN
CALSCALE:GREGORIAN
METHOD:PUBLISH
X-WR-CALNAME:Septem
X-ORIGINAL-URL:https://septem.stghislain.be
X-WR-CALDESC:évènements pour Septem
REFRESH-INTERVAL;VALUE=DURATION:PT1H
X-Robots-Tag:noindex
X-PUBLISHED-TTL:PT1H
BEGIN:VTIMEZONE
TZID:Europe/Brussels
BEGIN:DAYLIGHT
TZOFFSETFROM:+0100
TZOFFSETTO:+0200
TZNAME:CEST
DTSTART:20230326T010000
END:DAYLIGHT
BEGIN:STANDARD
TZOFFSETFROM:+0200
TZOFFSETTO:+0100
TZNAME:CET
DTSTART:20231029T010000
END:STANDARD
END:VTIMEZONE
BEGIN:VEVENT
DTSTART;TZID=Europe/Brussels:20231005T200000
DTEND;TZID=Europe/Brussels:20231005T213000
DTSTAMP:20260424T084823
CREATED:20230915T134356Z
LAST-MODIFIED:20231006T143354Z
UID:10000320-1696536000-1696541400@septem.stghislain.be
SUMMARY:Danse | L Louise - Créa-Théâtre
DESCRIPTION:LLouise est inspirée de la vie et l’oeuvre de Louise Bourgeois artiste franco-américaine.Sur scène des objets font référence à certaines oeuvres de l’artiste.C’est alors un voyage sensible qui commence avec une danseuse qui au contact des objets questionne l’impact de l’enfance\, la filiation\, le rôle de la mère\, de la femme\, de l’artiste.Alors le trouble renvoie à de nouvelles impressions avec les images\, le corps dansant et le double de Louise.Une araignée géante motorisée\, à l’image de l’œuvre emblématique « Spider »\, se met en vie peu à peu jusqu’à l’affrontement et la rencontre.Et puis oser toucher\, repousser\, caresser l’animal\, comme pour dépasser les limites de nos peurs et de nos propres expériences.Un voyage au cœur d’un univers qui se fait se frôler marionnettes\, manipulation\, danse/mouvements\, arts numériques. \n\nAprès le spectacle\, une discussion avec l’artiste Françoise Flabat sera par animée par Philippe Franck (directeur de Transcultures) \nConception écriture et mise en scène : Françoise FlabatDanseuse : Coralie MeinguetImages : Niels HouttemanSur une proposition de Transcultures et Ad Libitum
URL:https://septem.stghislain.be/agenda/danse-llouise/
LOCATION:Les Jardins du Cloître\, 37 Grand Place\, Saint-Ghislain\, 7330\, Belgique
CATEGORIES:Arts de la scène,Danse,Saint-Ghislain
ATTACH;FMTTYPE=image/jpeg:https://septem.stghislain.be/wp-content/uploads/2023/09/danse_llouise-Septem-Culture_Saint_Ghislain-2023.jpg
ORGANIZER;CN="Septem":MAILTO:info@septem.stghislain.be
END:VEVENT
END:VCALENDAR