BEGIN:VCALENDAR
VERSION:2.0
PRODID:-//Septem - ECPv6.0.13.1//NONSGML v1.0//EN
CALSCALE:GREGORIAN
METHOD:PUBLISH
X-WR-CALNAME:Septem
X-ORIGINAL-URL:https://septem.stghislain.be
X-WR-CALDESC:évènements pour Septem
REFRESH-INTERVAL;VALUE=DURATION:PT1H
X-Robots-Tag:noindex
X-PUBLISHED-TTL:PT1H
BEGIN:VTIMEZONE
TZID:Europe/Brussels
BEGIN:DAYLIGHT
TZOFFSETFROM:+0100
TZOFFSETTO:+0200
TZNAME:CEST
DTSTART:20230326T010000
END:DAYLIGHT
BEGIN:STANDARD
TZOFFSETFROM:+0200
TZOFFSETTO:+0100
TZNAME:CET
DTSTART:20231029T010000
END:STANDARD
END:VTIMEZONE
BEGIN:VEVENT
DTSTART;TZID=Europe/Brussels:20230926T133000
DTEND;TZID=Europe/Brussels:20230926T150000
DTSTAMP:20260424T084425
CREATED:20230821T163712Z
LAST-MODIFIED:20231010T220035Z
UID:10000278-1695735000-1695740400@septem.stghislain.be
SUMMARY:Documentaire | Toute la beauté et le sang versé de Laura POITRAS
DESCRIPTION:La réalisatrice Laura POITRAS signe un grand documentaire\, à la fois politique et intime\, riche et passionnant sur Nan Goldi.\nLa photographe est également activiste\, en lutte contre les Sackler\, responsables de la crise des opiacés aux États-Unis.\nAu-delà du portrait poignant et sans fard d’une artiste hors du commun\, Laura POITRAS plonge aussi au cœur d’une Amérique agitée\, contradictoire\, malade de l’intérieur\, livrée au pouvoir de prédateurs nantis sans vergogne.
URL:https://septem.stghislain.be/agenda/documentaire-liane-poitras/2023-09-26/1/
LOCATION:Les Jardins du Cloître\, 37 Grand Place\, Saint-Ghislain\, 7330\, Belgique
CATEGORIES:Ciné Famille,Cinéma,Documentaires,Films,Projections,Saint-Ghislain
ATTACH;FMTTYPE=image/jpeg:https://septem.stghislain.be/wp-content/uploads/2023/08/1094-Cinema-illu-rs.jpg
ORGANIZER;CN="Septem":MAILTO:info@septem.stghislain.be
END:VEVENT
BEGIN:VEVENT
DTSTART;TZID=Europe/Brussels:20230926T193000
DTEND;TZID=Europe/Brussels:20230926T210000
DTSTAMP:20260424T084425
CREATED:20230821T163712Z
LAST-MODIFIED:20231010T220035Z
UID:10000279-1695756600-1695762000@septem.stghislain.be
SUMMARY:Documentaire | Toute la beauté et le sang versé de Laura POITRAS
DESCRIPTION:La réalisatrice Laura POITRAS signe un grand documentaire\, à la fois politique et intime\, riche et passionnant sur Nan Goldi.\nLa photographe est également activiste\, en lutte contre les Sackler\, responsables de la crise des opiacés aux États-Unis.\nAu-delà du portrait poignant et sans fard d’une artiste hors du commun\, Laura POITRAS plonge aussi au cœur d’une Amérique agitée\, contradictoire\, malade de l’intérieur\, livrée au pouvoir de prédateurs nantis sans vergogne.
URL:https://septem.stghislain.be/agenda/documentaire-liane-poitras/2023-09-26/2/
LOCATION:Les Jardins du Cloître\, 37 Grand Place\, Saint-Ghislain\, 7330\, Belgique
CATEGORIES:Ciné Famille,Cinéma,Documentaires,Films,Projections,Saint-Ghislain
ATTACH;FMTTYPE=image/jpeg:https://septem.stghislain.be/wp-content/uploads/2023/08/1094-Cinema-illu-rs.jpg
ORGANIZER;CN="Septem":MAILTO:info@septem.stghislain.be
END:VEVENT
END:VCALENDAR