BEGIN:VCALENDAR
VERSION:2.0
PRODID:-//Septem - ECPv6.0.13.1//NONSGML v1.0//EN
CALSCALE:GREGORIAN
METHOD:PUBLISH
X-ORIGINAL-URL:https://septem.stghislain.be
X-WR-CALDESC:évènements pour Septem
REFRESH-INTERVAL;VALUE=DURATION:PT1H
X-Robots-Tag:noindex
X-PUBLISHED-TTL:PT1H
BEGIN:VTIMEZONE
TZID:Europe/Brussels
BEGIN:DAYLIGHT
TZOFFSETFROM:+0100
TZOFFSETTO:+0200
TZNAME:CEST
DTSTART:20230326T010000
END:DAYLIGHT
BEGIN:STANDARD
TZOFFSETFROM:+0200
TZOFFSETTO:+0100
TZNAME:CET
DTSTART:20231029T010000
END:STANDARD
END:VTIMEZONE
BEGIN:VEVENT
DTSTART;TZID=Europe/Brussels:20230909T190000
DTEND;TZID=Europe/Brussels:20230909T203000
DTSTAMP:20260424T100056
CREATED:20230807T181421Z
LAST-MODIFIED:20230822T164631Z
UID:10000266-1694286000-1694291400@septem.stghislain.be
SUMMARY:Spectacle | Sacha Ferra | GRATUIT
DESCRIPTION:Dans le cadre de la Fête de la Jeunesse\, le Syndicat d’Initiative et Septem vous proposent un spectacle gratuit. \n🎭Découvrez le talent humoristique de Sacha Ferra lors de son spectacle gratuit le 9 septembre à 19h !** \nNous sommes ravis de vous présenter Sacha Ferra\, un jeune humoriste bruxellois qui ne manque pas de faire rire son public avec son humour décalé et sa spontanéité. \nSacha Ferra est un artiste prometteur qui a su se démarquer par son style unique et sa capacité à traiter des sujets du quotidien avec légèreté et intelligence. Son spectacle « Plat pays » est une véritable invitation à rire à gorge déployée\, où il explore avec finesse les particularités de la culture belge et nos habitudes de vie. \nLe 9 septembre à 19h\, vous avez l’opportunité de découvrir Sacha Ferra sur scène lors d’un spectacle exceptionnellement gratuit ! Rendez-vous aux Jardins du Cloïtre à Saint-Ghislain pour une soirée pleine de rires et de bonne humeur. \nNe manquez pas cette occasion de passer un moment inoubliable en compagnie de Sacha Ferra et de profiter de son talent comique hors pair. Réservez dès maintenant votre place et préparez-vous à vivre une soirée mémorable. \n#SachaFerra #SpectacleGratuit #HumourBruxellois #PlatPays
URL:https://septem.stghislain.be/agenda/sacha-ferra/
LOCATION:Les Jardins du Cloître\, 37 Grand Place\, Saint-Ghislain\, 7330\, Belgique
CATEGORIES:Arts de la scène,Saint-Ghislain,Spectacle
ATTACH;FMTTYPE=image/jpeg:https://septem.stghislain.be/wp-content/uploads/2023/08/sacha_ferra_spectacle_humour-Septem-Culture_Saint_Ghislain-2023.jpg
ORGANIZER;CN="Septem":MAILTO:info@septem.stghislain.be
END:VEVENT
END:VCALENDAR