BEGIN:VCALENDAR
VERSION:2.0
PRODID:-//Septem - ECPv6.0.13.1//NONSGML v1.0//EN
CALSCALE:GREGORIAN
METHOD:PUBLISH
X-WR-CALNAME:Septem
X-ORIGINAL-URL:https://septem.stghislain.be
X-WR-CALDESC:évènements pour Septem
REFRESH-INTERVAL;VALUE=DURATION:PT1H
X-Robots-Tag:noindex
X-PUBLISHED-TTL:PT1H
BEGIN:VTIMEZONE
TZID:Europe/Brussels
BEGIN:DAYLIGHT
TZOFFSETFROM:+0100
TZOFFSETTO:+0200
TZNAME:CEST
DTSTART:20230326T010000
END:DAYLIGHT
BEGIN:STANDARD
TZOFFSETFROM:+0200
TZOFFSETTO:+0100
TZNAME:CET
DTSTART:20231029T010000
END:STANDARD
END:VTIMEZONE
BEGIN:VEVENT
DTSTART;TZID=Europe/Brussels:20230821T093000
DTEND;TZID=Europe/Brussels:20230826T120000
DTSTAMP:20260424T112530
CREATED:20230621T082616Z
LAST-MODIFIED:20230725T072904Z
UID:10000231-1692610200-1693051200@septem.stghislain.be
SUMMARY:REPIT 16 | Shiatsu samouraï de 6 à 12 ans
DESCRIPTION:Art du toucher\, du mouvement par le jeu\, le programme du Samourai est une méthode qui propose des exercices pratiques\, faciles à apprendre et efficaces pour la santé des enfants comme des adultes. \nLes techniques pratiquées sont tirées du Shiatsu et du Amma.Deux formes d’art traditionnel de massage et d’automassage venant du Japon.Le programme est entièrement pratique\, clairement structurés et en interactions par 2 dans un groupe. \nLes bienfaits du programme du Samourai pour les enfants de 6 à 12 ans sont multiples : Tous les systèmes sensoriels sont interpellés et activés. \nIl favorise la conscience du corps\, renforce le comportement social\, éveille l’intérêt pour la sante\, transmets des valeurs comme le respect\, la tolérance et l’entraide… \nAnimatrices  : Valérie DEMARET et Vinciane MEUNIER \n15 € / l’atelier \nDate: Le stage aura lieu 2 fois : Juillet: du 18 au 21/07 – Août : du 21 au 24/08 \n​
URL:https://septem.stghislain.be/agenda/shiatsu_samourai/2023-08-21/
LOCATION:Couvent d’Hautrage\, Grand'Place\, Hautrage\, 7334
CATEGORIES:Bien-être,Hautrage,Médiation,REPIT,Saint-Ghislain
ATTACH;FMTTYPE=image/jpeg:https://septem.stghislain.be/wp-content/uploads/2023/06/shamourai_shiatsu_REPIT16-Septem-Culture_Saint_Ghislain-2023.jpg
ORGANIZER;CN="Septem":MAILTO:info@septem.stghislain.be
END:VEVENT
BEGIN:VEVENT
DTSTART;TZID=Europe/Brussels:20230826T160000
DTEND;TZID=Europe/Brussels:20230826T180000
DTSTAMP:20260424T112530
CREATED:20230705T114203Z
LAST-MODIFIED:20230705T114317Z
UID:10000237-1693065600-1693072800@septem.stghislain.be
SUMMARY:Concert | Flûte et guitare | Marie Vanoverschelde / Guilherme Rego
DESCRIPTION:Venez découvrir l’harmonie envoûtante de la flute et de la guitare lors de notre concert exceptionnel ! Plongez-vous dans un voyage musical enivrant\, où la douceur de la flute et la richesse des accords de guitare se rencontrent pour créer une expérience sonore captivante. \nBachianas Brasileiras N°5               Heitor Villa-Lobos \nSuite Buenos Aires                          M. Diego PujolII. PalermoIII. San Telmo \nAve Maria                                        Franz Schubert.              \nMusiques populaires brésiliennes    Celso Machado \nPaçoca                                             (Choro) \nQuebra Queixo                                (Choro) \nPiazza Vittorio                                  (ChoroMaxixe) \nPavane                                             Gabriel Fauré \nFantaisie brillante sur Carme           François Borne \nHistoire du tango                             Astor PiazzollaI. CaféII. Bordel
URL:https://septem.stghislain.be/agenda/flute-et-guitare/
LOCATION:Eglise de Sirault\, Rue des Déportés\, Sirault\, 7332
CATEGORIES:Concerts,Musique,Performances,Saint-Ghislain
ATTACH;FMTTYPE=image/jpeg:https://septem.stghislain.be/wp-content/uploads/2023/07/flute_et_guitare-Septem-Culture_Saint_Ghislain-2023-1280x720-1.jpg
ORGANIZER;CN="Septem":MAILTO:info@septem.stghislain.be
END:VEVENT
END:VCALENDAR